BEGIN:VCALENDAR
VERSION:2.0
PRODID:-//Hirvensalmi - ECPv6.6.4.2//NONSGML v1.0//EN
CALSCALE:GREGORIAN
METHOD:PUBLISH
X-WR-CALNAME:Hirvensalmi
X-ORIGINAL-URL:https://www.hirvensalmi.fi
X-WR-CALDESC:Tapahtumat Hirvensalmi
REFRESH-INTERVAL;VALUE=DURATION:PT1H
X-Robots-Tag:noindex
X-PUBLISHED-TTL:PT1H
BEGIN:VTIMEZONE
TZID:Europe/Helsinki
BEGIN:DAYLIGHT
TZOFFSETFROM:+0200
TZOFFSETTO:+0300
TZNAME:EEST
DTSTART:20190331T010000
END:DAYLIGHT
BEGIN:STANDARD
TZOFFSETFROM:+0300
TZOFFSETTO:+0200
TZNAME:EET
DTSTART:20191027T010000
END:STANDARD
END:VTIMEZONE
BEGIN:VEVENT
DTSTART;VALUE=DATE:20190601
DTEND;VALUE=DATE:20190819
DTSTAMP:20260424T144027
CREATED:20190328T060925Z
LAST-MODIFIED:20190328T060925Z
UID:8669-1559358000-1566097199@www.hirvensalmi.fi
SUMMARY:Pronssisia veistoksia esillä Makasiinissä kesällä 2019!
DESCRIPTION:Tuula Suojarinteen veistoksia esillä kesällä 2019 makasiinissa. Näyttelyyn vapaa pääsy.
URL:https://www.hirvensalmi.fi/tapahtuma/pronssisia-veistoksia-esilla-makasiinissa-kesalla-2019/
LOCATION:Cafe Rantamakasiini\, Hirvensalmentie 10\, Hirvensalmi\, 52550
ATTACH;FMTTYPE=image/jpeg:https://www.hirvensalmi.fi/wp-content/uploads/2019/03/sydän3.jpg
END:VEVENT
BEGIN:VEVENT
DTSTART;VALUE=DATE:20190601
DTEND;VALUE=DATE:20190902
DTSTAMP:20260424T144027
CREATED:20190306T120558Z
LAST-MODIFIED:20190328T061014Z
UID:8600-1559358000-1567306799@www.hirvensalmi.fi
SUMMARY:Sydämet sykkivät puulan rannalla kesällä 2019!
DESCRIPTION:Sydämet sykkivät Puulan rannalla\, toivottaen vierailijat tervetulleiksi 1.6 – 31.8.2019. Sydämiä löytyy niin aallonmurtajalta kuin Sataman Herkun viereisestä rantapuistosta. Sydänpuiston ovat toteuttaneet Tuula Suojarinne ja Tuula Ranta. Näyttelyn löydät osoitteesta Hirvensalmentie 22\, 52550 Hirvensalmi\, Tervetuloa.
URL:https://www.hirvensalmi.fi/tapahtuma/sydammet-sykkivat-puulan-rannalla-kesalla-2019/
ATTACH;FMTTYPE=image/jpeg:https://www.hirvensalmi.fi/wp-content/uploads/2019/03/sydän-2.jpg
END:VEVENT
BEGIN:VEVENT
DTSTART;VALUE=DATE:20190618
DTEND;VALUE=DATE:20190730
DTSTAMP:20260424T144027
CREATED:20190506T050429Z
LAST-MODIFIED:20190506T050429Z
UID:8847-1560826800-1564369199@www.hirvensalmi.fi
SUMMARY:Aistit avoinna -taidenäyttely
DESCRIPTION:AISTIT AVOINNA – Risto Eskelisen 80-vuotisjuhlanäyttely\nGalleria Kissakoski 18.6.-28.7.2019 \nKuvataitelija Risto Eskelinen avaa 80-vuotissyntymäpäivänsä yhteydessä retrospektiivisen taidenäyttelyn Galleria Kissakoskessa sunnuntaina 16.6. Yleisölle näyttely aukeaa tiistaina 18.6. Näyttelyyn on koottu läpileikkaus taiteilijan keskeisestä tuotannosta usean vuosikymmenen ajalta. \nEsillä on maalauksia\, grafiikkaa\, akvarelleja ja krokii-piirroksia sekä käsintehtyjä puukkoja. Näyttelyssä on myös hirvensalmelaisille tuttuja maisemia\, sillä Eskelinen on viihtynyt kesäasukkaana Kissakoskella jo 50 vuoden ajan ja hänen kesäateljeensa sijaitsee vastapäätä Kissakosken tehdasta. \nKuopiolaislähtöinen Risto Eskelinen teki työuransa Helsingissä graafikkona ja on tehnyt taidetta aina kouluajoistaan saakka. Hänen töitään on nähty lukuisissa yhteis- ja yksityisnäyttelyissä eri puolella Suomea ja niitä on myös mm. Vantaan kaupungin ja Kuopion kulttuurihistoriallisen museon kokoelmissa. Hirvensalmen kesäjuhlien taiteilija hän oli 1986\, Kissakoskella hänellä onkin ollut useita näyttelyitä vuodesta 1998 alkaen. \nEskelinen toimi parikymmentä vuotta helsinkiläisen työ- ja näyttelytila Grafiikanpaja Pommarin vetäjänä. Hän on toiminut aktiivisesti grafiikan kurssien järjestäjänä sekä mm. Mäntyharjun kuvataitelijat ry:n grafiikan opettajana. \nEskelinen on Vantaan Taideseuran jäsen ja vietti elokuun 2015 Reykjavikissa taitelijaresidenssissä. Hän tekee edelleen aktiivisesti taidetta ja keskiviikkoiltaisin hänet on nähty elävänmallin piirustuspuuhissa jo 30 vuoden ajan Helsingissä. Hän harrastaa myös käsitöitä\, kuten puutöitä\, entisöintiä ja verhoilua sekä puukkojen taontaa ja valmistusta. \nNäyttelyssä on myynnissä paljon erilaista taidetta\, kuten edullisia grafiikanlehtiä ja krokiipiirroksia kotiin tai lahjaksi. \nLisätietoja näyttelystä antaa Risto Eskelinen\, p. 0400879359\, risto39e@gmail.com \nAISTIT AVOINNA – Risto Eskelisen 80-vuotisjuhlanäyttely\nGalleria Kissakoski\nKissakosken tehdas\nVahvamäentie 42\, 52550 Hirvensalmi\nAvoinna 18.6.-28.7. ti-pe 10-17\, su 12-16
URL:https://www.hirvensalmi.fi/tapahtuma/aistit-avoinna-taidenayttely/
LOCATION:Kissakosken tehdas\, Vahvamäentie 42
ATTACH;FMTTYPE=image/jpeg:https://www.hirvensalmi.fi/wp-content/uploads/2019/05/eskelinen.jpg
END:VEVENT
BEGIN:VEVENT
DTSTART;TZID=Europe/Helsinki:20190703T100000
DTEND;TZID=Europe/Helsinki:20190707T170000
DTSTAMP:20260424T144027
CREATED:20190627T050920Z
LAST-MODIFIED:20190627T050920Z
UID:18599-1562148000-1562518800@www.hirvensalmi.fi
SUMMARY:Kissakosken sähkönäyttely avoinna 3.-7.7.2019
DESCRIPTION:Lumme Energia sai mahdollisuuden pitkästä aikaa avata Kissakosken sähkönäyttelyn ovet. Tämä ainutlaatuinen tilaisuus on 3.-7.7.2019. Aukioloajat ovat ke-pe klo 10-17 ja la-su klo 11-17. Paikalla ovat aurinkosähkön ja sähkönmyynnin kesätyöntekijämme. Voit siis halutessasi keskustella kanssamme aurinkosähköjärjestelmistä sekä sähkösopimuksista \nKissakosken voimalaitoksen sähkömuseo kertoo\, kuinka sähkö aikoinaan saapui maaseudulle. Museon pihalla on nähtävissä vuonna 1948 rakennettu ja vuoteen 1990 asti toiminut puukoppimuuntamo Ristiinan Pökkäästä. Paikalla ovat aurinkosähkön ja sähkönmyynnin kesätyöntekijämme. Voit siis halutessasi keskustella kanssamme aurinkosähköjärjestelmistä sekä sähkösopimuksista
URL:https://www.hirvensalmi.fi/tapahtuma/kissakosken-sahkonayttely-avoinna-3-7-7-2019/
LOCATION:Kissakosken tehdas\, Vahvamäentie 42
ATTACH;FMTTYPE=image/jpeg:https://www.hirvensalmi.fi/wp-content/uploads/2019/06/kissakoski-kesalla-200.jpg
ORGANIZER;CN="Lumme Energia Oy":MAILTO:viestinta@lumme-energia.fi
END:VEVENT
BEGIN:VEVENT
DTSTART;TZID=Europe/Helsinki:20190704T140000
DTEND;TZID=Europe/Helsinki:20190704T150000
DTSTAMP:20260424T144027
CREATED:20190626T064226Z
LAST-MODIFIED:20190626T064226Z
UID:18591-1562248800-1562252400@www.hirvensalmi.fi
SUMMARY:Arjen järjestelyjä Salpalinjan työmailla -yleisöluento Hirvensalmen kirjastossa
DESCRIPTION:Fil.tri Virpi Launonen kertoo huollon ja harrastustoiminnan järjestelyistä Salpalinjan rakennustyömailla Etelä-Savossa ja Pohjois-Karjalassa linjan rakennusvaiheessa  Hirvensalmen kirjastossa to 4.7.2019 klo 14-15. \nVapaa pääsy. Tervetuloa !
URL:https://www.hirvensalmi.fi/tapahtuma/arjen-jarjestelyja-salpalinjan-tyomailla-yleisoluento-hirvensalmen-kirjastossa/
LOCATION:Hirvensalmen kirjasto\, Koulutie 7
END:VEVENT
END:VCALENDAR