BEGIN:VCALENDAR
VERSION:2.0
PRODID:-//Hirvensalmi - ECPv6.6.4.2//NONSGML v1.0//EN
CALSCALE:GREGORIAN
METHOD:PUBLISH
X-WR-CALNAME:Hirvensalmi
X-ORIGINAL-URL:https://www.hirvensalmi.fi
X-WR-CALDESC:Tapahtumat Hirvensalmi
REFRESH-INTERVAL;VALUE=DURATION:PT1H
X-Robots-Tag:noindex
X-PUBLISHED-TTL:PT1H
BEGIN:VTIMEZONE
TZID:Europe/Helsinki
BEGIN:DAYLIGHT
TZOFFSETFROM:+0200
TZOFFSETTO:+0300
TZNAME:EEST
DTSTART:20190331T010000
END:DAYLIGHT
BEGIN:STANDARD
TZOFFSETFROM:+0300
TZOFFSETTO:+0200
TZNAME:EET
DTSTART:20191027T010000
END:STANDARD
END:VTIMEZONE
BEGIN:VEVENT
DTSTART;TZID=Europe/Helsinki:20191021T180000
DTEND;TZID=Europe/Helsinki:20191021T200000
DTSTAMP:20260424T161313
CREATED:20191018T050151Z
LAST-MODIFIED:20191018T050151Z
UID:18954-1571680800-1571688000@www.hirvensalmi.fi
SUMMARY:Kirkonkylän marttojen syyskokous
DESCRIPTION:Kirkonkylän marttojen syyskokous ma 21.10.2019 klo 18.00 kunnanviraston takkahuoneella.\nTervetuloa!
URL:https://www.hirvensalmi.fi/tapahtuma/kirkonkylan-marttojen-syyskokous-2/
LOCATION:Kunnanviraston takkahuone
ORGANIZER;CN="Kirkonkyl%C3%A4n martat":MAILTO:R.kaasinen@hotmail.fi
END:VEVENT
END:VCALENDAR