BEGIN:VCALENDAR
VERSION:2.0
PRODID:-//Hirvensalmi - ECPv6.6.4.2//NONSGML v1.0//EN
CALSCALE:GREGORIAN
METHOD:PUBLISH
X-WR-CALNAME:Hirvensalmi
X-ORIGINAL-URL:https://www.hirvensalmi.fi
X-WR-CALDESC:Tapahtumat Hirvensalmi
REFRESH-INTERVAL;VALUE=DURATION:PT1H
X-Robots-Tag:noindex
X-PUBLISHED-TTL:PT1H
BEGIN:VTIMEZONE
TZID:Europe/Helsinki
BEGIN:DAYLIGHT
TZOFFSETFROM:+0200
TZOFFSETTO:+0300
TZNAME:EEST
DTSTART:20190331T010000
END:DAYLIGHT
BEGIN:STANDARD
TZOFFSETFROM:+0300
TZOFFSETTO:+0200
TZNAME:EET
DTSTART:20191027T010000
END:STANDARD
END:VTIMEZONE
BEGIN:VEVENT
DTSTART;TZID=Europe/Helsinki:20191022T130000
DTEND;TZID=Europe/Helsinki:20191022T150000
DTSTAMP:20260424T161538
CREATED:20191021T060008Z
LAST-MODIFIED:20191021T060101Z
UID:18957-1571749200-1571756400@www.hirvensalmi.fi
SUMMARY:Origami-kurssi
DESCRIPTION:Opetellaan taittelemaan valokuutioita\, lahjarasia ja sydän.
URL:https://www.hirvensalmi.fi/tapahtuma/origami-kurssi/
LOCATION:Junnankuja 25
ORGANIZER;CN="Hirvensalmen k%C3%A4sity%C3%B6yhdistys ry":MAILTO:posti@puulanmanuelli.fi
END:VEVENT
BEGIN:VEVENT
DTSTART;TZID=Europe/Helsinki:20191022T173000
DTEND;TZID=Europe/Helsinki:20191022T193000
DTSTAMP:20260424T161538
CREATED:20191021T060041Z
LAST-MODIFIED:20191021T060053Z
UID:18958-1571765400-1571772600@www.hirvensalmi.fi
SUMMARY:Makramee tähtiä ja hiutaleita
DESCRIPTION:Opetellaan solmeilemaan tähtiä ja lumihiutaleita.
URL:https://www.hirvensalmi.fi/tapahtuma/makramee-tahtia-ja-hiutaleita/
LOCATION:Junnankuja 25 Hirvensalmi
ORGANIZER;CN="Hirvensalmen k%C3%A4sity%C3%B6yhdistys ry":MAILTO:posti@puulanmanuelli.fi
END:VEVENT
END:VCALENDAR