BEGIN:VCALENDAR
VERSION:2.0
PRODID:-//Hirvensalmi - ECPv6.6.4.2//NONSGML v1.0//EN
CALSCALE:GREGORIAN
METHOD:PUBLISH
X-ORIGINAL-URL:https://www.hirvensalmi.fi
X-WR-CALDESC:Tapahtumat Hirvensalmi
REFRESH-INTERVAL;VALUE=DURATION:PT1H
X-Robots-Tag:noindex
X-PUBLISHED-TTL:PT1H
BEGIN:VTIMEZONE
TZID:Europe/Helsinki
BEGIN:DAYLIGHT
TZOFFSETFROM:+0200
TZOFFSETTO:+0300
TZNAME:EEST
DTSTART:20190331T010000
END:DAYLIGHT
BEGIN:STANDARD
TZOFFSETFROM:+0300
TZOFFSETTO:+0200
TZNAME:EET
DTSTART:20191027T010000
END:STANDARD
END:VTIMEZONE
BEGIN:VEVENT
DTSTART;TZID=Europe/Helsinki:20191029T130000
DTEND;TZID=Europe/Helsinki:20191029T150000
DTSTAMP:20260424T161710
CREATED:20191021T060148Z
LAST-MODIFIED:20191021T060159Z
UID:18959-1572354000-1572361200@www.hirvensalmi.fi
SUMMARY:Tehdään yhdessä käsitöitä\, teemana tilkkutyöt
DESCRIPTION:Tehdään yhdessä käsitöitä. Teemana tilkkutyöt.
URL:https://www.hirvensalmi.fi/tapahtuma/tehdaan-yhdessa-kasitoita-teemana-tilkkutyot/
LOCATION:Junnankuja 25 Hirvensalmi
ORGANIZER;CN="Hirvensalmen k%C3%A4sity%C3%B6yhdistys ry":MAILTO:posti@puulanmanuelli.fi
END:VEVENT
END:VCALENDAR