BEGIN:VCALENDAR
VERSION:2.0
PRODID:-//Hirvensalmi - ECPv6.6.4.2//NONSGML v1.0//EN
CALSCALE:GREGORIAN
METHOD:PUBLISH
X-WR-CALNAME:Hirvensalmi
X-ORIGINAL-URL:https://www.hirvensalmi.fi
X-WR-CALDESC:Tapahtumat Hirvensalmi
REFRESH-INTERVAL;VALUE=DURATION:PT1H
X-Robots-Tag:noindex
X-PUBLISHED-TTL:PT1H
BEGIN:VTIMEZONE
TZID:Europe/Helsinki
BEGIN:DAYLIGHT
TZOFFSETFROM:+0200
TZOFFSETTO:+0300
TZNAME:EEST
DTSTART:20190331T010000
END:DAYLIGHT
BEGIN:STANDARD
TZOFFSETFROM:+0300
TZOFFSETTO:+0200
TZNAME:EET
DTSTART:20191027T010000
END:STANDARD
END:VTIMEZONE
BEGIN:VEVENT
DTSTART;TZID=Europe/Helsinki:20191105T091000
DTEND;TZID=Europe/Helsinki:20191105T105000
DTSTAMP:20260424T191701
CREATED:20190823T105559Z
LAST-MODIFIED:20190823T105559Z
UID:18748-1572945000-1572951000@www.hirvensalmi.fi
SUMMARY:Satutuokio kirjastossa
DESCRIPTION:Sukella satuun\, tupsahda tarinaan! \nHirvensalmella sukellellaan satujen maailmaan syksyn aikana noin kerran kuukaudessa tiistaisin kaikille avoimilla satutuokioilla. Kaksi samansisältöistä tuokioita järjestetään aina peräkkäin. \nSatujen lomassa tarinoidaan\, loruillaan ja leikitään yhdessä. \nVapaa pääsy\, tervetuloa! \nSatutuokiopäivät syksyllä 2019: \nti 8.10. klo 9.10 – 9.55 ja klo 10.05 – 10.50:\nKun on tunteet… kunnon tunteet! \nti 5.11. klo 9.10 – 9.55 ja klo 10.05 – 10.50:\nVärejä pussissa \nti 26.11. klo 9.10 – 9.55 ja klo 10.05 – 10.50:\nRunojen joulu \nJärj: Lastenkulttuurikeskus Verso ja Hirvensalmen kunta
URL:https://www.hirvensalmi.fi/tapahtuma/satutuokio-kirjastossa-2/
LOCATION:Hirvensalmen kirjasto\, Koulutie 7\, Hirvensalmi\, Etelä-Savo\, 52550\, Suomi
ATTACH;FMTTYPE=image/jpeg:https://www.hirvensalmi.fi/wp-content/uploads/2019/08/banneri_syksy2019-1.jpg
ORGANIZER;CN="Lastenkulttuurikeskus Verso":MAILTO:julia.vatanen@soisalo-opisto.fi
END:VEVENT
BEGIN:VEVENT
DTSTART;TZID=Europe/Helsinki:20191105T130000
DTEND;TZID=Europe/Helsinki:20191105T150000
DTSTAMP:20260424T191701
CREATED:20191021T060230Z
LAST-MODIFIED:20191021T060242Z
UID:18960-1572958800-1572966000@www.hirvensalmi.fi
SUMMARY:Roseekukka kurssi
DESCRIPTION:Rosee-kukkasilla kimaltava kranssi jouluun.
URL:https://www.hirvensalmi.fi/tapahtuma/roseekukka-kurssi/
LOCATION:Junnankuja 25 Hirvensalmi
ORGANIZER;CN="Hirvensalmen k%C3%A4sity%C3%B6yhdistys ry":MAILTO:posti@puulanmanuelli.fi
END:VEVENT
END:VCALENDAR