BEGIN:VCALENDAR
VERSION:2.0
PRODID:-//Hirvensalmi - ECPv6.6.4.2//NONSGML v1.0//EN
CALSCALE:GREGORIAN
METHOD:PUBLISH
X-ORIGINAL-URL:https://www.hirvensalmi.fi
X-WR-CALDESC:Tapahtumat Hirvensalmi
REFRESH-INTERVAL;VALUE=DURATION:PT1H
X-Robots-Tag:noindex
X-PUBLISHED-TTL:PT1H
BEGIN:VTIMEZONE
TZID:Europe/Helsinki
BEGIN:DAYLIGHT
TZOFFSETFROM:+0200
TZOFFSETTO:+0300
TZNAME:EEST
DTSTART:20250330T010000
END:DAYLIGHT
BEGIN:STANDARD
TZOFFSETFROM:+0300
TZOFFSETTO:+0200
TZNAME:EET
DTSTART:20251026T010000
END:STANDARD
END:VTIMEZONE
BEGIN:VEVENT
DTSTART;TZID=Europe/Helsinki:20250407T143000
DTEND;TZID=Europe/Helsinki:20250407T153000
DTSTAMP:20260422T161444
CREATED:20250327T082648Z
LAST-MODIFIED:20250404T085840Z
UID:32355-1744036200-1744039800@www.hirvensalmi.fi
SUMMARY:Nuorten avoin kuntosalivuoro
DESCRIPTION:Nuorten avoimia kuntosalivuoroja järjestetään kevätkaudella 2025. Kuntosalilla luvassa on opastusta kuntosaliharjoittelun aloittamiseen\, laitteiden käyttöön ja turvalliseen harjoitteluun. Vuoro on tarkoitettu 14-29v. nuorille. Tervetuloa! \n  \nHUOM! 7.4. vuoro poikkeuksellisesti klo 14:30-15:30
URL:https://www.hirvensalmi.fi/tapahtuma/nuorten-avoin-kuntosalivuoro-6/
LOCATION:Koulukeskuksen kuntosali\, Koulutie 5\, Hirvensalmi\, 52550\, Suomi
END:VEVENT
END:VCALENDAR