BEGIN:VCALENDAR
VERSION:2.0
PRODID:-//Hirvensalmi - ECPv6.6.4.2//NONSGML v1.0//EN
CALSCALE:GREGORIAN
METHOD:PUBLISH
X-WR-CALNAME:Hirvensalmi
X-ORIGINAL-URL:https://www.hirvensalmi.fi
X-WR-CALDESC:Tapahtumat Hirvensalmi
REFRESH-INTERVAL;VALUE=DURATION:PT1H
X-Robots-Tag:noindex
X-PUBLISHED-TTL:PT1H
BEGIN:VTIMEZONE
TZID:Europe/Helsinki
BEGIN:DAYLIGHT
TZOFFSETFROM:+0200
TZOFFSETTO:+0300
TZNAME:EEST
DTSTART:20250330T010000
END:DAYLIGHT
BEGIN:STANDARD
TZOFFSETFROM:+0300
TZOFFSETTO:+0200
TZNAME:EET
DTSTART:20251026T010000
END:STANDARD
END:VTIMEZONE
BEGIN:VEVENT
DTSTART;TZID=Europe/Helsinki:20250424T080000
DTEND;TZID=Europe/Helsinki:20250424T170000
DTSTAMP:20260422T154956
CREATED:20241212T061251Z
LAST-MODIFIED:20241212T061251Z
UID:31042-1745481600-1745514000@www.hirvensalmi.fi
SUMMARY:Tehdään yhdessä käsitöitä Puulan Manuellissa
DESCRIPTION:Tehdään yhdessä käsitöitä\, teemana vappu.
URL:https://www.hirvensalmi.fi/tapahtuma/tehdaan-yhdessa-kasitoita-puulan-manuellissa-12/
LOCATION:Junnankuja 25 Hirvensalmi
ORGANIZER;CN="Hirvensalmen k%C3%A4sity%C3%B6yhdistys ry":MAILTO:posti@puulanmanuelli.fi
END:VEVENT
BEGIN:VEVENT
DTSTART;TZID=Europe/Helsinki:20250424T180000
DTEND;TZID=Europe/Helsinki:20250424T190000
DTSTAMP:20260422T154956
CREATED:20250303T061515Z
LAST-MODIFIED:20250303T061520Z
UID:32045-1745517600-1745521200@www.hirvensalmi.fi
SUMMARY:Tervaleppäyhdistys kevätkokous
DESCRIPTION:Tervaleppäyhdistyksen sääntömääräinen kevätkokous pidetään torstaina 24.04\,2025 Kunnanviraston kunnanhallituksen kokoushuoneessa.\nKevätkokouksessa käsitellään sääntömääräiset kevätkokoukselle määrätyt asiat. \nTervetuloa \nKahvitarjoilu
URL:https://www.hirvensalmi.fi/tapahtuma/tervaleppayhdistys-kevatkokous/
LOCATION:Hirvensalmen kunnanvirasto\, Keskustie 2\, Hirvensalmi\, 52550
ORGANIZER;CN="Tervalepp%C3%A4yhdistys ry":MAILTO:tervaleppayhdistys@outlook.com
END:VEVENT
END:VCALENDAR