BEGIN:VCALENDAR
VERSION:2.0
PRODID:-//Hirvensalmi - ECPv6.6.4.2//NONSGML v1.0//EN
CALSCALE:GREGORIAN
METHOD:PUBLISH
X-WR-CALNAME:Hirvensalmi
X-ORIGINAL-URL:https://www.hirvensalmi.fi
X-WR-CALDESC:Tapahtumat Hirvensalmi
REFRESH-INTERVAL;VALUE=DURATION:PT1H
X-Robots-Tag:noindex
X-PUBLISHED-TTL:PT1H
BEGIN:VTIMEZONE
TZID:Europe/Helsinki
BEGIN:DAYLIGHT
TZOFFSETFROM:+0200
TZOFFSETTO:+0300
TZNAME:EEST
DTSTART:20250330T010000
END:DAYLIGHT
BEGIN:STANDARD
TZOFFSETFROM:+0300
TZOFFSETTO:+0200
TZNAME:EET
DTSTART:20251026T010000
END:STANDARD
END:VTIMEZONE
BEGIN:VEVENT
DTSTART;TZID=Europe/Helsinki:20250516T080000
DTEND;TZID=Europe/Helsinki:20250525T233000
DTSTAMP:20260422T135136
CREATED:20250430T064134Z
LAST-MODIFIED:20250430T064134Z
UID:32728-1747382400-1748215800@www.hirvensalmi.fi
SUMMARY:Valokuvasuunnistus 2025: kevätrastit
DESCRIPTION:Hirvensalmella on jälleen mahdollisuus reippailla tutuksi tulleessa valokuvasuunnistuksessa. \nValokuvasuunnistus järjestetään pe 16.5.-su 25.5. \nSuunnistuksen tarkoituksena on etsiä valokuvavihjeillä osoitetut punavalkoisilla lipuilla merkityt rastipaikat. Rasteja on taajamassa\, liikuntapaikoilla ja ulkoilureiteillä. Rastilla on koodikirjain\, joka merkitään rastin mukaiseen ruutuun. Jokaisella tulee olla oma merkintäkynä mukana. Vihjekuvat ja leimauskortti ovat lehden lisäksi tulostettavissa myös kunnan nettisivuilta tai noudettavissa kunnanvirastolta takaoven vieressä olevasta muovitaskusta. \nValokuvasuunnistuksen kuvat ilmestyvät Hirvensalmelaisessa ja kunnan nettisivuilla 16.5. Rastit viedään paikoilleen 15.5.
URL:https://www.hirvensalmi.fi/tapahtuma/valokuvasuunnistus-2025-kevatrastit/
END:VEVENT
BEGIN:VEVENT
DTSTART;TZID=Europe/Helsinki:20250522T120000
DTEND;TZID=Europe/Helsinki:20250522T143000
DTSTAMP:20260422T135136
CREATED:20250507T042241Z
LAST-MODIFIED:20250507T042241Z
UID:32816-1747915200-1747924200@www.hirvensalmi.fi
SUMMARY:Toukosiunaus!
DESCRIPTION:Toukosiunaus yhteistyössä seurakunnan kanssa torstaina 22.5.2025 klo 12.00\nPaikka Kilkintie 1275 Luomutila / Siiriäinen\, entisen Torniaisen leipomon piha.\nKylvön siunauksen tekee kirkkoherra Asko Nuorkivi. Tarjolla keittolounas ja kahvit\, vapaaehtoinen maksu.
URL:https://www.hirvensalmi.fi/tapahtuma/toukosiunaus-2/
LOCATION:Kilkintie 1275\, Kilkintie 1275\, Hirvensalmi\, Finland
END:VEVENT
BEGIN:VEVENT
DTSTART;TZID=Europe/Helsinki:20250522T140000
DTEND;TZID=Europe/Helsinki:20250522T160000
DTSTAMP:20260422T135136
CREATED:20250513T090246Z
LAST-MODIFIED:20250513T090246Z
UID:32912-1747922400-1747929600@www.hirvensalmi.fi
SUMMARY:Kirkonkylän marttojen päiväkahvit 22.5.2025
DESCRIPTION:Kirkonkylän martat laulavat marttalauluja säestyksen kera seurantalolla torstaina 22.5.2025.
URL:https://www.hirvensalmi.fi/tapahtuma/kirkonkylan-marttojen-paivakahvit-22-5-2025/
LOCATION:Seurantalo\, kirkonkylä\, Kirkonkylä\, Hirvensalmi
END:VEVENT
BEGIN:VEVENT
DTSTART;TZID=Europe/Helsinki:20250522T150000
DTEND;TZID=Europe/Helsinki:20250522T180000
DTSTAMP:20260422T135136
CREATED:20250425T093829Z
LAST-MODIFIED:20250425T093858Z
UID:32654-1747926000-1747936800@www.hirvensalmi.fi
SUMMARY:Passikuvaus 22.5.2025 kunnanvirastolla
DESCRIPTION:
URL:https://www.hirvensalmi.fi/tapahtuma/passikuvaus-22-5-2025/
END:VEVENT
END:VCALENDAR