BEGIN:VCALENDAR
VERSION:2.0
PRODID:-//Hirvensalmi - ECPv6.6.4.2//NONSGML v1.0//EN
CALSCALE:GREGORIAN
METHOD:PUBLISH
X-WR-CALNAME:Hirvensalmi
X-ORIGINAL-URL:https://www.hirvensalmi.fi
X-WR-CALDESC:Tapahtumat Hirvensalmi
REFRESH-INTERVAL;VALUE=DURATION:PT1H
X-Robots-Tag:noindex
X-PUBLISHED-TTL:PT1H
BEGIN:VTIMEZONE
TZID:Europe/Helsinki
BEGIN:DAYLIGHT
TZOFFSETFROM:+0200
TZOFFSETTO:+0300
TZNAME:EEST
DTSTART:20250330T010000
END:DAYLIGHT
BEGIN:STANDARD
TZOFFSETFROM:+0300
TZOFFSETTO:+0200
TZNAME:EET
DTSTART:20251026T010000
END:STANDARD
END:VTIMEZONE
BEGIN:VEVENT
DTSTART;TZID=Europe/Helsinki:20250516T080000
DTEND;TZID=Europe/Helsinki:20250525T233000
DTSTAMP:20260422T144100
CREATED:20250430T064134Z
LAST-MODIFIED:20250430T064134Z
UID:32728-1747382400-1748215800@www.hirvensalmi.fi
SUMMARY:Valokuvasuunnistus 2025: kevätrastit
DESCRIPTION:Hirvensalmella on jälleen mahdollisuus reippailla tutuksi tulleessa valokuvasuunnistuksessa. \nValokuvasuunnistus järjestetään pe 16.5.-su 25.5. \nSuunnistuksen tarkoituksena on etsiä valokuvavihjeillä osoitetut punavalkoisilla lipuilla merkityt rastipaikat. Rasteja on taajamassa\, liikuntapaikoilla ja ulkoilureiteillä. Rastilla on koodikirjain\, joka merkitään rastin mukaiseen ruutuun. Jokaisella tulee olla oma merkintäkynä mukana. Vihjekuvat ja leimauskortti ovat lehden lisäksi tulostettavissa myös kunnan nettisivuilta tai noudettavissa kunnanvirastolta takaoven vieressä olevasta muovitaskusta. \nValokuvasuunnistuksen kuvat ilmestyvät Hirvensalmelaisessa ja kunnan nettisivuilla 16.5. Rastit viedään paikoilleen 15.5.
URL:https://www.hirvensalmi.fi/tapahtuma/valokuvasuunnistus-2025-kevatrastit/
END:VEVENT
END:VCALENDAR