BEGIN:VCALENDAR
VERSION:2.0
PRODID:-//Hirvensalmi - ECPv6.6.4.2//NONSGML v1.0//EN
CALSCALE:GREGORIAN
METHOD:PUBLISH
X-ORIGINAL-URL:https://www.hirvensalmi.fi
X-WR-CALDESC:Tapahtumat Hirvensalmi
REFRESH-INTERVAL;VALUE=DURATION:PT1H
X-Robots-Tag:noindex
X-PUBLISHED-TTL:PT1H
BEGIN:VTIMEZONE
TZID:Europe/Helsinki
BEGIN:DAYLIGHT
TZOFFSETFROM:+0200
TZOFFSETTO:+0300
TZNAME:EEST
DTSTART:20250330T010000
END:DAYLIGHT
BEGIN:STANDARD
TZOFFSETFROM:+0300
TZOFFSETTO:+0200
TZNAME:EET
DTSTART:20251026T010000
END:STANDARD
END:VTIMEZONE
BEGIN:VEVENT
DTSTART;TZID=Europe/Helsinki:20250602T143000
DTEND;TZID=Europe/Helsinki:20250602T153000
DTSTAMP:20260422T122424
CREATED:20250530T062326Z
LAST-MODIFIED:20250530T062326Z
UID:33105-1748874600-1748878200@www.hirvensalmi.fi
SUMMARY:Avoin ulkotreeni
DESCRIPTION:Avoin ulkotreeni urheilukentän ulkokuntosalilaitteilla ja kuntoportailla. Treenivinkkejä matalan kynnyksen aloittamiseen. Tervetuloa!
URL:https://www.hirvensalmi.fi/tapahtuma/avoin-ulkotreeni-3/
LOCATION:Hirvensalmen urheilukenttä\, Kisatie\, Hirvensalmi\, 52550
END:VEVENT
END:VCALENDAR