BEGIN:VCALENDAR
VERSION:2.0
PRODID:-//Hirvensalmi - ECPv6.6.4.2//NONSGML v1.0//EN
CALSCALE:GREGORIAN
METHOD:PUBLISH
X-ORIGINAL-URL:https://www.hirvensalmi.fi
X-WR-CALDESC:Tapahtumat Hirvensalmi
REFRESH-INTERVAL;VALUE=DURATION:PT1H
X-Robots-Tag:noindex
X-PUBLISHED-TTL:PT1H
BEGIN:VTIMEZONE
TZID:Europe/Helsinki
BEGIN:DAYLIGHT
TZOFFSETFROM:+0200
TZOFFSETTO:+0300
TZNAME:EEST
DTSTART:20250330T010000
END:DAYLIGHT
BEGIN:STANDARD
TZOFFSETFROM:+0300
TZOFFSETTO:+0200
TZNAME:EET
DTSTART:20251026T010000
END:STANDARD
END:VTIMEZONE
BEGIN:VEVENT
DTSTART;TZID=Europe/Helsinki:20250606T190000
DTEND;TZID=Europe/Helsinki:20250606T190000
DTSTAMP:20260422T122422
CREATED:20250528T070740Z
LAST-MODIFIED:20250528T070740Z
UID:33089-1749236400-1749236400@www.hirvensalmi.fi
SUMMARY:Kesän avajaistanssit Hirvensalmen Kellokallion tanssilavalla pe 6.6 Johanna Rantsi ja Mojova
DESCRIPTION:Kesän avajaiset Kellokallion tanssilavalla pe 6.6.25\,klo 19-23 lavalle nousee suosittu tanssitähti Johanna Rantsi ja Mojova\, Liput 18 euroa \nLisätietoa p.040-7406354 \nJohanna Rantsi: \nKarismaattinen\, tunnistettava ääni\, kiehtova\, ja ehdottomasti tulevaisuuden tähti. Näin määritteli tuomaristo vuonna 2000 Lavatähtiprinsessaksi valitun Johanna Rantsin taidot. Keikkailuun tuli tauko\, lasten syntymien myötä. \nJohanna teki räjähdysmäisen come backin \, v. 2022 \n“Hallitsematon” single löi läpi radioaalloilla\, mm. ollen Radio Pookin listaykkösenä! \nHän on julkaissut tasaisin väliajoin tuoretta\, nuorekasta ja ennen kaikkea tanssittavaa musiikkia. Biisien takana on maamme huipputekijät. \nJohanna on noussut nopeasti tanssikansan suosikiksi. \nKesäkuussa tanssitaan \nPe 13.6 J.Eskelinen ja Onnenkulkurit \nPe 27.6 Mira Kunnasluoto ja Paratiisi
URL:https://www.hirvensalmi.fi/tapahtuma/kesan-avajaistanssit-hirvensalmen-kellokallion-tanssilavalla-pe-6-6-johanna-rantsi-ja-mojova/
LOCATION:Kellokallion lava
ATTACH;FMTTYPE=image/jpeg:https://www.hirvensalmi.fi/wp-content/uploads/2025/05/IMG-20241221-WA0000.jpg
END:VEVENT
END:VCALENDAR