BEGIN:VCALENDAR
VERSION:2.0
PRODID:-//Hirvensalmi - ECPv6.6.4.2//NONSGML v1.0//EN
CALSCALE:GREGORIAN
METHOD:PUBLISH
X-WR-CALNAME:Hirvensalmi
X-ORIGINAL-URL:https://www.hirvensalmi.fi
X-WR-CALDESC:Tapahtumat Hirvensalmi
REFRESH-INTERVAL;VALUE=DURATION:PT1H
X-Robots-Tag:noindex
X-PUBLISHED-TTL:PT1H
BEGIN:VTIMEZONE
TZID:Europe/Helsinki
BEGIN:DAYLIGHT
TZOFFSETFROM:+0200
TZOFFSETTO:+0300
TZNAME:EEST
DTSTART:20250330T010000
END:DAYLIGHT
BEGIN:STANDARD
TZOFFSETFROM:+0300
TZOFFSETTO:+0200
TZNAME:EET
DTSTART:20251026T010000
END:STANDARD
END:VTIMEZONE
BEGIN:VEVENT
DTSTART;TZID=Europe/Helsinki:20250607T100000
DTEND;TZID=Europe/Helsinki:20250809T160000
DTSTAMP:20260422T122151
CREATED:20250514T124008Z
LAST-MODIFIED:20250514T124008Z
UID:32933-1749290400-1754755200@www.hirvensalmi.fi
SUMMARY:Taidenäyttely Sirpa Rahdulta Tuukkalan Kesäpuodilla
DESCRIPTION:Sirpa Rahtu on koulutukseltaan muotitaiteilija\, ja se näkyy hänen töissään. Öljy- ja akryylimaalaus on ollut jo vuosia tärkeä luomisen väline. Näyttelyssä on mukana myös muutama kesäinen akvarellimaalaus. Näyttelyyn pääsee tutustumaan Tuukkalan Kesäpuodin kahviossa kesäaikaan puodin aukioloaikoina eli keskiviikosta lauantaihin klo 10-16 (ei juhannuslauantaina 21.6.\, mutta auki puolestaan sunnuntaina 22.6.)
URL:https://www.hirvensalmi.fi/tapahtuma/taidenayttely-sirpa-rahdulta-tuukkalan-kesapuodilla/
LOCATION:Tuukkalan kesäpuoti\, Joutsantie 1212\, Hirvensalmi\, Etelä-Savo\, 52610\, Suomi
ATTACH;FMTTYPE=image/jpeg:https://www.hirvensalmi.fi/wp-content/uploads/2025/05/kukkia.jpg
END:VEVENT
BEGIN:VEVENT
DTSTART;TZID=Europe/Helsinki:20250614T100000
DTEND;TZID=Europe/Helsinki:20250614T160000
DTSTAMP:20260422T122151
CREATED:20250515T115223Z
LAST-MODIFIED:20250515T115223Z
UID:32952-1749895200-1749916800@www.hirvensalmi.fi
SUMMARY:Luonnonlaidunpäivä Hirvensalmen Tuukkalassa 14.6.25
DESCRIPTION:Tuukkalan Kesäpuodin pihassa laiduntavat Mäkelän lammastilalta Tiina Jokelan lampaat upouudella luonnonlaitumella\, mikä ulottuu Suonteen rantaan. Kivenheiton päässä laiduntavat Jarmo ja Keijo Kiesilän tilan emolehmät pitkään hoidossa olleella\, valtakunnallisesti arvokkaalla perinnebiotooppiniityllä. \nEmolehmälaitumeen pääsee tutustumaan ohjatulla laidunkierroksella klo 12 ja muuna aikana omatoimisesti aidan takaa.\nLammaslaitumeen pääsee tutustumaan koko tapahtuman ajan ja myös lampuri on paikalla.\nEtelä-Savon maa- ja kotitalousnaisten luonnonlaiduninfo toimii Kesäpuodilla koko tapahtuman ajan. \nTapahtuman järjestävät Etelä-Savon MKN Maa- ja kotitalousnaiset\, Tuukkalan Kesäpuoti
URL:https://www.hirvensalmi.fi/tapahtuma/luonnonlaidunpaiva-hirvensalmen-tuukkalassa-14-6-25/
LOCATION:Tuukkalan kylätalo\, Joutsantie 1212\, 52610 Tuukkala
ATTACH;FMTTYPE=image/png:https://www.hirvensalmi.fi/wp-content/uploads/2025/05/Luonnonlaidunpaiva1_k.png
END:VEVENT
BEGIN:VEVENT
DTSTART;TZID=Europe/Helsinki:20250614T110000
DTEND;TZID=Europe/Helsinki:20250614T150000
DTSTAMP:20260422T122151
CREATED:20250526T041653Z
LAST-MODIFIED:20250526T041653Z
UID:33052-1749898800-1749913200@www.hirvensalmi.fi
SUMMARY:Hietalan luomutilan Avoimet Ovet
DESCRIPTION:Perinteiset Avoimet Ovet- tapahtuma Hietalan luomutilalla. Paikalla makkaran paistoa\, maa- ja kotitalousnaisten lettukahvio\, eläimiä nähtävillä\, sekä lihapuoti auki koko tapahtuman ajan. Pomppulinna pystytetään myös mikäli säät sen sallivat.
URL:https://www.hirvensalmi.fi/tapahtuma/hietalan-luomutilan-avoimet-ovet/
LOCATION:Hietalan luomutila\, Kilkintie 936\, Hirvensalmi\, 52550
ATTACH;FMTTYPE=image/png:https://www.hirvensalmi.fi/wp-content/uploads/2025/05/Brown-and-Yellow-Illustrated-Farm-Event-Announcement-Instagram-Post_20250509_062923_0000.png
ORGANIZER;CN="Hietalan luomutila":MAILTO:hietalanluomutila@gmail.com
END:VEVENT
END:VCALENDAR