BEGIN:VCALENDAR
VERSION:2.0
PRODID:-//Hirvensalmi - ECPv6.6.4.2//NONSGML v1.0//EN
CALSCALE:GREGORIAN
METHOD:PUBLISH
X-ORIGINAL-URL:https://www.hirvensalmi.fi
X-WR-CALDESC:Tapahtumat Hirvensalmi
REFRESH-INTERVAL;VALUE=DURATION:PT1H
X-Robots-Tag:noindex
X-PUBLISHED-TTL:PT1H
BEGIN:VTIMEZONE
TZID:Europe/Helsinki
BEGIN:DAYLIGHT
TZOFFSETFROM:+0200
TZOFFSETTO:+0300
TZNAME:EEST
DTSTART:20250330T010000
END:DAYLIGHT
BEGIN:STANDARD
TZOFFSETFROM:+0300
TZOFFSETTO:+0200
TZNAME:EET
DTSTART:20251026T010000
END:STANDARD
END:VTIMEZONE
BEGIN:VEVENT
DTSTART;TZID=Europe/Helsinki:20250607T100000
DTEND;TZID=Europe/Helsinki:20250809T160000
DTSTAMP:20260422T122614
CREATED:20250514T124008Z
LAST-MODIFIED:20250514T124008Z
UID:32933-1749290400-1754755200@www.hirvensalmi.fi
SUMMARY:Taidenäyttely Sirpa Rahdulta Tuukkalan Kesäpuodilla
DESCRIPTION:Sirpa Rahtu on koulutukseltaan muotitaiteilija\, ja se näkyy hänen töissään. Öljy- ja akryylimaalaus on ollut jo vuosia tärkeä luomisen väline. Näyttelyssä on mukana myös muutama kesäinen akvarellimaalaus. Näyttelyyn pääsee tutustumaan Tuukkalan Kesäpuodin kahviossa kesäaikaan puodin aukioloaikoina eli keskiviikosta lauantaihin klo 10-16 (ei juhannuslauantaina 21.6.\, mutta auki puolestaan sunnuntaina 22.6.)
URL:https://www.hirvensalmi.fi/tapahtuma/taidenayttely-sirpa-rahdulta-tuukkalan-kesapuodilla/
LOCATION:Tuukkalan kesäpuoti\, Joutsantie 1212\, Hirvensalmi\, Etelä-Savo\, 52610\, Suomi
ATTACH;FMTTYPE=image/jpeg:https://www.hirvensalmi.fi/wp-content/uploads/2025/05/kukkia.jpg
END:VEVENT
BEGIN:VEVENT
DTSTART;TZID=Europe/Helsinki:20250618T110000
DTEND;TZID=Europe/Helsinki:20250618T123000
DTSTAMP:20260422T122614
CREATED:20250505T040632Z
LAST-MODIFIED:20250505T040632Z
UID:32764-1750244400-1750249800@www.hirvensalmi.fi
SUMMARY:Laulua & soppaa
DESCRIPTION:“Laulua & soppaa” on ulkoilmatapahtuma\, jossa kokoonnutaan Seurantalon puistoon laulamaan yhteislauluja solistien säestyksellä ja minkä jälkeen on puistoruokailu. Ota siis oma viltti\, eväsastiat mukaan ja repullinen reipasta laulumeininkiä. Tilaisuus toteutetaan yhteistyössä Hirvensalmen kunnan ja Hirvensalmen maa- ja kotitalous seura ry:n kanssa. \nOta mahdollisuuksien mukaan omat eväsastiat mukaan sekä viltti\, sillä ruokailun on tarkoitus tapahtua puistossa itsessään\, mikäli oma kunto ja sää sen sallii.  Seuratalo on varattu ruokailuun heille\, joille maahan istuminen on hankalaa.  Sadesäällä tilaisuus järjestetään kokonaan Seuratalossa.  Järjestäjiltä löytyy myös kertakäyttöastioita\, jos omat eväsastiat unohtuvat tai puuttuvat kokonaan. \nRuokailun hinnat:  ilmaista alle 18-vuotiaille\, kaikilta muilta 5€.  Mikäli soppaa jää yli\, niin sitä voi ostaa myös mukaan 5€:lla per purkki. \nTapahtuma on tarkoitettu kaikille!
URL:https://www.hirvensalmi.fi/tapahtuma/laulua-soppaa-2/
END:VEVENT
BEGIN:VEVENT
DTSTART;TZID=Europe/Helsinki:20250618T180000
DTEND;TZID=Europe/Helsinki:20250618T193000
DTSTAMP:20260422T122614
CREATED:20250505T040920Z
LAST-MODIFIED:20250515T115402Z
UID:32773-1750269600-1750275000@www.hirvensalmi.fi
SUMMARY:Summer concert
DESCRIPTION:FInnish music with song\, Finnish instrument kantele and piano \nFolke Gräsbeck\, piano\nSuvi Lehtonen Gräsbeck\, sång and kantele \nComposers Jean Sibelius\, Kari Tikka\, Tauno Pylkkänen\, Kreeta Haapasalo\,\nOskar Merikanto etc \nTilaisuus on maksuton\, ohjelmalehtinen 10\,00€ \nWellcome!
URL:https://www.hirvensalmi.fi/tapahtuma/summer-concert/
LOCATION:Hirvensalmen kirkko\, Kirkkotie 3
ATTACH;FMTTYPE=image/jpeg:https://www.hirvensalmi.fi/wp-content/uploads/2025/05/20241218_144700.jpg
END:VEVENT
END:VCALENDAR