BEGIN:VCALENDAR
VERSION:2.0
PRODID:-//Hirvensalmi - ECPv6.6.4.2//NONSGML v1.0//EN
CALSCALE:GREGORIAN
METHOD:PUBLISH
X-WR-CALNAME:Hirvensalmi
X-ORIGINAL-URL:https://www.hirvensalmi.fi
X-WR-CALDESC:Tapahtumat Hirvensalmi
REFRESH-INTERVAL;VALUE=DURATION:PT1H
X-Robots-Tag:noindex
X-PUBLISHED-TTL:PT1H
BEGIN:VTIMEZONE
TZID:Europe/Helsinki
BEGIN:DAYLIGHT
TZOFFSETFROM:+0200
TZOFFSETTO:+0300
TZNAME:EEST
DTSTART:20250330T010000
END:DAYLIGHT
BEGIN:STANDARD
TZOFFSETFROM:+0300
TZOFFSETTO:+0200
TZNAME:EET
DTSTART:20251026T010000
END:STANDARD
END:VTIMEZONE
BEGIN:VEVENT
DTSTART;TZID=Europe/Helsinki:20250607T100000
DTEND;TZID=Europe/Helsinki:20250809T160000
DTSTAMP:20260422T100032
CREATED:20250514T124008Z
LAST-MODIFIED:20250514T124008Z
UID:32933-1749290400-1754755200@www.hirvensalmi.fi
SUMMARY:Taidenäyttely Sirpa Rahdulta Tuukkalan Kesäpuodilla
DESCRIPTION:Sirpa Rahtu on koulutukseltaan muotitaiteilija\, ja se näkyy hänen töissään. Öljy- ja akryylimaalaus on ollut jo vuosia tärkeä luomisen väline. Näyttelyssä on mukana myös muutama kesäinen akvarellimaalaus. Näyttelyyn pääsee tutustumaan Tuukkalan Kesäpuodin kahviossa kesäaikaan puodin aukioloaikoina eli keskiviikosta lauantaihin klo 10-16 (ei juhannuslauantaina 21.6.\, mutta auki puolestaan sunnuntaina 22.6.)
URL:https://www.hirvensalmi.fi/tapahtuma/taidenayttely-sirpa-rahdulta-tuukkalan-kesapuodilla/
LOCATION:Tuukkalan kesäpuoti\, Joutsantie 1212\, Hirvensalmi\, Etelä-Savo\, 52610\, Suomi
ATTACH;FMTTYPE=image/jpeg:https://www.hirvensalmi.fi/wp-content/uploads/2025/05/kukkia.jpg
END:VEVENT
BEGIN:VEVENT
DTSTART;TZID=Europe/Helsinki:20250626T100000
DTEND;TZID=Europe/Helsinki:20250706T140000
DTSTAMP:20260422T100032
CREATED:20241220T052958Z
LAST-MODIFIED:20241220T052958Z
UID:31170-1750932000-1751810400@www.hirvensalmi.fi
SUMMARY:Tuukkalan Taidetuvan mummolakirppis
DESCRIPTION:Tuukkalan Taidetuvalla mummolakirppis!
URL:https://www.hirvensalmi.fi/tapahtuma/tuukkalan-taidetuvan-mummolakirppis/
LOCATION:Tuukkalan taidetupa\, Joutsantie 1244\, Tuukkala\, 52610
ORGANIZER;CN="Tuukkalan Taidetupa":MAILTO:pirkko.luntta@pp.inet.fi
END:VEVENT
BEGIN:VEVENT
DTSTART;TZID=Europe/Helsinki:20250701T100000
DTEND;TZID=Europe/Helsinki:20250731T170000
DTSTAMP:20260422T100032
CREATED:20250102T053142Z
LAST-MODIFIED:20250102T053148Z
UID:31234-1751364000-1753981200@www.hirvensalmi.fi
SUMMARY:Pop-up studio Kissakoski
DESCRIPTION:Kissakosken kauniissa yläsalissa koko heinäkuun pilatesta\, kehonhuoltoa\, jumppaa\, rentoutusta\,päiväretriittejä ja monipuolista liikuntaa.
URL:https://www.hirvensalmi.fi/tapahtuma/pop-up-studio-kissakoski/
LOCATION:Kissakosken tehdas\, Vahvamäentie 42
ATTACH;FMTTYPE=image/jpeg:https://www.hirvensalmi.fi/wp-content/uploads/2024/12/IMG_2942.jpeg
ORGANIZER;CN="Studio Martta":MAILTO:satu@studiomartta.fi
END:VEVENT
BEGIN:VEVENT
DTSTART;TZID=Europe/Helsinki:20250704T100000
DTEND;TZID=Europe/Helsinki:20250706T150000
DTSTAMP:20260422T100032
CREATED:20250609T041908Z
LAST-MODIFIED:20250609T041915Z
UID:33180-1751623200-1751814000@www.hirvensalmi.fi
SUMMARY:VUOSIEN VARRELTA
DESCRIPTION:Laina Honkasen 90v käsityönäyttely
URL:https://www.hirvensalmi.fi/tapahtuma/vuosien-varrelta-3/
END:VEVENT
BEGIN:VEVENT
DTSTART;TZID=Europe/Helsinki:20250704T100000
DTEND;TZID=Europe/Helsinki:20250706T170000
DTSTAMP:20260422T100032
CREATED:20250303T061440Z
LAST-MODIFIED:20250303T061443Z
UID:32038-1751623200-1751821200@www.hirvensalmi.fi
SUMMARY:Tervaleppäjuhlat
DESCRIPTION:Perinteiset\, järjestyksessä 51. Tervaleppäjuhlat pärähtävät käyntiin 4.7.klo 10.00 virallisella juhlien avauksella ja mökkirauhan julistuksella\, jonka tänä vuonna lukee kirkkoherra Asko Nuorkivi.\nMarkkinat alkavat jo klo 8.00 torilla\, kun kauppiaat saapuvat paikalle.\nLauantaina juhlat jatkuvat torilla mm musiikkiesityksillä\, klo 12-13 Jari Puhakan vetämänä yhteislauluja.\nSunnuntaina perinteinen kesäasukkaiden kirkkopyhä\, joka kirkkovenesoudun ja messun jälkeen jatkuu kirkkokahveilla srk talossa.\nJuhlat päättyvät 6.7 Tuukkalan tempauksen teatteriryhmän ensi-iltaan Seuratalolla.\nSeuraa ilmoitteluamme.
URL:https://www.hirvensalmi.fi/tapahtuma/tervaleppajuhlat-8/
END:VEVENT
BEGIN:VEVENT
DTSTART;TZID=Europe/Helsinki:20250704T100000
DTEND;TZID=Europe/Helsinki:20250731T170000
DTSTAMP:20260422T100032
CREATED:20250102T052436Z
LAST-MODIFIED:20250102T052442Z
UID:31194-1751623200-1753981200@www.hirvensalmi.fi
SUMMARY:Vuoden 2025 parhaan pelätin äänestys Junnankuja 25 Hirvensalmi
DESCRIPTION:Kaikki tervetulleita äänestämään vuoden 2025 parasta pelättiä. Äänestysaika 4.7.2025 – 31.7.2025
URL:https://www.hirvensalmi.fi/tapahtuma/vuoden-2025-parhaan-pelatin-aanestys-junnankuja-25-hirvensalmi/
LOCATION:Junnankuja 25 Hirvensalmi
ORGANIZER;CN="Hirvensalmen k%C3%A4sity%C3%B6yhdistys ry":MAILTO:posti@puulanmanuelli.fi
END:VEVENT
BEGIN:VEVENT
DTSTART;TZID=Europe/Helsinki:20250704T100000
DTEND;TZID=Europe/Helsinki:20250830T140000
DTSTAMP:20260422T100032
CREATED:20250102T055209Z
LAST-MODIFIED:20250102T055214Z
UID:31191-1751623200-1756562400@www.hirvensalmi.fi
SUMMARY:"MUISTATKO...koulukäsityöt" Kirkonkylän koulu 100 vuotta käsityönäyttely
DESCRIPTION:Kirkonkylän koulu 100 vuotta juhlanäyttelyssä koulukäsitöitä eri vuosikymmeniltä. Junnankuja 25 Hirvensalmi.
URL:https://www.hirvensalmi.fi/tapahtuma/muistatko-koulukasityot-kirkonkylan-koulu-100-vuotta-kasityonayttely/
LOCATION:Junnankuja 25 Hirvensalmi
ORGANIZER;CN="Hirvensalmen k%C3%A4sity%C3%B6yhdistys ry":MAILTO:posti@puulanmanuelli.fi
END:VEVENT
BEGIN:VEVENT
DTSTART;TZID=Europe/Helsinki:20250706T100000
DTEND;TZID=Europe/Helsinki:20250706T113000
DTSTAMP:20260422T100032
CREATED:20250102T052802Z
LAST-MODIFIED:20250102T052807Z
UID:31268-1751796000-1751801400@www.hirvensalmi.fi
SUMMARY:Messu kirkossa. Kesälomalaisten kirkkopyhä
DESCRIPTION:Tervetuloa viettämään seurakunnan yhteistä juhlaa. Messun jälkeen kirkkokahvit seurakuntakodilla.
URL:https://www.hirvensalmi.fi/tapahtuma/messu-kirkossa-kesalomalaisten-kirkkopyha/
LOCATION:Hirvensalmen kirkko ja seurakuntakoti
END:VEVENT
BEGIN:VEVENT
DTSTART;TZID=Europe/Helsinki:20250706T140000
DTEND;TZID=Europe/Helsinki:20250706T163000
DTSTAMP:20260422T100032
CREATED:20250701T085713Z
LAST-MODIFIED:20250701T085713Z
UID:33391-1751810400-1751819400@www.hirvensalmi.fi
SUMMARY:Kesäteatteriesitys "Voihan Elämän Kevät!!"
DESCRIPTION:”Voihan Elämän Kevät!” kertoo ajankohtaisen ja samalla riemastuttavan tarinan hoivakoti Elämän Keväästä\, joka joudutaan sulkemaan säästösyistä. Hoivakodin asukkaat ja henkilökunta\, jotka ovat tottuneet rauhalliseen elämänmenoon ovatkin yhtäkkiä uuden edessä. Tarina alkaa\, kun hoivakodin asukkaille ilmoitetaan kodin lakkautuksesta ja siitä\, että heille etsitään uusia työmahdollisuuksia. Idean äitinä on urahakuinen työ- ja terveysministeri Peipponen konsultteineen. Kuinkahan käy? Lopputulos yllättää kaikki.
URL:https://www.hirvensalmi.fi/tapahtuma/kesateatteriesitys-voihan-elaman-kevat/
LOCATION:Hirvensalmen Seuratalo\, Pitäjäntie 7\, Hirvensalmi\, 52550
ATTACH;FMTTYPE=image/png:https://www.hirvensalmi.fi/wp-content/uploads/2025/06/Elamankevat2_es.png
END:VEVENT
END:VCALENDAR