BEGIN:VCALENDAR
VERSION:2.0
PRODID:-//Hirvensalmi - ECPv6.6.4.2//NONSGML v1.0//EN
CALSCALE:GREGORIAN
METHOD:PUBLISH
X-WR-CALNAME:Hirvensalmi
X-ORIGINAL-URL:https://www.hirvensalmi.fi
X-WR-CALDESC:Tapahtumat Hirvensalmi
REFRESH-INTERVAL;VALUE=DURATION:PT1H
X-Robots-Tag:noindex
X-PUBLISHED-TTL:PT1H
BEGIN:VTIMEZONE
TZID:Europe/Helsinki
BEGIN:DAYLIGHT
TZOFFSETFROM:+0200
TZOFFSETTO:+0300
TZNAME:EEST
DTSTART:20250330T010000
END:DAYLIGHT
BEGIN:STANDARD
TZOFFSETFROM:+0300
TZOFFSETTO:+0200
TZNAME:EET
DTSTART:20251026T010000
END:STANDARD
END:VTIMEZONE
BEGIN:VEVENT
DTSTART;TZID=Europe/Helsinki:20250916T100000
DTEND;TZID=Europe/Helsinki:20250916T113000
DTSTAMP:20260422T044548
CREATED:20250826T080438Z
LAST-MODIFIED:20250826T080438Z
UID:33842-1758016800-1758022200@www.hirvensalmi.fi
SUMMARY:Muistikävely
DESCRIPTION:Tule kävelemään yhdessä pieni lenkki. Reitin varrella pohdittavaksi aivo- ja muistiaiheisia kysymyksiä\, joilla voit testata tietouttasi ja oppia ehkä uuttakin!
URL:https://www.hirvensalmi.fi/tapahtuma/muistikavely/
LOCATION:Hirvensalmen urheilukenttä\, Kisatie\, Hirvensalmi\, 52550
ATTACH;FMTTYPE=image/jpeg:https://www.hirvensalmi.fi/wp-content/uploads/2025/08/Hirvensalmi_16.9.jpg
ORGANIZER;CN="Etel%C3%A4-Savon Muistiluotsi":MAILTO:hanne.pyrhonen@msmuisti.fi
END:VEVENT
END:VCALENDAR