BEGIN:VCALENDAR
VERSION:2.0
PRODID:-//Hirvensalmi - ECPv6.6.4.2//NONSGML v1.0//EN
CALSCALE:GREGORIAN
METHOD:PUBLISH
X-ORIGINAL-URL:https://www.hirvensalmi.fi
X-WR-CALDESC:Tapahtumat Hirvensalmi
REFRESH-INTERVAL;VALUE=DURATION:PT1H
X-Robots-Tag:noindex
X-PUBLISHED-TTL:PT1H
BEGIN:VTIMEZONE
TZID:Europe/Helsinki
BEGIN:DAYLIGHT
TZOFFSETFROM:+0200
TZOFFSETTO:+0300
TZNAME:EEST
DTSTART:20250330T010000
END:DAYLIGHT
BEGIN:STANDARD
TZOFFSETFROM:+0300
TZOFFSETTO:+0200
TZNAME:EET
DTSTART:20251026T010000
END:STANDARD
END:VTIMEZONE
BEGIN:VEVENT
DTSTART;TZID=Europe/Helsinki:20251022T080000
DTEND;TZID=Europe/Helsinki:20251022T080000
DTSTAMP:20260422T000639
CREATED:20251020T040047Z
LAST-MODIFIED:20251020T040052Z
UID:34346-1761120000-1761120000@www.hirvensalmi.fi
SUMMARY:Hautausmaan haravointitalkoot ke 22.10.2025
DESCRIPTION:Tule mukaan haravoimaan pudonneet lehdet hautausmaalta keskiviikkona 22.10.2025.\nTalkoolounas seurakuntakodilla klo 11.30\nTervetuloa!
URL:https://www.hirvensalmi.fi/tapahtuma/hautausmaan-haravointitalkoot-ke-22-10-2025/
LOCATION:Kirkonkylän hautausmaa
END:VEVENT
END:VCALENDAR