BEGIN:VCALENDAR
VERSION:2.0
PRODID:-//Hirvensalmi - ECPv6.6.4.2//NONSGML v1.0//EN
CALSCALE:GREGORIAN
METHOD:PUBLISH
X-WR-CALNAME:Hirvensalmi
X-ORIGINAL-URL:https://www.hirvensalmi.fi
X-WR-CALDESC:Tapahtumat Hirvensalmi
REFRESH-INTERVAL;VALUE=DURATION:PT1H
X-Robots-Tag:noindex
X-PUBLISHED-TTL:PT1H
BEGIN:VTIMEZONE
TZID:Europe/Helsinki
BEGIN:DAYLIGHT
TZOFFSETFROM:+0200
TZOFFSETTO:+0300
TZNAME:EEST
DTSTART:20250330T010000
END:DAYLIGHT
BEGIN:STANDARD
TZOFFSETFROM:+0300
TZOFFSETTO:+0200
TZNAME:EET
DTSTART:20251026T010000
END:STANDARD
END:VTIMEZONE
BEGIN:VEVENT
DTSTART;TZID=Europe/Helsinki:20251111T120000
DTEND;TZID=Europe/Helsinki:20251111T143000
DTSTAMP:20260421T221502
CREATED:20251016T040905Z
LAST-MODIFIED:20251016T040905Z
UID:34307-1762862400-1762871400@www.hirvensalmi.fi
SUMMARY:Isänpäivärääppiäiset!
DESCRIPTION:Eläkeliiton Hirvensalmen yhdistyksen kahvitilaisuus Isänpäivän jälkeen tiistaina 11.11.2025 klo 12.00 Hirvensalmen Seuratalolla
URL:https://www.hirvensalmi.fi/tapahtuma/isanpaivaraappiaiset-2/
LOCATION:Hirvensalmen Seuratalo\, Pitäjäntie 7\, Hirvensalmi\, 52550
ORGANIZER;CN="El%C3%A4keliiton Hirvensalmen yhdistys":MAILTO:jukkamanninen20@gmail.com
END:VEVENT
BEGIN:VEVENT
DTSTART;TZID=Europe/Helsinki:20251111T130000
DTEND;TZID=Europe/Helsinki:20251111T130000
DTSTAMP:20260421T221502
CREATED:20251017T075752Z
LAST-MODIFIED:20251017T075757Z
UID:34341-1762866000-1762866000@www.hirvensalmi.fi
SUMMARY:Kirkonkylän marttojen vierailu Liisa Puukolle 11.11.2025
DESCRIPTION:Kirkonkylän martat vierailevat Liisa Puukon luona Mäntyharjulla tiistaina 11.11.2025.\nLähdemme kimppakyydein klo 13.00 kunnantalon pihalta.\nIlmoittaudu sihteeri Raija Tantulle p. 050 380 70 55.
URL:https://www.hirvensalmi.fi/tapahtuma/kirkonkylan-marttojen-vierailu-liisa-puukolle-11-11-2025/
LOCATION:Mäntyharju
END:VEVENT
END:VCALENDAR