BEGIN:VCALENDAR
VERSION:2.0
PRODID:-//Hirvensalmi - ECPv6.6.4.2//NONSGML v1.0//EN
CALSCALE:GREGORIAN
METHOD:PUBLISH
X-WR-CALNAME:Hirvensalmi
X-ORIGINAL-URL:https://www.hirvensalmi.fi
X-WR-CALDESC:Tapahtumat Hirvensalmi
REFRESH-INTERVAL;VALUE=DURATION:PT1H
X-Robots-Tag:noindex
X-PUBLISHED-TTL:PT1H
BEGIN:VTIMEZONE
TZID:Europe/Helsinki
BEGIN:DAYLIGHT
TZOFFSETFROM:+0200
TZOFFSETTO:+0300
TZNAME:EEST
DTSTART:20250330T010000
END:DAYLIGHT
BEGIN:STANDARD
TZOFFSETFROM:+0300
TZOFFSETTO:+0200
TZNAME:EET
DTSTART:20251026T010000
END:STANDARD
END:VTIMEZONE
BEGIN:VEVENT
DTSTART;TZID=Europe/Helsinki:20251117T130000
DTEND;TZID=Europe/Helsinki:20251117T143000
DTSTAMP:20260421T221409
CREATED:20250808T085715Z
LAST-MODIFIED:20250808T085721Z
UID:33694-1763384400-1763389800@www.hirvensalmi.fi
SUMMARY:Omais- ja läheishoitajien vertaistukiryhmä Hirvensalmella
DESCRIPTION:Vertaistukiryhmä kaikille omaistaan ja läheistään hoitaville Hirvensalmella. \nVertaistukiryhmässä voit jakaa kokemuksia luottamuksellisessa ja ymmärtävässä ilmapiirissä toisten läheis- ja omaishoitajien kanssa. Arjen vinkit\, ilot ja surut on helpompi kertoa\, kun vertainen ymmärtää\, mistä on kyse. \nRyhmää ohjaa ammattilainen tuoden jokaiselle ryhmäkerralle tietoa\, tehtäviä\, pohdittavaa tai vaikkapa vierailijan. \nSinun ei tarvitse olla sopimusomaishoitaja tai yhdistyksen jäsen\, huoli ja hoivavastuu läheisestä tai omaisesta riittää. \nRyhmä toteutetaan yhteistyössä Mikkelin seudun Omaishoitajat ja läheiset ry ja Etelä-Savon Muistiluotsin kanssa. \nRyhmä kokoontuu kerran kuussa maanantaisin klo 13-14.30:\n18.8. MsOL OmaisOiva\n22.9. Muistiluotsi\n20.10. MsOL OmaisOiva\n17.11. Muistiluotsi\n8.12. MsOL OmaisOiva \nLämpimästi tervetuloa!
URL:https://www.hirvensalmi.fi/tapahtuma/omais-ja-laheishoitajien-vertaistukiryhma-hirvensalmella-7/
LOCATION:Hirvensalmen Seuratalo\, Pitäjäntie 7\, Hirvensalmi\, 52550
ATTACH;FMTTYPE=image/png:https://www.hirvensalmi.fi/wp-content/uploads/2025/08/HIRVENSALMI-1-3.png
END:VEVENT
BEGIN:VEVENT
DTSTART;TZID=Europe/Helsinki:20251117T150000
DTEND;TZID=Europe/Helsinki:20251117T160000
DTSTAMP:20260421T221409
CREATED:20251003T073834Z
LAST-MODIFIED:20251003T073834Z
UID:34174-1763391600-1763395200@www.hirvensalmi.fi
SUMMARY:Nuorten avoin kuntosalivuoro
DESCRIPTION:Kuntalaisille avoimet aikuisten ohjatut kuntosalivuorot jatkuvat syyskaudella 2025. Kuntosalilla luvassa on opastusta kuntosaliharjoittelun aloittamiseen\, laitteiden käyttöön ja turvalliseen harjoitteluun. \nEi ennakkoilmoittautumista. Soita ovikelloa tullessasi. \nTervetuloa!
URL:https://www.hirvensalmi.fi/tapahtuma/nuorten-avoin-kuntosalivuoro-10/
LOCATION:Koulukeskuksen kuntosali\, Koulutie 5\, Hirvensalmi\, 52550\, Suomi
END:VEVENT
END:VCALENDAR