BEGIN:VCALENDAR
VERSION:2.0
PRODID:-//Hirvensalmi - ECPv6.6.4.2//NONSGML v1.0//EN
CALSCALE:GREGORIAN
METHOD:PUBLISH
X-ORIGINAL-URL:https://www.hirvensalmi.fi
X-WR-CALDESC:Tapahtumat Hirvensalmi
REFRESH-INTERVAL;VALUE=DURATION:PT1H
X-Robots-Tag:noindex
X-PUBLISHED-TTL:PT1H
BEGIN:VTIMEZONE
TZID:Europe/Helsinki
BEGIN:DAYLIGHT
TZOFFSETFROM:+0200
TZOFFSETTO:+0300
TZNAME:EEST
DTSTART:20250330T010000
END:DAYLIGHT
BEGIN:STANDARD
TZOFFSETFROM:+0300
TZOFFSETTO:+0200
TZNAME:EET
DTSTART:20251026T010000
END:STANDARD
END:VTIMEZONE
BEGIN:VEVENT
DTSTART;TZID=Europe/Helsinki:20251124T090000
DTEND;TZID=Europe/Helsinki:20251124T150000
DTSTAMP:20260422T001955
CREATED:20251029T075634Z
LAST-MODIFIED:20251029T075634Z
UID:34480-1763974800-1763996400@www.hirvensalmi.fi
SUMMARY:Inbody-kehonkoostumusmittaukset ja puristusvoimamittaukset
DESCRIPTION:Tule mittaamaan kehonkoostumuksesi ja puristusvoimasi. Saat myös tietoa omaan hyvinvoinnin ja terveyden edistämiseen liikuntaneuvonnan ammattilaisten toimesta. \nMittauksiin tullaan ilman ajanvarausta\, varaudu odottamaan vuoroasi. Tulethan paikalle ainoastaan terveenä. Sisäänkäynti Elomaan koulun pääovesta\, aulassa ohjaus mittaukseen. \nPaikka: Elomaan koulu (Koulutie 5) \nAika: ma 24.11.2025 klo 9-11 ja 12-15
URL:https://www.hirvensalmi.fi/tapahtuma/inbody-kehonkoostumusmittaukset-ja-puristusvoimamittaukset/
LOCATION:Elomaan koulu\, Koulutie\, 52550 Hirvensalmi\, Hirvensalmi\, 52550
END:VEVENT
BEGIN:VEVENT
DTSTART;TZID=Europe/Helsinki:20251124T150000
DTEND;TZID=Europe/Helsinki:20251124T160000
DTSTAMP:20260422T001955
CREATED:20251003T073537Z
LAST-MODIFIED:20251003T073537Z
UID:34168-1763996400-1764000000@www.hirvensalmi.fi
SUMMARY:Avoin kuntosalivuoro
DESCRIPTION:Kuntalaisille avoimet aikuisten ohjatut kuntosalivuorot jatkuvat syyskaudella 2025. Kuntosalilla luvassa on opastusta kuntosaliharjoittelun aloittamiseen\, laitteiden käyttöön ja turvalliseen harjoitteluun. \nEi ennakkoilmoittautumista. Soita ovikelloa tullessasi. \nTervetuloa!
URL:https://www.hirvensalmi.fi/tapahtuma/avoin-kuntosalivuoro-39/
LOCATION:Koulukeskuksen kuntosali\, Koulutie 5\, Hirvensalmi\, 52550\, Suomi
END:VEVENT
END:VCALENDAR