BEGIN:VCALENDAR
VERSION:2.0
PRODID:-//Hirvensalmi - ECPv6.6.4.2//NONSGML v1.0//EN
CALSCALE:GREGORIAN
METHOD:PUBLISH
X-ORIGINAL-URL:https://www.hirvensalmi.fi
X-WR-CALDESC:Tapahtumat Hirvensalmi
REFRESH-INTERVAL;VALUE=DURATION:PT1H
X-Robots-Tag:noindex
X-PUBLISHED-TTL:PT1H
BEGIN:VTIMEZONE
TZID:Europe/Helsinki
BEGIN:DAYLIGHT
TZOFFSETFROM:+0200
TZOFFSETTO:+0300
TZNAME:EEST
DTSTART:20260329T010000
END:DAYLIGHT
BEGIN:STANDARD
TZOFFSETFROM:+0300
TZOFFSETTO:+0200
TZNAME:EET
DTSTART:20261025T010000
END:STANDARD
END:VTIMEZONE
BEGIN:VEVENT
DTSTART;TZID=Europe/Helsinki:20260227T100000
DTEND;TZID=Europe/Helsinki:20260227T160000
DTSTAMP:20260419T153126
CREATED:20260119T095229Z
LAST-MODIFIED:20260119T095232Z
UID:35167-1772186400-1772208000@www.hirvensalmi.fi
SUMMARY:Pop-up kahvila
DESCRIPTION:Poikkea ladulta tai tule muuten vaan herkuttelemaan kahvioon makeaa tai suolaista ja nauttimaan teetä\, kahvia tai mehua. Myös vohveleita tarjolla!\nMaksuvälineeksi käy käteinen\, kortti tai mobilepay.
URL:https://www.hirvensalmi.fi/tapahtuma/pop-up-kahvila-5/
LOCATION:Studio Martta\, Herkkutie 18\, Hirvensalmi\, 52550\, Suomi
ATTACH;FMTTYPE=image/png:https://www.hirvensalmi.fi/wp-content/uploads/2026/01/Purple-and-Pink-Vintage-Tea-Party-Photo-Collage-2.png
ORGANIZER;CN="Studio Martta":MAILTO:satu@studiomartta.fi
END:VEVENT
END:VCALENDAR