BEGIN:VCALENDAR
VERSION:2.0
PRODID:-//Hirvensalmi - ECPv6.6.4.2//NONSGML v1.0//EN
CALSCALE:GREGORIAN
METHOD:PUBLISH
X-ORIGINAL-URL:https://www.hirvensalmi.fi
X-WR-CALDESC:Tapahtumat Hirvensalmi
REFRESH-INTERVAL;VALUE=DURATION:PT1H
X-Robots-Tag:noindex
X-PUBLISHED-TTL:PT1H
BEGIN:VTIMEZONE
TZID:Europe/Helsinki
BEGIN:DAYLIGHT
TZOFFSETFROM:+0200
TZOFFSETTO:+0300
TZNAME:EEST
DTSTART:20260329T010000
END:DAYLIGHT
BEGIN:STANDARD
TZOFFSETFROM:+0300
TZOFFSETTO:+0200
TZNAME:EET
DTSTART:20261025T010000
END:STANDARD
END:VTIMEZONE
BEGIN:VEVENT
DTSTART;TZID=Europe/Helsinki:20260409T180000
DTEND;TZID=Europe/Helsinki:20260409T190000
DTSTAMP:20260421T134454
CREATED:20260402T051701Z
LAST-MODIFIED:20260402T051701Z
UID:35853-1775757600-1775761200@www.hirvensalmi.fi
SUMMARY:Tervaleppäyhdistys
DESCRIPTION:Sääntömääräinen kevätkokous 9.4.26 klo 18.00 kunnanhallituksen kokoushuoneessa.\nKäsitellään kevätkokouselle määrätyt asiat. \nKahvitarjoilu!
URL:https://www.hirvensalmi.fi/tapahtuma/tervaleppayhdistys/
END:VEVENT
END:VCALENDAR