BEGIN:VCALENDAR
VERSION:2.0
PRODID:-//Hirvensalmi - ECPv6.6.4.2//NONSGML v1.0//EN
CALSCALE:GREGORIAN
METHOD:PUBLISH
X-WR-CALNAME:Hirvensalmi
X-ORIGINAL-URL:https://www.hirvensalmi.fi
X-WR-CALDESC:Tapahtumat Hirvensalmi
REFRESH-INTERVAL;VALUE=DURATION:PT1H
X-Robots-Tag:noindex
X-PUBLISHED-TTL:PT1H
BEGIN:VTIMEZONE
TZID:Europe/Helsinki
BEGIN:DAYLIGHT
TZOFFSETFROM:+0200
TZOFFSETTO:+0300
TZNAME:EEST
DTSTART:20260329T010000
END:DAYLIGHT
BEGIN:STANDARD
TZOFFSETFROM:+0300
TZOFFSETTO:+0200
TZNAME:EET
DTSTART:20261025T010000
END:STANDARD
END:VTIMEZONE
BEGIN:VEVENT
DTSTART;TZID=Europe/Helsinki:20260412T150000
DTEND;TZID=Europe/Helsinki:20260412T160000
DTSTAMP:20260421T131958
CREATED:20260330T041732Z
LAST-MODIFIED:20260330T041732Z
UID:35782-1776006000-1776009600@www.hirvensalmi.fi
SUMMARY:Leikkiä ja liikuntaa eskari- ja 1-luokkalaisille
DESCRIPTION:Leikkiä ja liikuntaa eskari- ja 1-luokkalaisille \nHirvensalmen Urheilijat ja Metka Meno ry. kutsuvat eskari- ja 1-luokkalaiset lapset leikkimään ja liikkumaan 26.4. asti sunnuntaisin Hirvensalmen Elomaan koulun liikuntasalissa klo 15-16. Kerho-ohjaajana toimii Metka Menon Edi Pejcic. \nLiikuntakerho on avoin ja ILMAINEN niin HiU:n jäsenille kuin myös ei-jäsenille. \nEi ennakkoilmoittautumisia. Lisätietoja: Edi Pejcic\, p. 045 8042110
URL:https://www.hirvensalmi.fi/tapahtuma/leikkia-ja-liikuntaa-eskari-ja-1-luokkalaisille-3/
LOCATION:Elomaan koulu\, Koulutie\, 52550 Hirvensalmi\, Hirvensalmi\, 52550
ATTACH;FMTTYPE=image/png:https://www.hirvensalmi.fi/wp-content/uploads/2026/03/2026_kevat_isompien_lasten_liikuntakerho-1.png
ORGANIZER;CN="Hirvensalmen urheilijat":MAILTO:hirvensalmenurheilijat@gmail.com
END:VEVENT
BEGIN:VEVENT
DTSTART;TZID=Europe/Helsinki:20260412T160000
DTEND;TZID=Europe/Helsinki:20260412T170000
DTSTAMP:20260421T131958
CREATED:20260330T041957Z
LAST-MODIFIED:20260330T041957Z
UID:35758-1776009600-1776013200@www.hirvensalmi.fi
SUMMARY:Lasten liikuntakerho 0v. - alle eskari-ikäiset
DESCRIPTION:Lasten liikuntakerho 0v. – alle eskari-ikäiset \nHirvensalmen Urheilijat järjestää lasten liikuntakerhot alle eskari-ikäisille lapsille 24.5.2026 asti sunnuntaisin Hirvensalmen Elomaan koulun liikuntasalissa klo 16-17. Kerho-ohjaajina toimivat Sirja Venäläinen ja Santra Venäläinen. \nLiikuntakerho on avoin ja ILMAINEN niin HiU:n jäsenille kuin myös ei-jäsenille. Vanhemmat voivat halutessaan olla mukana kerhossa. \nTervetuloa mukaan! \nEi ennakkoilmoittautumisia. Lisätietoja: Sirja Venäläinen\, p. 040 5269 979
URL:https://www.hirvensalmi.fi/tapahtuma/lasten-liikuntakerho-0v-alle-eskari-ikaiset-8/
LOCATION:Elomaan koulu\, Koulutie\, 52550 Hirvensalmi\, Hirvensalmi\, 52550
ATTACH;FMTTYPE=image/png:https://www.hirvensalmi.fi/wp-content/uploads/2026/03/2026_kevat_pienten_lasten_liikuntakerho-2.png
ORGANIZER;CN="Hirvensalmen urheilijat":MAILTO:hirvensalmenurheilijat@gmail.com
END:VEVENT
BEGIN:VEVENT
DTSTART;TZID=Europe/Helsinki:20260412T170000
DTEND;TZID=Europe/Helsinki:20260412T190000
DTSTAMP:20260421T131958
CREATED:20260331T085749Z
LAST-MODIFIED:20260331T085904Z
UID:35835-1776013200-1776020400@www.hirvensalmi.fi
SUMMARY:Onnellinen mies
DESCRIPTION:Pertunmaan nuorisoseura esittää näytelmän Onnellinen mies.
URL:https://www.hirvensalmi.fi/tapahtuma/onnellinen-mies/
LOCATION:Seuratalo\, Pitäjäntie 9\, Hirvensalmi\, 52550
ATTACH;FMTTYPE=image/jpeg:https://www.hirvensalmi.fi/wp-content/uploads/2026/03/IMG-20260320-WA0004.jpg
ORGANIZER;CN="Pertunmaan nuorisoseura":MAILTO:argillander.rauno@gmail.com
END:VEVENT
END:VCALENDAR