BEGIN:VCALENDAR
VERSION:2.0
PRODID:-//Hirvensalmi - ECPv6.6.4.2//NONSGML v1.0//EN
CALSCALE:GREGORIAN
METHOD:PUBLISH
X-ORIGINAL-URL:https://www.hirvensalmi.fi
X-WR-CALDESC:Tapahtumat Hirvensalmi
REFRESH-INTERVAL;VALUE=DURATION:PT1H
X-Robots-Tag:noindex
X-PUBLISHED-TTL:PT1H
BEGIN:VTIMEZONE
TZID:Europe/Helsinki
BEGIN:DAYLIGHT
TZOFFSETFROM:+0200
TZOFFSETTO:+0300
TZNAME:EEST
DTSTART:20260329T010000
END:DAYLIGHT
BEGIN:STANDARD
TZOFFSETFROM:+0300
TZOFFSETTO:+0200
TZNAME:EET
DTSTART:20261025T010000
END:STANDARD
END:VTIMEZONE
BEGIN:VEVENT
DTSTART;TZID=Europe/Helsinki:20260503T160000
DTEND;TZID=Europe/Helsinki:20260503T170000
DTSTAMP:20260421T125445
CREATED:20260330T041836Z
LAST-MODIFIED:20260330T041836Z
UID:35770-1777824000-1777827600@www.hirvensalmi.fi
SUMMARY:Lasten liikuntakerho 0v. - alle eskari-ikäiset
DESCRIPTION:Lasten liikuntakerho 0v. – alle eskari-ikäiset \nHirvensalmen Urheilijat järjestää lasten liikuntakerhot alle eskari-ikäisille lapsille 24.5.2026 asti sunnuntaisin Hirvensalmen Elomaan koulun liikuntasalissa klo 16-17. Kerho-ohjaajina toimivat Sirja Venäläinen ja Santra Venäläinen. \nLiikuntakerho on avoin ja ILMAINEN niin HiU:n jäsenille kuin myös ei-jäsenille. Vanhemmat voivat halutessaan olla mukana kerhossa. \nTervetuloa mukaan! \nEi ennakkoilmoittautumisia. Lisätietoja: Sirja Venäläinen\, p. 040 5269 979
URL:https://www.hirvensalmi.fi/tapahtuma/lasten-liikuntakerho-0v-alle-eskari-ikaiset-4/
LOCATION:Elomaan koulu\, Koulutie\, 52550 Hirvensalmi\, Hirvensalmi\, 52550
ATTACH;FMTTYPE=image/png:https://www.hirvensalmi.fi/wp-content/uploads/2026/03/2026_kevat_pienten_lasten_liikuntakerho-6.png
ORGANIZER;CN="Hirvensalmen urheilijat":MAILTO:hirvensalmenurheilijat@gmail.com
END:VEVENT
END:VCALENDAR