BEGIN:VCALENDAR
VERSION:2.0
PRODID:-//Hirvensalmi - ECPv6.6.4.2//NONSGML v1.0//EN
CALSCALE:GREGORIAN
METHOD:PUBLISH
X-WR-CALNAME:Hirvensalmi
X-ORIGINAL-URL:https://www.hirvensalmi.fi
X-WR-CALDESC:Tapahtumat Hirvensalmi
REFRESH-INTERVAL;VALUE=DURATION:PT1H
X-Robots-Tag:noindex
X-PUBLISHED-TTL:PT1H
BEGIN:VTIMEZONE
TZID:Europe/Helsinki
BEGIN:DAYLIGHT
TZOFFSETFROM:+0200
TZOFFSETTO:+0300
TZNAME:EEST
DTSTART:20260329T010000
END:DAYLIGHT
BEGIN:STANDARD
TZOFFSETFROM:+0300
TZOFFSETTO:+0200
TZNAME:EET
DTSTART:20261025T010000
END:STANDARD
END:VTIMEZONE
BEGIN:VEVENT
DTSTART;TZID=Europe/Helsinki:20260504T180000
DTEND;TZID=Europe/Helsinki:20260504T193000
DTSTAMP:20260421T142252
CREATED:20260407T092256Z
LAST-MODIFIED:20260407T092256Z
UID:35872-1777917600-1777923000@www.hirvensalmi.fi
SUMMARY:Ruusukävely ma 4.5.2026 klo 18.00 seurantalolta
DESCRIPTION:Ruusunpäivänä maanantaina 4.5.2026 klo 18.00 Kirkonkylän Martat ry järjestää perinteisen ruusukävelyn.\nKokoontuminen kirkonkylän seurantalolle\, josta voi kävellä omavalintaisen reitin. Palkintona ruusu.\nMehutarjoilu.\nKaikille avoin ja maksuton tapahtuma.\nTervetuloa.
URL:https://www.hirvensalmi.fi/tapahtuma/ruusukavely-ma-4-5-2026-klo-18-00-seurantalolta/
LOCATION:Kirkonkylän seurantalo
END:VEVENT
END:VCALENDAR