BEGIN:VCALENDAR
VERSION:2.0
PRODID:-//Hirvensalmi - ECPv6.6.4.2//NONSGML v1.0//EN
CALSCALE:GREGORIAN
METHOD:PUBLISH
X-WR-CALNAME:Hirvensalmi
X-ORIGINAL-URL:https://www.hirvensalmi.fi
X-WR-CALDESC:Tapahtumat Hirvensalmi
REFRESH-INTERVAL;VALUE=DURATION:PT1H
X-Robots-Tag:noindex
X-PUBLISHED-TTL:PT1H
BEGIN:VTIMEZONE
TZID:Europe/Helsinki
BEGIN:DAYLIGHT
TZOFFSETFROM:+0200
TZOFFSETTO:+0300
TZNAME:EEST
DTSTART:20260329T010000
END:DAYLIGHT
BEGIN:STANDARD
TZOFFSETFROM:+0300
TZOFFSETTO:+0200
TZNAME:EET
DTSTART:20261025T010000
END:STANDARD
END:VTIMEZONE
BEGIN:VEVENT
DTSTART;TZID=Europe/Helsinki:20260508T080000
DTEND;TZID=Europe/Helsinki:20260517T233000
DTSTAMP:20260421T145037
CREATED:20260416T101809Z
LAST-MODIFIED:20260416T101809Z
UID:35993-1778227200-1779060600@www.hirvensalmi.fi
SUMMARY:Valokuvasuunnistus: kevätrastit 2026
DESCRIPTION:Hirvensalmella on jälleen mahdollisuus reippailla tutuksi tulleessa valokuvasuunnistuksessa. \nValokuvasuunnistus järjestetään pe 8.5. – su 17.5. \nSuunnistuksen tarkoituksena on etsiä valokuvavihjeillä osoitetut punavalkoisilla lipuilla merkityt rastipaikat. Rasteja on taajamassa\, liikuntapaikoilla ja ulkoilureiteillä. Rastilla on koodikirjain\, joka merkitään rastin mukaiseen ruutuun. Jokaisella tulee olla oma merkintäkynä mukana. Vihjekuvat ja leimauskortti ovat lehden lisäksi tulostettavissa myös kunnan nettisivuilta tai noudettavissa kunnanvirastolta takaoven vieressä olevasta muovitaskusta. \n  \n\nKortti palautetaan täytettynä (vähintään 7 rastia) kunnanviraston takaoven vieressä olevaan punaiseen postilaatikkoon ma 18.5. klo 12.00 mennessä.\nPalkintoina arvotaan osallistuneiden kesken 50 € lahjakortti Puulan Manuelliin\, 6 kk jäsenyys kuntosalille ja muita palkintoja.\n\nKuvavihjeet ilmestyvät 30.4. Hirvensalmelaisessa. Rastit viedään paikoilleen 7.5. \nJärj. Hirvensalmen kunnan liikuntapalvelut ja paikallislehti Hirvensalmelainen. \n  \nTervetuloa liikkumaan!
URL:https://www.hirvensalmi.fi/tapahtuma/valokuvasuunnistus-kevatrastit-2026/
END:VEVENT
BEGIN:VEVENT
DTSTART;TZID=Europe/Helsinki:20260509T090000
DTEND;TZID=Europe/Helsinki:20260509T180000
DTSTAMP:20260421T145037
CREATED:20260408T073011Z
LAST-MODIFIED:20260408T073105Z
UID:35890-1778317200-1778349600@www.hirvensalmi.fi
SUMMARY:Vapaaehtoisen pelastuspalvelun etsintäkurssi 9.5.2026
DESCRIPTION:Etsintäkurssi järjestetään Hirvensalmen Seuratalolla\, osoitteessa Pitäjäntie 9\, Hirvensalmi. Ajankohta: lauantai 9.5.2026 klo 9-18. Kurssi on osallistujille maksuton.\nKurssin kouluttajana toimii valmiuskouluttaja Juha Häkkinen Mikkelin Vapepan toimikunnasta. Tarkempi ohjelma lähetetään ilmoittautuneille ennen koulutusta.\nLisätietoja kurssista sekä Vapepasta antaa Juha Häkkinen\, p. 050 554 0281 tai sähköposti junnumanni@gmail.com sekä\nLasse Nummela\, p.0500 417055\, sähköposti lasse.nummela@gmail.com\nLinkki ilmoittautumiseen: https://www.lyyti.fi/reg/Etsinnn_peruskurssi_Hirvensalmi_9298
URL:https://www.hirvensalmi.fi/tapahtuma/vapaaehtoisen-pelastuspalvelun-etsintakurssi-9-5-2026/
LOCATION:Hirvensalmen Seuratalo\, Pitäjäntie 7\, Hirvensalmi\, 52550
ATTACH;FMTTYPE=image/jpeg:https://www.hirvensalmi.fi/wp-content/uploads/2026/04/Paloasema.jpg
ORGANIZER;CN="Punainen Risti Hirvensalmen osasto":MAILTO:pesosir88@gmail.com
END:VEVENT
BEGIN:VEVENT
DTSTART;TZID=Europe/Helsinki:20260509T100000
DTEND;TZID=Europe/Helsinki:20260509T130000
DTSTAMP:20260421T145037
CREATED:20260417T074800Z
LAST-MODIFIED:20260417T074800Z
UID:36027-1778320800-1778331600@www.hirvensalmi.fi
SUMMARY:Päivä Paloasemalla - Hirvensalmen paloasema
DESCRIPTION:Hirvensalmen PVPK ja Etelä-Savon pelastuslaitos kutsuvat hirvensalmelaiset ja mökkiläiset koko perheen Päivä Paloasemalla -tapahtumaan Pitäjäntielle lauantaina 9.5. kello 10-13. Ohjelmaa ja ihmeteltävää kaikenikäisille \nTule tutustumaan sopimuspalokunnan toimintaan ja kalustoon sekä harjoittelemaan alkusammutusta. Paikalla on myös muuta raskasta kalustoa\, saimme nimittäin mukaan myös hinausauton. \nMietityttääkö jokin kodin tai loma-asunnon paloturvallisuusasia? Tapahtumassa pääset keskustelemaan myös turvallisuusasioista ja siitä miten voit tehdä oman perheesi arjesta turvallisempaa. \nOhjelma voi täydentyä vielä. \nPäivä Paloasemalla -kampanjan koordinoi Suomen Pelastusalan Keskusjärjestö. Kampanjan rahoittaa Palosuojelurahasto.
URL:https://www.hirvensalmi.fi/tapahtuma/paiva-paloasemalla-hirvensalmen-paloasema/
LOCATION:Hirvensalmen paloasema\, Pitäjäntie 4\, Hirvensalmi\, Etelä-Savo\, 52550\, Suomi
ATTACH;FMTTYPE=image/jpeg:https://www.hirvensalmi.fi/wp-content/uploads/2026/04/paiva_paloasemalla_2026_fb_event_cover_fi.jpg
ORGANIZER;CN="Hirvensalmen PVPK":MAILTO:mari.s.ukkonen@etelasavonha.fi
END:VEVENT
BEGIN:VEVENT
DTSTART;TZID=Europe/Helsinki:20260509T110000
DTEND;TZID=Europe/Helsinki:20260509T140000
DTSTAMP:20260421T145037
CREATED:20260313T095045Z
LAST-MODIFIED:20260313T095045Z
UID:35591-1778324400-1778335200@www.hirvensalmi.fi
SUMMARY:Sejon Pärinät
DESCRIPTION:Sejon Baarin pihalla nähtävillä vanhoja autoja ja muita härpäkkeitä.\nMyynnissä grillimakkaraa\, lettuja ja muikkuja. Musiikista vastaa Christian Casagrande.
URL:https://www.hirvensalmi.fi/tapahtuma/sejon-parinat/
ATTACH;FMTTYPE=image/jpeg:https://www.hirvensalmi.fi/wp-content/uploads/2026/03/Screenshot_2026-03-05-13-43-43-86_4a24d271e133915ae237d4bec6ffe3682.jpg
END:VEVENT
BEGIN:VEVENT
DTSTART;TZID=Europe/Helsinki:20260509T180000
DTEND;TZID=Europe/Helsinki:20260509T180000
DTSTAMP:20260421T145037
CREATED:20260320T051005Z
LAST-MODIFIED:20260320T051914Z
UID:35698-1778349600-1778349600@www.hirvensalmi.fi
SUMMARY:Walk-in-tattoo Pub Lepässä
DESCRIPTION:Mikkeliläinen Black Rat Tattoo tulee jälleen pitämään walk-in tatuointitapahtuman Leppään!
URL:https://www.hirvensalmi.fi/tapahtuma/walk-in-tattoo-pub-lepassa/
LOCATION:Pub Leppä
END:VEVENT
END:VCALENDAR