BEGIN:VCALENDAR
VERSION:2.0
PRODID:-//Hirvensalmi - ECPv6.6.4.2//NONSGML v1.0//EN
CALSCALE:GREGORIAN
METHOD:PUBLISH
X-ORIGINAL-URL:https://www.hirvensalmi.fi
X-WR-CALDESC:Tapahtumat Hirvensalmi
REFRESH-INTERVAL;VALUE=DURATION:PT1H
X-Robots-Tag:noindex
X-PUBLISHED-TTL:PT1H
BEGIN:VTIMEZONE
TZID:Europe/Helsinki
BEGIN:DAYLIGHT
TZOFFSETFROM:+0200
TZOFFSETTO:+0300
TZNAME:EEST
DTSTART:20260329T010000
END:DAYLIGHT
BEGIN:STANDARD
TZOFFSETFROM:+0300
TZOFFSETTO:+0200
TZNAME:EET
DTSTART:20261025T010000
END:STANDARD
END:VTIMEZONE
BEGIN:VEVENT
DTSTART;TZID=Europe/Helsinki:20260612T190000
DTEND;TZID=Europe/Helsinki:20260612T200000
DTSTAMP:20260421T162557
CREATED:20260409T041920Z
LAST-MODIFIED:20260409T041920Z
UID:35907-1781290800-1781294400@www.hirvensalmi.fi
SUMMARY:Kirkkokonsertti: Ilta (Story)
DESCRIPTION:Hurmaava Ilta julkaisi keväällä 2026 kolmannen pitkäsoittonsa ‘Jokaisen hymyn takana’ ja kevään konserttisalikiertueensa lisäksi hän saapuu kesäkuussa konsertoimaan upeaan Hirvensalmen kirkkoon. \n“Mun biiseissä kuuluu rehellisyys\, raakuus ja elämän monimutkaisuus. Haluan\, että mun musiikki auttaa ihmisiä menemään läpi eri elämän vaiheiden ja herättää kysymyksiä. Vaikkei mun laulut aina antaisi suoria vastauksia\, ne toivottavasti auttaa pohtimaan elämää. Tuleva albumi on kuin matka\, jossa yhdessä kuulijoiden kanssa yritetään ymmärtää elämää vähän paremmin.” – Ilta \nVirtuoottinen Ilta hurmasi suomalaiset laulamalla kertosäkeen Cheekin hittikappaleessa Sillat. Iltan musiikki uhkuu iloista elämänasennetta ja samaistuttavia sydänsuruja. Vuoden 2019 Tähdet Tähdet -kaudella Ilta hurmasi sekä tuomarit että yleisön upeilla tulkinnoillaan ja persoonallaan. 2023 syksyllä Ilta oli yksi supersuositun Elämäni biisi -ohjelman solisteista ja 2024 hän osallistui Vain elämää -ohjelmaan\, josta repertuaariin jäivät hitit Kiire ja Tässä talossa. \nTilaisuuden kesto on noin tunnin\, mutta jos encoreita… \nTilaisuus on pääsylipullinen ja lippuja voi ostaa joko lippu.fi sivustolta tai paikanpäältä alkaen tuntia ennen konsertin alkua.
URL:https://www.hirvensalmi.fi/tapahtuma/kirkkokonsertti-ilta-story/
LOCATION:Hirvensalmen kirkko\, Kirkkotie 3
ATTACH;FMTTYPE=image/jpeg:https://www.hirvensalmi.fi/wp-content/uploads/2026/04/Ilta-Hirvensalmi-Story.jpg
ORGANIZER;CN="AllDay.fi":MAILTO:laura@allday.fi
END:VEVENT
END:VCALENDAR