BEGIN:VCALENDAR
VERSION:2.0
PRODID:-//Hirvensalmi - ECPv6.6.4.2//NONSGML v1.0//EN
CALSCALE:GREGORIAN
METHOD:PUBLISH
X-WR-CALNAME:Hirvensalmi
X-ORIGINAL-URL:https://www.hirvensalmi.fi
X-WR-CALDESC:Tapahtumat Hirvensalmi
REFRESH-INTERVAL;VALUE=DURATION:PT1H
X-Robots-Tag:noindex
X-PUBLISHED-TTL:PT1H
BEGIN:VTIMEZONE
TZID:Europe/Helsinki
BEGIN:DAYLIGHT
TZOFFSETFROM:+0200
TZOFFSETTO:+0300
TZNAME:EEST
DTSTART:20190331T010000
END:DAYLIGHT
BEGIN:STANDARD
TZOFFSETFROM:+0300
TZOFFSETTO:+0200
TZNAME:EET
DTSTART:20191027T010000
END:STANDARD
END:VTIMEZONE
BEGIN:VEVENT
DTSTART;VALUE=DATE:20190601
DTEND;VALUE=DATE:20190819
DTSTAMP:20260424T114023
CREATED:20190328T060925Z
LAST-MODIFIED:20190328T060925Z
UID:8669-1559358000-1566097199@www.hirvensalmi.fi
SUMMARY:Pronssisia veistoksia esillä Makasiinissä kesällä 2019!
DESCRIPTION:Tuula Suojarinteen veistoksia esillä kesällä 2019 makasiinissa. Näyttelyyn vapaa pääsy.
URL:https://www.hirvensalmi.fi/tapahtuma/pronssisia-veistoksia-esilla-makasiinissa-kesalla-2019/
LOCATION:Cafe Rantamakasiini\, Hirvensalmentie 10\, Hirvensalmi\, 52550
ATTACH;FMTTYPE=image/jpeg:https://www.hirvensalmi.fi/wp-content/uploads/2019/03/sydän3.jpg
END:VEVENT
BEGIN:VEVENT
DTSTART;VALUE=DATE:20190601
DTEND;VALUE=DATE:20190902
DTSTAMP:20260424T114023
CREATED:20190306T120558Z
LAST-MODIFIED:20190328T061014Z
UID:8600-1559358000-1567306799@www.hirvensalmi.fi
SUMMARY:Sydämet sykkivät puulan rannalla kesällä 2019!
DESCRIPTION:Sydämet sykkivät Puulan rannalla\, toivottaen vierailijat tervetulleiksi 1.6 – 31.8.2019. Sydämiä löytyy niin aallonmurtajalta kuin Sataman Herkun viereisestä rantapuistosta. Sydänpuiston ovat toteuttaneet Tuula Suojarinne ja Tuula Ranta. Näyttelyn löydät osoitteesta Hirvensalmentie 22\, 52550 Hirvensalmi\, Tervetuloa.
URL:https://www.hirvensalmi.fi/tapahtuma/sydammet-sykkivat-puulan-rannalla-kesalla-2019/
ATTACH;FMTTYPE=image/jpeg:https://www.hirvensalmi.fi/wp-content/uploads/2019/03/sydän-2.jpg
END:VEVENT
BEGIN:VEVENT
DTSTART;TZID=Europe/Helsinki:20190801T180000
DTEND;TZID=Europe/Helsinki:20190801T200000
DTSTAMP:20260424T114023
CREATED:20190104T120218Z
LAST-MODIFIED:20190104T120218Z
UID:8358-1564682400-1564689600@www.hirvensalmi.fi
SUMMARY:Kalkkeron kierros
DESCRIPTION:Ohjattu patikointiretki Kalkkerovuoren maisemissa. Lähtö Lehtolinnan kentältä.
URL:https://www.hirvensalmi.fi/tapahtuma/kalkkeron-kierros-2/
LOCATION:Lehtolinnan kenttä\, Hämeenmäentie 1278\, Hirvensalmi\, Suomi
END:VEVENT
BEGIN:VEVENT
DTSTART;TZID=Europe/Helsinki:20190802T210000
DTEND;TZID=Europe/Helsinki:20190802T233000
DTSTAMP:20260424T114023
CREATED:20190328T060738Z
LAST-MODIFIED:20190328T060738Z
UID:8659-1564779600-1564788600@www.hirvensalmi.fi
SUMMARY:Olavi Uusivirta
DESCRIPTION:No nyt tärähtää\, energinen Olavi viihdyttää meitä 2.8.2019 Herkun terassilla.
URL:https://www.hirvensalmi.fi/tapahtuma/olavi-uusivirta/
LOCATION:Ravintola Sataman Herkku\, Hirvensalmentie 22 \, Hirvensalmi\, Finland\, 52550\, Suomi
ATTACH;FMTTYPE=image/jpeg:https://www.hirvensalmi.fi/wp-content/uploads/2019/03/ollo.jpg
ORGANIZER;CN="Ravintola Sataman Herkku":MAILTO:marianne@satamanherkku.fi
END:VEVENT
BEGIN:VEVENT
DTSTART;TZID=Europe/Helsinki:20190803T110000
DTEND;TZID=Europe/Helsinki:20190803T130000
DTSTAMP:20260424T114023
CREATED:20190102T060142Z
LAST-MODIFIED:20190102T060142Z
UID:8280-1564830000-1564837200@www.hirvensalmi.fi
SUMMARY:Kansallispukujen tuuletus ja parhaan pelätin palkitseminen !
DESCRIPTION:Myymälämme pihapiirissä kansallispukujen tuuletuspiknik klo. 11 – 13 ja parhaan pelätin palkitseminen klo. 12 Kaikki tervetulleita !
URL:https://www.hirvensalmi.fi/tapahtuma/kansallispukujen-tuuletus-ja-parhaan-pelatin-palkitseminen/
LOCATION:Junnankuja 25 Hirvensalmi
ORGANIZER;CN="Hirvensalmen k%C3%A4sity%C3%B6yhdistys ry":MAILTO:posti@puulanmanuelli.fi
END:VEVENT
BEGIN:VEVENT
DTSTART;TZID=Europe/Helsinki:20190803T160000
DTEND;TZID=Europe/Helsinki:20190803T235500
DTSTAMP:20260424T114023
CREATED:20181107T080740Z
LAST-MODIFIED:20181107T080740Z
UID:8043-1564848000-1564876500@www.hirvensalmi.fi
SUMMARY:Herkkujen yö 28. kerta
DESCRIPTION:Perinteinen Herkkujen yö\, myynnissä erilaisia herkkuja \,leivonnaisia\, käsitöitä ym.. ym… lopuksi tanssit. 3.8.2019
URL:https://www.hirvensalmi.fi/tapahtuma/herkkujen-yo-28-kerta/
LOCATION:Lahnaniemen seurojentalo
ORGANIZER;CN="Lahnaniemen urheilu-ja kyl%C3%A4seura Niver%C3%A4 Ry.":MAILTO:lahnaniemenkylatoimikunta@gmail.com
END:VEVENT
BEGIN:VEVENT
DTSTART;TZID=Europe/Helsinki:20190808T180000
DTEND;TZID=Europe/Helsinki:20190808T200000
DTSTAMP:20260424T114023
CREATED:20190103T053114Z
LAST-MODIFIED:20190103T053124Z
UID:8321-1565287200-1565294400@www.hirvensalmi.fi
SUMMARY:HiU:n seurakisat
DESCRIPTION:BESbswyBESbswyBESbswyBESbswy \nSarjat 3 – 15-vuotiaille
URL:https://www.hirvensalmi.fi/tapahtuma/hiun-seurakisat-3/
LOCATION:Hirvensalmen urheilukenttä\, Kisatie\, Hirvensalmi\, 52550
ORGANIZER;CN="Hirvensalmen urheilijat":MAILTO:hirvensalmenurheilijat@gmail.com
END:VEVENT
BEGIN:VEVENT
DTSTART;TZID=Europe/Helsinki:20190810T120000
DTEND;TZID=Europe/Helsinki:20190810T150000
DTSTAMP:20260424T114023
CREATED:20190605T113537Z
LAST-MODIFIED:20190613T060325Z
UID:18461-1565438400-1565449200@www.hirvensalmi.fi
SUMMARY:Ripatin kansakoulua käyneet!
DESCRIPTION:Eira Haajanen p. 044-9883156
URL:https://www.hirvensalmi.fi/tapahtuma/ripatin-kansakoulua-kayneet-3/
LOCATION:Hämeenmäentie 412
END:VEVENT
BEGIN:VEVENT
DTSTART;TZID=Europe/Helsinki:20190823T080000
DTEND;TZID=Europe/Helsinki:20190823T170000
DTSTAMP:20260424T114023
CREATED:20190823T105613Z
LAST-MODIFIED:20190823T105613Z
UID:18750-1566547200-1566579600@www.hirvensalmi.fi
SUMMARY:Satutuokio kirjastossa
DESCRIPTION:Sukella satuun\, tupsahda tarinaan! \nHirvensalmella sukellellaan satujen maailmaan syksyn aikana noin kerran kuukaudessa tiistaisin kaikille avoimilla satutuokioilla. Kaksi samansisältöistä tuokioita järjestetään aina peräkkäin. \nSatujen lomassa tarinoidaan\, loruillaan ja leikitään yhdessä. \nVapaa pääsy\, tervetuloa! \nSatutuokiopäivät syksyllä 2019: \nti 8.10. klo 9.10 – 9.55 ja klo 10.05 – 10.50:\nKun on tunteet… kunnon tunteet! \nti 5.11. klo 9.10 – 9.55 ja klo 10.05 – 10.50:\nVärejä pussissa \nti 26.11. klo 9.10 – 9.55 ja klo 10.05 – 10.50:\nRunojen joulu \nJärj: Lastenkulttuurikeskus Verso ja Hirvensalmen kunta
URL:https://www.hirvensalmi.fi/tapahtuma/satutuokio-kirjastossa-3/
LOCATION:Hirvensalmen kirjasto\, Koulutie 7\, Hirvensalmi\, Etelä-Savo\, 52550\, Suomi
ATTACH;FMTTYPE=image/jpeg:https://www.hirvensalmi.fi/wp-content/uploads/2019/08/banneri_syksy2019-2.jpg
ORGANIZER;CN="Lastenkulttuurikeskus Verso":MAILTO:julia.vatanen@soisalo-opisto.fi
END:VEVENT
BEGIN:VEVENT
DTSTART;TZID=Europe/Helsinki:20190825T170000
DTEND;TZID=Europe/Helsinki:20190825T180000
DTSTAMP:20260424T114023
CREATED:20190109T063155Z
LAST-MODIFIED:20190109T063155Z
UID:8382-1566752400-1566756000@www.hirvensalmi.fi
SUMMARY:Kunniakierros
DESCRIPTION:BESbswyBESbswyBESbswyBESbswy \nValtakunnallinen KUNNIAKIERROS-tapahtuma seuratoiminnan tukemiseksi.
URL:https://www.hirvensalmi.fi/tapahtuma/kunniakierros-5/
LOCATION:Hirvensalmen urheilukenttä\, Kisatie\, Hirvensalmi\, 52550
ORGANIZER;CN="Hirvensalmen urheilijat":MAILTO:hirvensalmenurheilijat@gmail.com
END:VEVENT
BEGIN:VEVENT
DTSTART;TZID=Europe/Helsinki:20190826T130000
DTEND;TZID=Europe/Helsinki:20190826T150000
DTSTAMP:20260424T114023
CREATED:20190102T060215Z
LAST-MODIFIED:20190102T060215Z
UID:8281-1566824400-1566831600@www.hirvensalmi.fi
SUMMARY:Tehdään yhdessä käsitöitä !
DESCRIPTION:Tehdään yhdessä käsitöitä-päivinä vaihtuia teemoja. Voit ottaa myös oman käsityön mukaan. Kaikki tervetulleita !
URL:https://www.hirvensalmi.fi/tapahtuma/tehdaan-yhdessa-kasitoita-25/
LOCATION:Junnankuja 25 Hirvensalmi
ORGANIZER;CN="Hirvensalmen k%C3%A4sity%C3%B6yhdistys ry":MAILTO:posti@puulanmanuelli.fi
END:VEVENT
END:VCALENDAR