BEGIN:VCALENDAR
VERSION:2.0
PRODID:-//Hirvensalmi - ECPv6.6.4.2//NONSGML v1.0//EN
CALSCALE:GREGORIAN
METHOD:PUBLISH
X-ORIGINAL-URL:https://www.hirvensalmi.fi
X-WR-CALDESC:Tapahtumat Hirvensalmi
REFRESH-INTERVAL;VALUE=DURATION:PT1H
X-Robots-Tag:noindex
X-PUBLISHED-TTL:PT1H
BEGIN:VTIMEZONE
TZID:Europe/Helsinki
BEGIN:DAYLIGHT
TZOFFSETFROM:+0200
TZOFFSETTO:+0300
TZNAME:EEST
DTSTART:20250330T010000
END:DAYLIGHT
BEGIN:STANDARD
TZOFFSETFROM:+0300
TZOFFSETTO:+0200
TZNAME:EET
DTSTART:20251026T010000
END:STANDARD
END:VTIMEZONE
BEGIN:VEVENT
DTSTART;TZID=Europe/Helsinki:20250404T180000
DTEND;TZID=Europe/Helsinki:20250404T200000
DTSTAMP:20260422T135625
CREATED:20250203T071628Z
LAST-MODIFIED:20250211T061327Z
UID:31718-1743789600-1743796800@www.hirvensalmi.fi
SUMMARY:Yhteisvastuu-illanvietto:"Viimeistä   viedään!" Hirvensalmen seuratalolla Pitäjäntie 9
DESCRIPTION:Ohjelmallinen leppoisa illanvietto yhteisvastuukeräyksen hyväksi.\nEsiintyjät “oman kylän osaajia”.\nVäliaikakahvit ja arpajaiset. \nPääsymaksu aikuiset 10€\, alle 16 v 5€ sisältää kahvit
URL:https://www.hirvensalmi.fi/tapahtuma/yhteisvastuu-illanviettoviimeista-viedaan-hirvensalmen-seuratalolla-pitajantie-9/
ORGANIZER;CN="Yhteisvastuuty%C3%B6ryhm%C3%A4":MAILTO:pekurinenmaiju@gmail.com
END:VEVENT
BEGIN:VEVENT
DTSTART;VALUE=DATE:20250405
DTEND;VALUE=DATE:20250407
DTSTAMP:20260422T135625
CREATED:20250303T061338Z
LAST-MODIFIED:20250303T063806Z
UID:31958-1743822000-1743908399@www.hirvensalmi.fi
SUMMARY:Matka Jyväskylän Kädentaitomessuille 5.4.2025
DESCRIPTION:Hirvensalmen Käsityöyhdistys järjestää matkan Jyväskylän Kädentaitomessuille/ Hyvinvointimessuille. Käymme myös Viherlandiassa ja Pandan tehtaan myymälässä.\nLinja-auton reitti josta pääsee matkaan\, Mäntyharju\, Uutela\, Hirvensalmen kunnanvirasto\, Joutsantie…\nIlmoittauduthan mahdollisimman pikaisesti. Matka toteutuu\, jos lähtijöitä 20.\nMatkan hinta 50€/ jäsen ja 55€/ ei jäsen.
URL:https://www.hirvensalmi.fi/tapahtuma/matka-jyvaskylan-kadentaitomessuille-5-4-2025/
LOCATION:Käsityöpuoti Puulan Manuelli\, Junnankuja 25\, Hirvensalmi\, 52550
ORGANIZER;CN="Hirvensalmen k%C3%A4sity%C3%B6yhdistys ry":MAILTO:posti@puulanmanuelli.fi
END:VEVENT
BEGIN:VEVENT
DTSTART;TZID=Europe/Helsinki:20250405T130000
DTEND;TZID=Europe/Helsinki:20250405T140000
DTSTAMP:20260422T135625
CREATED:20250102T052504Z
LAST-MODIFIED:20250102T052509Z
UID:31297-1743858000-1743861600@www.hirvensalmi.fi
SUMMARY:Koirien kynsienleikkuupäivä
DESCRIPTION:Kynsienleikkuupäivä koittaa jälleen\, jolloin pääset tuomaan lemmikkisi kynsienleikkuuseen ilman ajanvarausta! \n• Kynsienleikkuu 12€/koira\n• Tassuhuolto 25€/koira\n(Tassuhuolto sisältää kynsien leikkauksen\, tassukarvojen siistimisen päältä ja anturoiden väleistä\, sekä halutessa tassujen vahauksen) \nTervetuloa kynsienleikkuuseen lauantaina 5.4. klo 13-14! Lemmikit hoidetaan saapumisjärjestyksessä yksi kerrallaan\, joten odotathan vuoroasi trimmaamon oven ulkopuolella. \nKynsienleikkuuseen ovat koirien lisäksi tervetulleita muutkin pieneläimet\, kuten kissat ja kanit. Huomioithan kuitenkin\, että paikalla voi olla muitakin eläimiä.\nOsoite: Koulutie 8 A 6\, Hirvensalmi
URL:https://www.hirvensalmi.fi/tapahtuma/koirien-kynsienleikkuupaiva-11/
LOCATION:Trimmaamo Koiruus\, Koulutie 8 A 6\, Hirvensalmi\, 52550
ATTACH;FMTTYPE=image/png:https://www.hirvensalmi.fi/wp-content/uploads/2024/12/kynsienleikkuupäivä-2-3.png
END:VEVENT
BEGIN:VEVENT
DTSTART;TZID=Europe/Helsinki:20250407T143000
DTEND;TZID=Europe/Helsinki:20250407T153000
DTSTAMP:20260422T135625
CREATED:20250327T082648Z
LAST-MODIFIED:20250404T085840Z
UID:32355-1744036200-1744039800@www.hirvensalmi.fi
SUMMARY:Nuorten avoin kuntosalivuoro
DESCRIPTION:Nuorten avoimia kuntosalivuoroja järjestetään kevätkaudella 2025. Kuntosalilla luvassa on opastusta kuntosaliharjoittelun aloittamiseen\, laitteiden käyttöön ja turvalliseen harjoitteluun. Vuoro on tarkoitettu 14-29v. nuorille. Tervetuloa! \n  \nHUOM! 7.4. vuoro poikkeuksellisesti klo 14:30-15:30
URL:https://www.hirvensalmi.fi/tapahtuma/nuorten-avoin-kuntosalivuoro-6/
LOCATION:Koulukeskuksen kuntosali\, Koulutie 5\, Hirvensalmi\, 52550\, Suomi
END:VEVENT
BEGIN:VEVENT
DTSTART;TZID=Europe/Helsinki:20250409T140000
DTEND;TZID=Europe/Helsinki:20250409T140000
DTSTAMP:20260422T135625
CREATED:20250331T051735Z
LAST-MODIFIED:20250331T051735Z
UID:32382-1744207200-1744207200@www.hirvensalmi.fi
SUMMARY:Liiviesittely yhteisesti pitäjän marttayhdistyksille ke 9.4.25 klo 14.00
DESCRIPTION:Hei\nLiivit Vapuksi!\nTervetuloa pitäjän martat kirkonkylän seurantalolle keskiviikkona 9.4.2025 klo 14.00 tutustumaan Teija Hakun esittelemiin Evelace-tuotteisiin.\nKahvitarjoilu.\nTervetuloa!
URL:https://www.hirvensalmi.fi/tapahtuma/liiviesittely-yhteisesti-pitajan-marttayhdistyksille-ke-9-4-25-klo-14-00/
LOCATION:Hirvensalmen Seuratalo\, Pitäjäntie 7\, Hirvensalmi\, 52550
END:VEVENT
BEGIN:VEVENT
DTSTART;TZID=Europe/Helsinki:20250412T110000
DTEND;TZID=Europe/Helsinki:20250412T140000
DTSTAMP:20260422T135625
CREATED:20241212T061303Z
LAST-MODIFIED:20241212T061303Z
UID:31040-1744455600-1744466400@www.hirvensalmi.fi
SUMMARY:Pääsiäismyyjäiset Puulan Manuellissa
DESCRIPTION:Kotileivonnaisia\, kahvia\, arvontaa\, arvuuttelua. Tervetuloa !
URL:https://www.hirvensalmi.fi/tapahtuma/paasiaismyyjaiset-puulan-manuellissa-5/
LOCATION:Junnankuja 25 Hirvensalmi
ORGANIZER;CN="Hirvensalmen k%C3%A4sity%C3%B6yhdistys ry":MAILTO:posti@puulanmanuelli.fi
END:VEVENT
BEGIN:VEVENT
DTSTART;TZID=Europe/Helsinki:20250414T001300
DTEND;TZID=Europe/Helsinki:20250414T143000
DTSTAMP:20260422T135625
CREATED:20250313T051607Z
LAST-MODIFIED:20250313T051612Z
UID:32168-1744589580-1744641000@www.hirvensalmi.fi
SUMMARY:Omais- ja läheishoitajien vertaistukiryhmä Hirvensalmella
DESCRIPTION:Vertaistukiryhmä kaikille omaistaan ja läheistään hoitaville Hirvensalmella. \nVertaistukiryhmässä voit jakaa kokemuksia luottamuksellisessa ja ymmärtävässä ilmapiirissä toisten läheis- ja omaishoitajien kanssa. Arjen vinkit\, ilot ja surut on helpompi kertoa\, kun vertainen ymmärtää\, mistä on kyse. Ryhmää ohjaa ammattilainen tuoden jokaiselle ryhmäkerralle tietoa\, tehtäviä\, pohdittavaa tai vaikkapa vierailijan. \nSinun ei tarvitse olla sopimusomaishoitaja tai yhdistyksen jäsen\, huoli ja hoivavastuu läheisestä tai omaisesta riittää. \nRyhmä kokoontuu kerran kuussa maanantaisin klo 13-14.30:\n20.1. MsOL: Eloisan palveluohjaaja Anne Hiljanen\n17.2. Muisti\n17.3. MsOL: Sirpa-Helena Pesonen\, vanhus- ja vammaisneuvosto\n14.4. Muisti\n19.5. yhdessä \nLämpimästi tervetuloa!
URL:https://www.hirvensalmi.fi/tapahtuma/omais-ja-laheishoitajien-vertaistukiryhma-hirvensalmella-2/
LOCATION:Seuratalo\, Pitäjäntie 9\, Hirvensalmi\, 52550
ATTACH;FMTTYPE=image/png:https://www.hirvensalmi.fi/wp-content/uploads/2025/03/Hirvensalmi-kevat-2025-Instagram-postaus-1.png
ORGANIZER;CN="Mikkelin seudun Muisti ry":MAILTO:riitta.halonen@msmuisti.fi
END:VEVENT
BEGIN:VEVENT
DTSTART;TZID=Europe/Helsinki:20250414T150000
DTEND;TZID=Europe/Helsinki:20250414T160000
DTSTAMP:20260422T135625
CREATED:20250327T082806Z
LAST-MODIFIED:20250327T082806Z
UID:32357-1744642800-1744646400@www.hirvensalmi.fi
SUMMARY:Avoin kuntosalivuoro
DESCRIPTION:Kuntalaisille avoimet aikuisten ohjatut kuntosalivuorot jatkuvat kevätkaudella 2025. Kuntosalilla luvassa on opastusta kuntosaliharjoittelun aloittamiseen\, laitteiden käyttöön ja turvalliseen harjoitteluun. Tervetuloa!
URL:https://www.hirvensalmi.fi/tapahtuma/avoin-kuntosalivuoro-30/
LOCATION:Koulukeskuksen kuntosali\, Koulutie 5\, Hirvensalmi\, 52550\, Suomi
END:VEVENT
BEGIN:VEVENT
DTSTART;TZID=Europe/Helsinki:20250414T170000
DTEND;TZID=Europe/Helsinki:20250414T180000
DTSTAMP:20260422T135625
CREATED:20250410T045625Z
LAST-MODIFIED:20250410T045629Z
UID:32498-1744650000-1744653600@www.hirvensalmi.fi
SUMMARY:Kylän yhteinen kävelylenkki
DESCRIPTION:Kaikenikäisille ja kuntoisille sopiva yhteinen kävelylenkki. Yhteinen aloitus Sejon baarin pihasta\, mistä lähdemme kiertämään yhdessä sopivan pituisen lenkin/kierroksen. Kävelyn jälkeen mahdollista ostaa omakustanteisesti iltapalaa Sejolta.
URL:https://www.hirvensalmi.fi/tapahtuma/kylan-yhteinen-kavelylenkki/
LOCATION:Sejon Baari\, Hirvensalmentie 39\, Hirvensalmi\, 52550
ATTACH;FMTTYPE=image/png:https://www.hirvensalmi.fi/wp-content/uploads/2025/04/Kylalenkki.png
END:VEVENT
BEGIN:VEVENT
DTSTART;TZID=Europe/Helsinki:20250424T080000
DTEND;TZID=Europe/Helsinki:20250424T170000
DTSTAMP:20260422T135625
CREATED:20241212T061251Z
LAST-MODIFIED:20241212T061251Z
UID:31042-1745481600-1745514000@www.hirvensalmi.fi
SUMMARY:Tehdään yhdessä käsitöitä Puulan Manuellissa
DESCRIPTION:Tehdään yhdessä käsitöitä\, teemana vappu.
URL:https://www.hirvensalmi.fi/tapahtuma/tehdaan-yhdessa-kasitoita-puulan-manuellissa-12/
LOCATION:Junnankuja 25 Hirvensalmi
ORGANIZER;CN="Hirvensalmen k%C3%A4sity%C3%B6yhdistys ry":MAILTO:posti@puulanmanuelli.fi
END:VEVENT
BEGIN:VEVENT
DTSTART;TZID=Europe/Helsinki:20250424T180000
DTEND;TZID=Europe/Helsinki:20250424T190000
DTSTAMP:20260422T135625
CREATED:20250303T061515Z
LAST-MODIFIED:20250303T061520Z
UID:32045-1745517600-1745521200@www.hirvensalmi.fi
SUMMARY:Tervaleppäyhdistys kevätkokous
DESCRIPTION:Tervaleppäyhdistyksen sääntömääräinen kevätkokous pidetään torstaina 24.04\,2025 Kunnanviraston kunnanhallituksen kokoushuoneessa.\nKevätkokouksessa käsitellään sääntömääräiset kevätkokoukselle määrätyt asiat. \nTervetuloa \nKahvitarjoilu
URL:https://www.hirvensalmi.fi/tapahtuma/tervaleppayhdistys-kevatkokous/
LOCATION:Hirvensalmen kunnanvirasto\, Keskustie 2\, Hirvensalmi\, 52550
ORGANIZER;CN="Tervalepp%C3%A4yhdistys ry":MAILTO:tervaleppayhdistys@outlook.com
END:VEVENT
BEGIN:VEVENT
DTSTART;TZID=Europe/Helsinki:20250428T170000
DTEND;TZID=Europe/Helsinki:20250428T180000
DTSTAMP:20260422T135625
CREATED:20250428T045930Z
LAST-MODIFIED:20250428T045930Z
UID:32673-1745859600-1745863200@www.hirvensalmi.fi
SUMMARY:Kylän yhteinen kävelylenkki
DESCRIPTION:Kaikenikäisille ja kuntoisille sopiva yhteinen kävelylenkki. Yhteinen aloitus Sejon baarin pihasta\, mistä lähdemme kiertämään yhdessä sopivan pituisen lenkin/kierroksen. Kävelyn jälkeen mahdollista ostaa omakustanteisesti iltapalaa Sejolta.
URL:https://www.hirvensalmi.fi/tapahtuma/kylan-yhteinen-kavelylenkki-2/
LOCATION:Sejon Baari\, Hirvensalmentie 39\, Hirvensalmi\, 52550
ATTACH;FMTTYPE=image/png:https://www.hirvensalmi.fi/wp-content/uploads/2025/04/Kylalenkki-1.png
END:VEVENT
END:VCALENDAR