BEGIN:VCALENDAR
VERSION:2.0
PRODID:-//Hirvensalmi - ECPv6.6.4.2//NONSGML v1.0//EN
CALSCALE:GREGORIAN
METHOD:PUBLISH
X-WR-CALNAME:Hirvensalmi
X-ORIGINAL-URL:https://www.hirvensalmi.fi
X-WR-CALDESC:Tapahtumat Hirvensalmi
REFRESH-INTERVAL;VALUE=DURATION:PT1H
X-Robots-Tag:noindex
X-PUBLISHED-TTL:PT1H
BEGIN:VTIMEZONE
TZID:Europe/Helsinki
BEGIN:DAYLIGHT
TZOFFSETFROM:+0200
TZOFFSETTO:+0300
TZNAME:EEST
DTSTART:20250330T010000
END:DAYLIGHT
BEGIN:STANDARD
TZOFFSETFROM:+0300
TZOFFSETTO:+0200
TZNAME:EET
DTSTART:20251026T010000
END:STANDARD
END:VTIMEZONE
BEGIN:VEVENT
DTSTART;TZID=Europe/Helsinki:20251201T150000
DTEND;TZID=Europe/Helsinki:20251201T160000
DTSTAMP:20260421T185302
CREATED:20251003T073921Z
LAST-MODIFIED:20251003T073921Z
UID:34176-1764601200-1764604800@www.hirvensalmi.fi
SUMMARY:Nuorten avoin kuntosalivuoro
DESCRIPTION:Kuntalaisille avoimet aikuisten ohjatut kuntosalivuorot jatkuvat syyskaudella 2025. Kuntosalilla luvassa on opastusta kuntosaliharjoittelun aloittamiseen\, laitteiden käyttöön ja turvalliseen harjoitteluun. \nEi ennakkoilmoittautumista. Soita ovikelloa tullessasi. \nTervetuloa!
URL:https://www.hirvensalmi.fi/tapahtuma/nuorten-avoin-kuntosalivuoro-11/
LOCATION:Koulukeskuksen kuntosali\, Koulutie 5\, Hirvensalmi\, 52550\, Suomi
END:VEVENT
BEGIN:VEVENT
DTSTART;TZID=Europe/Helsinki:20251202T113000
DTEND;TZID=Europe/Helsinki:20251202T143000
DTSTAMP:20260421T185302
CREATED:20251106T051244Z
LAST-MODIFIED:20251106T051247Z
UID:34518-1764675000-1764685800@www.hirvensalmi.fi
SUMMARY:Historialuento!
DESCRIPTION:Historialuento Seuratalolla tiistaina 2.12.2025 klo 11.30. Aluksi kahvit ja sen jälkeen Heikki Koljonen puhu mielenkiintoista asiaa liittyen historiaan. Aihe tarkentuu tilaisuuteen mennessä. Tervetuloa!
URL:https://www.hirvensalmi.fi/tapahtuma/historialuento/
LOCATION:Hirvensalmen Seuratalo\, Pitäjäntie 7\, Hirvensalmi\, 52550
ORGANIZER;CN="El%C3%A4keliiton Hirvensalmen yhdistys":MAILTO:jukkamanninen20@gmail.com
END:VEVENT
BEGIN:VEVENT
DTSTART;TZID=Europe/Helsinki:20251204T120000
DTEND;TZID=Europe/Helsinki:20251204T140000
DTSTAMP:20260421T185302
CREATED:20250102T053221Z
LAST-MODIFIED:20250102T053226Z
UID:31226-1764849600-1764856800@www.hirvensalmi.fi
SUMMARY:Makramee kurssi Puulan Manuellissa
DESCRIPTION:Kurssilla teemme makramee solmuilla jouluisen koristeen. Kaikki tervetulleita.
URL:https://www.hirvensalmi.fi/tapahtuma/makramee-kurssi-puulan-manuellissa/
LOCATION:Junnankuja 25 Hirvensalmi
ORGANIZER;CN="Hirvensalmen k%C3%A4sity%C3%B6yhdistys ry":MAILTO:posti@puulanmanuelli.fi
END:VEVENT
BEGIN:VEVENT
DTSTART;TZID=Europe/Helsinki:20251208T120000
DTEND;TZID=Europe/Helsinki:20251208T140000
DTSTAMP:20260421T185302
CREATED:20250102T053201Z
LAST-MODIFIED:20250102T053205Z
UID:31228-1765195200-1765202400@www.hirvensalmi.fi
SUMMARY:Jouluaskartelua Puulan Manuellissa
DESCRIPTION:Tehdään yhdessä pieniä joulukoristeita. Kaikki tervetulleita.
URL:https://www.hirvensalmi.fi/tapahtuma/jouluaskartelua-puulan-manuellissa/
LOCATION:Junnankuja 25 Hirvensalmi
ORGANIZER;CN="Hirvensalmen k%C3%A4sity%C3%B6yhdistys ry":MAILTO:posti@puulanmanuelli.fi
END:VEVENT
BEGIN:VEVENT
DTSTART;TZID=Europe/Helsinki:20251208T130000
DTEND;TZID=Europe/Helsinki:20251208T143000
DTSTAMP:20260421T185302
CREATED:20250808T085830Z
LAST-MODIFIED:20250808T085830Z
UID:33699-1765198800-1765204200@www.hirvensalmi.fi
SUMMARY:Omais- ja läheishoitajien vertaistukiryhmä Hirvensalmella
DESCRIPTION:Vertaistukiryhmä kaikille omaistaan ja läheistään hoitaville Hirvensalmella. \nVertaistukiryhmässä voit jakaa kokemuksia luottamuksellisessa ja ymmärtävässä ilmapiirissä toisten läheis- ja omaishoitajien kanssa. Arjen vinkit\, ilot ja surut on helpompi kertoa\, kun vertainen ymmärtää\, mistä on kyse. \nRyhmää ohjaa ammattilainen tuoden jokaiselle ryhmäkerralle tietoa\, tehtäviä\, pohdittavaa tai vaikkapa vierailijan. \nSinun ei tarvitse olla sopimusomaishoitaja tai yhdistyksen jäsen\, huoli ja hoivavastuu läheisestä tai omaisesta riittää. \nRyhmä toteutetaan yhteistyössä Mikkelin seudun Omaishoitajat ja Läheiset ry:n ja Etelä-Savon Muistiluotsin kanssa. \nRyhmä kokoontuu kerran kuussa maanantaisin klo 13-14.30:\n18.8. MsOL OmaisOiva\n22.9. Muistiluotsi\n20.10. MsOL OmaisOiva\n17.11. Muistiluotsi\n8.12. MsOL OmaisOiva \nLämpimästi tervetuloa!
URL:https://www.hirvensalmi.fi/tapahtuma/omais-ja-laheishoitajien-vertaistukiryhma-hirvensalmella-8/
LOCATION:Hirvensalmen Seuratalo\, Pitäjäntie 7\, Hirvensalmi\, 52550
ATTACH;FMTTYPE=image/png:https://www.hirvensalmi.fi/wp-content/uploads/2025/08/HIRVENSALMI-1-4.png
END:VEVENT
BEGIN:VEVENT
DTSTART;TZID=Europe/Helsinki:20251210T110000
DTEND;TZID=Europe/Helsinki:20251210T150000
DTSTAMP:20260421T185302
CREATED:20251016T040853Z
LAST-MODIFIED:20251016T040853Z
UID:34309-1765364400-1765378800@www.hirvensalmi.fi
SUMMARY:Pikkujoulu!
DESCRIPTION:Eläkeliiton Hirvensalmen yhdistyksen pikkujoulu Ravintola Kissakoskessa keskiviikkona 10.12.2025 klo 11.00
URL:https://www.hirvensalmi.fi/tapahtuma/pikkujoulu-2/
LOCATION:Ravintola Kissakoski\, Vahvamäentie 42\, Hirvensalmi\, 52550
ORGANIZER;CN="El%C3%A4keliiton Hirvensalmen yhdistys":MAILTO:jukkamanninen20@gmail.com
END:VEVENT
BEGIN:VEVENT
DTSTART;TZID=Europe/Helsinki:20251210T160000
DTEND;TZID=Europe/Helsinki:20251210T170000
DTSTAMP:20260421T185302
CREATED:20251128T084504Z
LAST-MODIFIED:20251128T084504Z
UID:34739-1765382400-1765386000@www.hirvensalmi.fi
SUMMARY:Sydänystävällistä tanssia sydämen rytmiin
DESCRIPTION:Kaikille avoin tuokio iloisia seuratansseja kotoa ja kaukaa.\nOhjaamassa tanssinopettaja ja sydän liiton vertaisohjaaja Ensio Koivula
URL:https://www.hirvensalmi.fi/tapahtuma/sydanystavallista-tanssia-sydamen-rytmiin/
LOCATION:Hirvensalmen Seuratalo\, Pitäjäntie 7\, Hirvensalmi\, 52550
END:VEVENT
BEGIN:VEVENT
DTSTART;TZID=Europe/Helsinki:20251211T180000
DTEND;TZID=Europe/Helsinki:20251211T200000
DTSTAMP:20260421T185302
CREATED:20250930T094658Z
LAST-MODIFIED:20250930T094658Z
UID:34138-1765476000-1765483200@www.hirvensalmi.fi
SUMMARY:Pepe Willberg: Kynttilöiden syttyessä - joulukonsertti
DESCRIPTION:Legendaarinen joulukiertue ” Kynttilöiden syttyessä ” Pepe Willbergin joulukiertue saapuu Hirvensalmen kirkkoon 11.12. Ohjelmistossa on luvassa rakkaimpia lapsuuden joululauluja vaikuttavan orkesterin säestyksellä. Pepen yhtyeen muodostaa konserttisaleissa ja kirkoissa oikeuksiin pääsevä kvartetti\, johon lukeutuvat piano\, viulu\, sello ja puhaltimet. Konserteissa kuullaan Pepen tulkintoina muun muassa laulut Arkihuolesi kaikki heitä\, Kun joulu on\, Heinillä härkien kaukalon\, Ave Maria\, Varpunen jouluaamuna\, Maa on niin kaunis ja Oi jouluyö. ”Kauniita ja muistorikkaita joululauluja lapsuudesta on paljon\, mutta luulen\, että olen onnistunut valitsemaan jouluiseen konserttiohjelmistooni ne kaikista rakkaimmat. Olen erittäin onnellinen päästessäni laulamaan niitä muun ohjelmistoni ohella”\, Pepe Willberg kertoo. Tilaisuus on pääsymaksullinen. Lippuja voi ostaa ennakkoon lippu.fi sivustolta 39.90€ tai tuntia ennen tapahtumaa paikanpäältä 40€.
URL:https://www.hirvensalmi.fi/tapahtuma/pepe-willberg-kynttiloiden-syttyessa-joulukonsertti/
LOCATION:Hirvensalmen kirkko\, Kirkkotie 3
END:VEVENT
BEGIN:VEVENT
DTSTART;TZID=Europe/Helsinki:20251213T110000
DTEND;TZID=Europe/Helsinki:20251213T130000
DTSTAMP:20260421T185302
CREATED:20251117T094815Z
LAST-MODIFIED:20251117T094826Z
UID:34609-1765623600-1765630800@www.hirvensalmi.fi
SUMMARY:Marttojen joulumyyjäiset
DESCRIPTION:Perinteiset Pyörnilän Marttojen joulumyyjäiset yhteistyössä Tuukkalan Tempauksen kanssa järjestetään 13.12.25 klo 11-13 Tuukkalan Kylätalolla.\nTule ostamaan ja myymään jouluun liittyviä leivonnaisia\, käsitöitä tai muita lahjaksi sopivia tuotteita.\nOhjelmaa koko perheelle! \nIlmoittaudu myyjäksi Maija Manniselle 23.11.25 mennessä . p. 040 585 7429.\nMyyntipaikka 10 € (maksuton Pyörnilän Marttojen ja Tuukkalan tempauksen jäsenille) \nTERVETULOA!
URL:https://www.hirvensalmi.fi/tapahtuma/marttojen-joulumyyjaiset/
LOCATION:Tuukkalan kylätalo\, Joutsantie 1212\, 52610 Tuukkala
ATTACH;FMTTYPE=image/png:https://www.hirvensalmi.fi/wp-content/uploads/2025/11/Joulumyyjaiset_2025.png
END:VEVENT
BEGIN:VEVENT
DTSTART;TZID=Europe/Helsinki:20251213T170000
DTEND;TZID=Europe/Helsinki:20251213T173000
DTSTAMP:20260421T185302
CREATED:20251112T113924Z
LAST-MODIFIED:20251112T113933Z
UID:34552-1765645200-1765647000@www.hirvensalmi.fi
SUMMARY:Tulikarkelot
DESCRIPTION:Joensuulainen tanssiva tuliteatteri Kuuma Kollektiivi johdattelee katsojat tulen lämpöön ja tanssin taikamaailmaan erityisesti perheen pienemmille suunnatussa esityksessään. Riemukkaassa tanssiteatterin omaisessa tuliesityksessä erilaiset tutut ja vähän tuntemattomatkin eläimet taituroivat tulisoihtujen ja -pyrstöjen kanssa. \nKulttuuri Itää -kehittämistehtävä tukee tapahtuman järjestämistä.
URL:https://www.hirvensalmi.fi/tapahtuma/34552/
LOCATION:Hirvensalmen urheilukenttä\, Kisatie\, Hirvensalmi\, 52550
END:VEVENT
BEGIN:VEVENT
DTSTART;TZID=Europe/Helsinki:20251214T120000
DTEND;TZID=Europe/Helsinki:20251214T130000
DTSTAMP:20260421T185302
CREATED:20251120T114339Z
LAST-MODIFIED:20251120T114410Z
UID:34669-1765713600-1765717200@www.hirvensalmi.fi
SUMMARY:Winter Wonderland – Talven ihmemaa
DESCRIPTION:Winter Wonderland! Talvinen ihmemaa. Sellisti ja laulaja Seeli Toivio esiintyy Hirvensalmen kirkossa sunnuntaina 14.12. klo 12.00. Noin tunninpituisessa konsertissa kuullaan tuttuja joululauluja sekä muutakin musiikkia Järnefeltin Kehtolaulusta Winter Wonderlandiin. Seeli Toivio soittaa yli 200-vuotiasta selloaan ja laulaa soittonsa kanssa yhtäaikaisesti. Selloa sanotaankin usein kuin toiseksi ihmisääneksi – konsertissa soi siis ikään kuin useampi laulaja yhtäaikaa. Kuullaan mm. Oi jouluyö\, Taas kaikki kauniit muistot ja Sylvian joululaulu. Seeli Toivio on musiikin tohtori (Sibelius-Akatemia)\, ja hän on esiintynyt kotimaan lisäksi paljon ulkomailla\, mm. New Yorkin Carnegie Hallissa kahdesti\, Wienin Musikvereinissa\, Amsterdamin Concertgebowssa\, Lontoon Queen Elizabeth Hallissa\, Japanissa kiertueilla sekä laajasti Euroopassa mm. konserttikiertueilla. Seeli ylsi vuoden 2021 Toivo Kuula -laulukilpailussa finaaliin ja voitti erikoispalkinnon. Sello- ja kamarimusiikkikilpailuissa hän on voittanut useita palkintoja monessa maassa. Hirvensalmella hän on tuttu vieras. Tervetuloa sellon ja laulun iltaan. Ohjelma 15 euroa. Sen voi ostaa käteisen lisäksi kortilla ja MobilePaylla; myös levyostoissa käyvät nämä maksutavat.\nwww.seelitoivio.com
URL:https://www.hirvensalmi.fi/tapahtuma/winter-wonderland-talven-ihmemaa/
LOCATION:Hirvensalmen kirkko\, Kirkkotie 3
ATTACH;FMTTYPE=image/jpeg:https://www.hirvensalmi.fi/wp-content/uploads/2025/11/JPG_Juliste_Vaaka_Hirvensalmi_su-14.12.-klo-12.jpg
END:VEVENT
BEGIN:VEVENT
DTSTART;TZID=Europe/Helsinki:20251215T150000
DTEND;TZID=Europe/Helsinki:20251215T160000
DTSTAMP:20260421T185302
CREATED:20251003T074005Z
LAST-MODIFIED:20251003T074005Z
UID:34178-1765810800-1765814400@www.hirvensalmi.fi
SUMMARY:Nuorten avoin kuntosalivuoro
DESCRIPTION:Kuntalaisille avoimet aikuisten ohjatut kuntosalivuorot jatkuvat syyskaudella 2025. Kuntosalilla luvassa on opastusta kuntosaliharjoittelun aloittamiseen\, laitteiden käyttöön ja turvalliseen harjoitteluun. \nEi ennakkoilmoittautumista. Soita ovikelloa tullessasi. \nTervetuloa!
URL:https://www.hirvensalmi.fi/tapahtuma/nuorten-avoin-kuntosalivuoro-12/
LOCATION:Koulukeskuksen kuntosali\, Koulutie 5\, Hirvensalmi\, 52550\, Suomi
END:VEVENT
BEGIN:VEVENT
DTSTART;TZID=Europe/Helsinki:20251216T160000
DTEND;TZID=Europe/Helsinki:20251216T160000
DTSTAMP:20260421T185302
CREATED:20251114T102816Z
LAST-MODIFIED:20251114T102821Z
UID:34605-1765900800-1765900800@www.hirvensalmi.fi
SUMMARY:Kirkonkylän marttojen pikkujoulu ti 16.12.2025
DESCRIPTION:Tänä vuonna vietämme kirkonkylän marttojen pikkujoulua tiistaina 16.12.2025 klo 16. Paikka on Puulanaitta.\nSitovat ilmoittautumiset ma 8.12.2025 mennessä Raija Tantulle p. 050 380 70 55.\nMartat ilmaiseksi ja avecit 31e.
URL:https://www.hirvensalmi.fi/tapahtuma/kirkonkylan-marttojen-pikkujoulu-ti-16-12-2025/
LOCATION:Ravintola Puulanaitta\, Hirvensalmentie 21
END:VEVENT
BEGIN:VEVENT
DTSTART;TZID=Europe/Helsinki:20251218T190000
DTEND;TZID=Europe/Helsinki:20251218T210000
DTSTAMP:20260421T185302
CREATED:20250930T094748Z
LAST-MODIFIED:20250930T094748Z
UID:34140-1766084400-1766091600@www.hirvensalmi.fi
SUMMARY:Olli Halonen: joulukonsertti Hirvensalmen kirkossa
DESCRIPTION:Populaarimusiikistaan tunnettu artisti Olli Halonen tulee konsertoimaan joulunaikana Hirvensalmen kirkkoon. Tämä on mahtava mahdollisuus tulla osallistumaan tunnelmalliseen konserttiin hakemaan joulumieltä ja nauttimaan korkealaatuisesta musiikista. Lippuja voi ostaa lippu.fi sivustolta ennakkoon ja lisäksi lippuja voi ostaa käteisellä myös ovelta konserttipäivänä – 35€. Ovet avataan lipunmyyntiin tuntia ennen konsertin alkua\, eli klo 18.
URL:https://www.hirvensalmi.fi/tapahtuma/olli-halonen-joulukonsertti-hirvensalmen-kirkossa/
LOCATION:Hirvensalmen kirkko\, Kirkkotie 3
END:VEVENT
BEGIN:VEVENT
DTSTART;TZID=Europe/Helsinki:20251222T120000
DTEND;TZID=Europe/Helsinki:20251222T140000
DTSTAMP:20260421T185302
CREATED:20251114T050825Z
LAST-MODIFIED:20251114T050825Z
UID:34558-1766404800-1766412000@www.hirvensalmi.fi
SUMMARY:Kissakosken joulumyyjäiset
DESCRIPTION:Joululaatikoita\, leivonnaisia\, kalaa käsitöitä ja lahjatavaroita myynnissä
URL:https://www.hirvensalmi.fi/tapahtuma/kissakosken-joulumyyjaiset/
LOCATION:Ravintola Kissakoski\, Vahvamäentie 42\, Hirvensalmi\, 52550
ATTACH;FMTTYPE=image/jpeg:https://www.hirvensalmi.fi/wp-content/uploads/2025/11/e9435026-4bd9-4c61-9c1d-06dffd711105.jpeg
END:VEVENT
END:VCALENDAR