BEGIN:VCALENDAR
VERSION:2.0
PRODID:-//Hirvensalmi - ECPv6.6.4.2//NONSGML v1.0//EN
CALSCALE:GREGORIAN
METHOD:PUBLISH
X-ORIGINAL-URL:https://www.hirvensalmi.fi
X-WR-CALDESC:Tapahtumat Hirvensalmi
REFRESH-INTERVAL;VALUE=DURATION:PT1H
X-Robots-Tag:noindex
X-PUBLISHED-TTL:PT1H
BEGIN:VTIMEZONE
TZID:Europe/Helsinki
BEGIN:DAYLIGHT
TZOFFSETFROM:+0200
TZOFFSETTO:+0300
TZNAME:EEST
DTSTART:20260329T010000
END:DAYLIGHT
BEGIN:STANDARD
TZOFFSETFROM:+0300
TZOFFSETTO:+0200
TZNAME:EET
DTSTART:20261025T010000
END:STANDARD
END:VTIMEZONE
BEGIN:VEVENT
DTSTART;TZID=Europe/Helsinki:20260301T140000
DTEND;TZID=Europe/Helsinki:20260301T150000
DTSTAMP:20260421T132209
CREATED:20260220T065709Z
LAST-MODIFIED:20260220T065715Z
UID:35428-1772373600-1772377200@www.hirvensalmi.fi
SUMMARY:Soolotanssikurssi
DESCRIPTION:Tule kokemaan tanssin riemua ja iloa. Ohjaajana Tanssiurheiluliiton ohjaajakoulutuksen käynyt ja Mikkelin Urheilutanssijoihin kuuluva Niina Kärnä. Et tarvitse tanssiparia. Taso kurssille on avoin eli voit olla aloittelija tai jo edistyneempi tanssija. Hinta Hiun jäsenille 5€/krt ja ei-jäsenille 9€/krt\, maksutapa käteinen tai Mobilepay.
URL:https://www.hirvensalmi.fi/tapahtuma/soolotanssikurssi-2/
LOCATION:Hirvensalmen Seuratalo\, Pitäjäntie 7\, Hirvensalmi\, 52550
ORGANIZER;CN="Hirvensalmen urheilijat":MAILTO:hirvensalmenurheilijat@gmail.com
END:VEVENT
BEGIN:VEVENT
DTSTART;TZID=Europe/Helsinki:20260305T140000
DTEND;TZID=Europe/Helsinki:20260305T160000
DTSTAMP:20260421T132209
CREATED:20260219T065116Z
LAST-MODIFIED:20260219T065116Z
UID:35396-1772719200-1772726400@www.hirvensalmi.fi
SUMMARY:Kevytyrittäjyys ja osuuskuntayrittäjyys -webinaari
DESCRIPTION:Kiinnostaako lisätulojen hankkiminen\, yritysidean testaaminen tai itsesi työllistäminen? \nTule mukaan maksuttomaan Teams-webinaariin 5.3. klo 14:00 kuulemaan kevytyrittäjyyden ja/tai osuuskuntayrittäjyyden mahdollisuuksista. \nSisältö sopii kaikille — työssäkäyville\, työnhakijoille\, opiskelijoille\, vanhempainvapaalla oleville ja eläkeläisille. \nHUOM! Ilmoittaudu mukaan viimeistään tiistaina 3.3. tapahtuman verkkosivun kautta. \nTapahtuman järjestää Kehys-hanke.
URL:https://www.hirvensalmi.fi/tapahtuma/kevytyrittajyys-ja-osuuskuntayrittajyys-webinaari/
ATTACH;FMTTYPE=image/jpeg:https://www.hirvensalmi.fi/wp-content/uploads/2026/02/KEHYS_hanke_banneri_logoilla_v2.jpg
ORGANIZER;CN="Kehys-hanke":MAILTO:miia.roos@esedu.fi
END:VEVENT
BEGIN:VEVENT
DTSTART;TZID=Europe/Helsinki:20260309T150000
DTEND;TZID=Europe/Helsinki:20260309T160000
DTSTAMP:20260421T132209
CREATED:20260206T074636Z
LAST-MODIFIED:20260206T074636Z
UID:35310-1773068400-1773072000@www.hirvensalmi.fi
SUMMARY:Avoin kuntosalivuoro
DESCRIPTION:Kuntalaisille avoimet aikuisten ohjatut kuntosalivuorot jatkuvat kevätkaudella 2026. Kuntosalilla luvassa on opastusta kuntosaliharjoittelun aloittamiseen\, laitteiden käyttöön ja turvalliseen harjoitteluun. \nEi ennakkoilmoittautumista. Soita ovikelloa tullessasi. \nTervetuloa!
URL:https://www.hirvensalmi.fi/tapahtuma/avoin-kuntosalivuoro-44/
LOCATION:Koulukeskuksen kuntosali\, Koulutie 5\, Hirvensalmi\, 52550\, Suomi
END:VEVENT
BEGIN:VEVENT
DTSTART;TZID=Europe/Helsinki:20260316T150000
DTEND;TZID=Europe/Helsinki:20260316T160000
DTSTAMP:20260421T132209
CREATED:20260206T074726Z
LAST-MODIFIED:20260206T074726Z
UID:35312-1773673200-1773676800@www.hirvensalmi.fi
SUMMARY:Avoin kuntosalivuoro
DESCRIPTION:Kuntalaisille avoimet aikuisten ohjatut kuntosalivuorot jatkuvat kevätkaudella 2026. Kuntosalilla luvassa on opastusta kuntosaliharjoittelun aloittamiseen\, laitteiden käyttöön ja turvalliseen harjoitteluun. \nEi ennakkoilmoittautumista. Soita ovikelloa tullessasi. \nTervetuloa!
URL:https://www.hirvensalmi.fi/tapahtuma/avoin-kuntosalivuoro-45/
LOCATION:Koulukeskuksen kuntosali\, Koulutie 5\, Hirvensalmi\, 52550\, Suomi
END:VEVENT
BEGIN:VEVENT
DTSTART;TZID=Europe/Helsinki:20260317T113000
DTEND;TZID=Europe/Helsinki:20260317T143000
DTSTAMP:20260421T132209
CREATED:20260309T050240Z
LAST-MODIFIED:20260309T050240Z
UID:35540-1773747000-1773757800@www.hirvensalmi.fi
SUMMARY:Etelä-Afrikan safarilla kuvien kera!
DESCRIPTION:Tervetuloa kuuntelemaan mielenkiintoista matkakertomusta Seuratalolle tiistaina 17.3.2026 klo 11.30. Professori Kari Mielikäisen esitys.\nKahvit tarjolla klo 11.30.
URL:https://www.hirvensalmi.fi/tapahtuma/etela-afrikan-safarilla-kuvien-kera/
LOCATION:Hirvensalmen Seuratalo\, Pitäjäntie 7\, Hirvensalmi\, 52550
ORGANIZER;CN="El%C3%A4keliiton Hirvensalmen yhdistys":MAILTO:jukkamanninen20@gmail.com
END:VEVENT
BEGIN:VEVENT
DTSTART;TZID=Europe/Helsinki:20260319T120000
DTEND;TZID=Europe/Helsinki:20260319T140000
DTSTAMP:20260421T132209
CREATED:20251219T063104Z
LAST-MODIFIED:20251219T063104Z
UID:34936-1773921600-1773928800@www.hirvensalmi.fi
SUMMARY:Pääsiäiskurssi Puulan Manuellissa
DESCRIPTION:Kaikki tervetulleita.
URL:https://www.hirvensalmi.fi/tapahtuma/paasiaiskurssi-puulan-manuellissa/
LOCATION:Junnankuja 25 Hirvensalmi
ORGANIZER;CN="Hirvensalmen k%C3%A4sity%C3%B6yhdistys ry":MAILTO:posti@puulanmanuelli.fi
END:VEVENT
BEGIN:VEVENT
DTSTART;TZID=Europe/Helsinki:20260321T070000
DTEND;TZID=Europe/Helsinki:20260321T220000
DTSTAMP:20260421T132209
CREATED:20260111T141823Z
LAST-MODIFIED:20260111T141823Z
UID:35088-1774076400-1774130400@www.hirvensalmi.fi
SUMMARY:Niverän Tahkon matka
DESCRIPTION:Kylä- ja urheiluseura Niverä järjestää bussimatkan Tahkolle 21.3.2026.\nBussi lähtee Lahaniemen koululta. \nIlmoittautuminen viimeistään1.3.2026.\nLisätietoja ja ilmoittautumiset:\nLahnaniemennivera@gmail.com
URL:https://www.hirvensalmi.fi/tapahtuma/niveran-tahkon-matka/
ATTACH;FMTTYPE=image/png:https://www.hirvensalmi.fi/wp-content/uploads/2026/01/file_00000000343871f4be6d746d7a67114c.png
END:VEVENT
BEGIN:VEVENT
DTSTART;TZID=Europe/Helsinki:20260323T150000
DTEND;TZID=Europe/Helsinki:20260323T160000
DTSTAMP:20260421T132209
CREATED:20260206T074827Z
LAST-MODIFIED:20260206T074827Z
UID:35314-1774278000-1774281600@www.hirvensalmi.fi
SUMMARY:Avoin kuntosalivuoro
DESCRIPTION:Kuntalaisille avoimet aikuisten ohjatut kuntosalivuorot jatkuvat kevätkaudella 2026. Kuntosalilla luvassa on opastusta kuntosaliharjoittelun aloittamiseen\, laitteiden käyttöön ja turvalliseen harjoitteluun. \nEi ennakkoilmoittautumista. Soita ovikelloa tullessasi. \nTervetuloa!
URL:https://www.hirvensalmi.fi/tapahtuma/avoin-kuntosalivuoro-46/
LOCATION:Koulukeskuksen kuntosali\, Koulutie 5\, Hirvensalmi\, 52550\, Suomi
END:VEVENT
BEGIN:VEVENT
DTSTART;TZID=Europe/Helsinki:20260323T160000
DTEND;TZID=Europe/Helsinki:20260323T173000
DTSTAMP:20260421T132209
CREATED:20260302T101753Z
LAST-MODIFIED:20260302T101753Z
UID:35491-1774281600-1774287000@www.hirvensalmi.fi
SUMMARY:Hirvensalmen Kirkonkylän Martat ry:n kevätkokous ma 23.3.2026
DESCRIPTION:Kirkonkylän Martat ry:n kevätkokous on maanantaina 23.3.2026 klo 16.00 kirkonkylän seurantalolla.\nLämpimästi tervetuloa!
URL:https://www.hirvensalmi.fi/tapahtuma/hirvensalmen-kirkonkylan-martat-ryn-kevatkokous-ma-23-3-2026/
END:VEVENT
BEGIN:VEVENT
DTSTART;TZID=Europe/Helsinki:20260326T120000
DTEND;TZID=Europe/Helsinki:20260326T140000
DTSTAMP:20260421T132209
CREATED:20251219T075025Z
LAST-MODIFIED:20251219T075025Z
UID:34999-1774526400-1774533600@www.hirvensalmi.fi
SUMMARY:Tehdään yhdessä käsitöitä Puulan Manuellissa
DESCRIPTION:Kaikki tervetulleita.
URL:https://www.hirvensalmi.fi/tapahtuma/tehdaan-yhdessa-kasitoita-puulan-manuellissa-20/
LOCATION:Junnankuja 25 Hirvensalmi
ORGANIZER;CN="Hirvensalmen k%C3%A4sity%C3%B6yhdistys ry":MAILTO:posti@puulanmanuelli.fi
END:VEVENT
BEGIN:VEVENT
DTSTART;TZID=Europe/Helsinki:20260328T110000
DTEND;TZID=Europe/Helsinki:20260328T130000
DTSTAMP:20260421T132209
CREATED:20251219T075057Z
LAST-MODIFIED:20251219T075057Z
UID:35001-1774695600-1774702800@www.hirvensalmi.fi
SUMMARY:Pääsiäismyyjäiset ja kellonkääntäjäiset Puulan Manuellissa
DESCRIPTION:Kotileivonnaisia ja musiikkia. Kaikki tervetulleita.
URL:https://www.hirvensalmi.fi/tapahtuma/paasiaismyyjaiset-ja-kellonkaantajaiset-puulan-manuellissa/
LOCATION:Junnankuja 25 Hirvensalmi
ORGANIZER;CN="Hirvensalmen k%C3%A4sity%C3%B6yhdistys ry":MAILTO:posti@puulanmanuelli.fi
END:VEVENT
BEGIN:VEVENT
DTSTART;TZID=Europe/Helsinki:20260329T160000
DTEND;TZID=Europe/Helsinki:20260329T170000
DTSTAMP:20260421T132209
CREATED:20260330T042023Z
LAST-MODIFIED:20260330T042023Z
UID:35752-1774800000-1774803600@www.hirvensalmi.fi
SUMMARY:Lasten liikuntakerho 0v. - alle eskari-ikäiset
DESCRIPTION:Lasten liikuntakerho 0v. – alle eskari-ikäiset \nHirvensalmen Urheilijat järjestää lasten liikuntakerhot alle eskari-ikäisille lapsille 24.5.2026 asti sunnuntaisin Hirvensalmen Elomaan koulun liikuntasalissa klo 16-17. Kerho-ohjaajina toimivat Sirja Venäläinen ja Santra Venäläinen. \nLiikuntakerho on avoin ja ILMAINEN niin HiU:n jäsenille kuin myös ei-jäsenille. Vanhemmat voivat halutessaan olla mukana kerhossa. \nTervetuloa mukaan! \nEi ennakkoilmoittautumisia. Lisätietoja: Sirja Venäläinen\, p. 040 5269 979
URL:https://www.hirvensalmi.fi/tapahtuma/lasten-liikuntakerho-0v-alle-eskari-ikaiset-10/
LOCATION:Elomaan koulu\, Koulutie\, 52550 Hirvensalmi\, Hirvensalmi\, 52550
ATTACH;FMTTYPE=image/png:https://www.hirvensalmi.fi/wp-content/uploads/2026/03/2026_kevat_pienten_lasten_liikuntakerho.png
ORGANIZER;CN="Hirvensalmen urheilijat":MAILTO:hirvensalmenurheilijat@gmail.com
END:VEVENT
BEGIN:VEVENT
DTSTART;TZID=Europe/Helsinki:20260331T120000
DTEND;TZID=Europe/Helsinki:20260331T150000
DTSTAMP:20260421T132209
CREATED:20260313T054407Z
LAST-MODIFIED:20260313T054412Z
UID:35577-1774958400-1774969200@www.hirvensalmi.fi
SUMMARY:Matka Sodan ja rauhankeskus Muistiin
DESCRIPTION:Järjestämme tutustumismatkan Sodan ja rauhankeskus Muistiin tiistaina 31.3.26\nLinja-auton aikataulu:\nklo 11.15 Tuukkala\, kylätalo\nklo 11.45 Elomaan koulu\, pysäkki\nklo 12.00 Kunnanvirasto\, takapiha\nPaluu Elomaan koululle klo 15 \nIlmaiseen matkaan kuuluu kyydin lisäksi pääsylippu ja opastettu kierros. Sitovat ilmoittautumiset 22.3.26 mennessä Pirjolle puh. 040-8362997 \nKaikki ovat tervetulleita mukaan!\nTammenlehvän Hirvensalmen perinnetoimikunta
URL:https://www.hirvensalmi.fi/tapahtuma/matka-sodan-ja-rauhankeskus-muistiin/
LOCATION:Sodan ja rauhankeskus Muisti\, Ristimäenkatu 4\, Mikkeli\, 50100
ORGANIZER;CN="Tammenlehv%C3%A4n Hirvensalmen perinnetoimikunta":MAILTO:pirjoa.kiesila@gmail.com
END:VEVENT
BEGIN:VEVENT
DTSTART;TZID=Europe/Helsinki:20260331T170000
DTEND;TZID=Europe/Helsinki:20260331T190000
DTSTAMP:20260421T132209
CREATED:20260324T093848Z
LAST-MODIFIED:20260324T093848Z
UID:35726-1774976400-1774983600@www.hirvensalmi.fi
SUMMARY:Kyläilta
DESCRIPTION:Tilaisuus on tarkoitettu Hirvensalmen kylien yhdistyksille\, toimijoille ja asukkaille. Illan tarkoituksena on kartoittaa kylien tarpeita\, tiloja\, mahdollisuuksia ja resursseja monipuolisesti mm. turvallisuuden\, liikunnan ja hyvinvoinnin suhteen. Paikalla on kunnan toimijoiden (valmius\, vapaa-aika/hyvinvointi\, elinvoima) lisäksi Järvi-Suomen Kylät ry:n kyläturvallisuushanke. \nKahvitarjoilua varten\, ilmoittauduthan tilaisuuteen etukäteen täältä \nTervetuloa!
URL:https://www.hirvensalmi.fi/tapahtuma/kylailta/
LOCATION:Kunnanvirasto\, valtuustosali\, Keskustie 2\, Hirvensalmi\, 52550
END:VEVENT
END:VCALENDAR