BEGIN:VCALENDAR
VERSION:2.0
PRODID:-//Hirvensalmi - ECPv6.6.4.2//NONSGML v1.0//EN
CALSCALE:GREGORIAN
METHOD:PUBLISH
X-WR-CALNAME:Hirvensalmi
X-ORIGINAL-URL:https://www.hirvensalmi.fi
X-WR-CALDESC:Tapahtumat Hirvensalmi
REFRESH-INTERVAL;VALUE=DURATION:PT1H
X-Robots-Tag:noindex
X-PUBLISHED-TTL:PT1H
BEGIN:VTIMEZONE
TZID:Europe/Helsinki
BEGIN:DAYLIGHT
TZOFFSETFROM:+0200
TZOFFSETTO:+0300
TZNAME:EEST
DTSTART:20250330T010000
END:DAYLIGHT
BEGIN:STANDARD
TZOFFSETFROM:+0300
TZOFFSETTO:+0200
TZNAME:EET
DTSTART:20251026T010000
END:STANDARD
END:VTIMEZONE
BEGIN:VEVENT
DTSTART;TZID=Europe/Helsinki:20250607T100000
DTEND;TZID=Europe/Helsinki:20250809T160000
DTSTAMP:20260422T100208
CREATED:20250514T124008Z
LAST-MODIFIED:20250514T124008Z
UID:32933-1749290400-1754755200@www.hirvensalmi.fi
SUMMARY:Taidenäyttely Sirpa Rahdulta Tuukkalan Kesäpuodilla
DESCRIPTION:Sirpa Rahtu on koulutukseltaan muotitaiteilija\, ja se näkyy hänen töissään. Öljy- ja akryylimaalaus on ollut jo vuosia tärkeä luomisen väline. Näyttelyssä on mukana myös muutama kesäinen akvarellimaalaus. Näyttelyyn pääsee tutustumaan Tuukkalan Kesäpuodin kahviossa kesäaikaan puodin aukioloaikoina eli keskiviikosta lauantaihin klo 10-16 (ei juhannuslauantaina 21.6.\, mutta auki puolestaan sunnuntaina 22.6.)
URL:https://www.hirvensalmi.fi/tapahtuma/taidenayttely-sirpa-rahdulta-tuukkalan-kesapuodilla/
LOCATION:Tuukkalan kesäpuoti\, Joutsantie 1212\, Hirvensalmi\, Etelä-Savo\, 52610\, Suomi
ATTACH;FMTTYPE=image/jpeg:https://www.hirvensalmi.fi/wp-content/uploads/2025/05/kukkia.jpg
END:VEVENT
BEGIN:VEVENT
DTSTART;TZID=Europe/Helsinki:20250701T100000
DTEND;TZID=Europe/Helsinki:20250731T170000
DTSTAMP:20260422T100208
CREATED:20250102T053142Z
LAST-MODIFIED:20250102T053148Z
UID:31234-1751364000-1753981200@www.hirvensalmi.fi
SUMMARY:Pop-up studio Kissakoski
DESCRIPTION:Kissakosken kauniissa yläsalissa koko heinäkuun pilatesta\, kehonhuoltoa\, jumppaa\, rentoutusta\,päiväretriittejä ja monipuolista liikuntaa.
URL:https://www.hirvensalmi.fi/tapahtuma/pop-up-studio-kissakoski/
LOCATION:Kissakosken tehdas\, Vahvamäentie 42
ATTACH;FMTTYPE=image/jpeg:https://www.hirvensalmi.fi/wp-content/uploads/2024/12/IMG_2942.jpeg
ORGANIZER;CN="Studio Martta":MAILTO:satu@studiomartta.fi
END:VEVENT
BEGIN:VEVENT
DTSTART;TZID=Europe/Helsinki:20250704T100000
DTEND;TZID=Europe/Helsinki:20250731T170000
DTSTAMP:20260422T100208
CREATED:20250102T052436Z
LAST-MODIFIED:20250102T052442Z
UID:31194-1751623200-1753981200@www.hirvensalmi.fi
SUMMARY:Vuoden 2025 parhaan pelätin äänestys Junnankuja 25 Hirvensalmi
DESCRIPTION:Kaikki tervetulleita äänestämään vuoden 2025 parasta pelättiä. Äänestysaika 4.7.2025 – 31.7.2025
URL:https://www.hirvensalmi.fi/tapahtuma/vuoden-2025-parhaan-pelatin-aanestys-junnankuja-25-hirvensalmi/
LOCATION:Junnankuja 25 Hirvensalmi
ORGANIZER;CN="Hirvensalmen k%C3%A4sity%C3%B6yhdistys ry":MAILTO:posti@puulanmanuelli.fi
END:VEVENT
BEGIN:VEVENT
DTSTART;TZID=Europe/Helsinki:20250704T100000
DTEND;TZID=Europe/Helsinki:20250830T140000
DTSTAMP:20260422T100208
CREATED:20250102T055209Z
LAST-MODIFIED:20250102T055214Z
UID:31191-1751623200-1756562400@www.hirvensalmi.fi
SUMMARY:"MUISTATKO...koulukäsityöt" Kirkonkylän koulu 100 vuotta käsityönäyttely
DESCRIPTION:Kirkonkylän koulu 100 vuotta juhlanäyttelyssä koulukäsitöitä eri vuosikymmeniltä. Junnankuja 25 Hirvensalmi.
URL:https://www.hirvensalmi.fi/tapahtuma/muistatko-koulukasityot-kirkonkylan-koulu-100-vuotta-kasityonayttely/
LOCATION:Junnankuja 25 Hirvensalmi
ORGANIZER;CN="Hirvensalmen k%C3%A4sity%C3%B6yhdistys ry":MAILTO:posti@puulanmanuelli.fi
END:VEVENT
BEGIN:VEVENT
DTSTART;TZID=Europe/Helsinki:20250722T090000
DTEND;TZID=Europe/Helsinki:20250722T160000
DTSTAMP:20260422T100208
CREATED:20250703T100121Z
LAST-MODIFIED:20250703T100121Z
UID:33436-1753174800-1753200000@www.hirvensalmi.fi
SUMMARY:Suurtoripäivä Hirvensalmella
DESCRIPTION:Suurtoripäivä tuo perinteistä\, mukavaa toritunnelmaa paikkakunnalle noin 20 kauppiaan porukalla. Suomen Tapahtumatrio oy:n Suurtoripäivä on isompi toripäivä kuin useimmilla paikkakunnilla toripäivät normaalisti\, mutta pienemmät kuin markkinat. Siksipä me ollaankin koottu tämä meidän oma kauppiasporukka erilaisten tuotteiden myyjistä\, että saadaan tarjottua teille mahdollisimman laaja ja monipuolinen kattaus.\nTervetuloa nauttimaan mukavasta toritunnelmasta!
URL:https://www.hirvensalmi.fi/tapahtuma/suurtoripaiva-hirvensalmella-2/
LOCATION:Hirvensalmen tori
ATTACH;FMTTYPE=image/png:https://www.hirvensalmi.fi/wp-content/uploads/2025/07/Visit-kuva-20-2025-kesa.png
ORGANIZER;CN="Suomen Tapahtumatrio oy":MAILTO:tapahtumatrio@gmail.com
END:VEVENT
BEGIN:VEVENT
DTSTART;VALUE=DATE:20250724
DTEND;VALUE=DATE:20250726
DTSTAMP:20260422T100208
CREATED:20250102T055148Z
LAST-MODIFIED:20250102T055153Z
UID:31196-1753326000-1753412399@www.hirvensalmi.fi
SUMMARY:Käsityöyhdistyksen kesäretki
DESCRIPTION:Kaikki tervetulleita Hirvensalmen Käsityöyhdistyksen järjestämälle kesäretkelle.
URL:https://www.hirvensalmi.fi/tapahtuma/kasityoyhdistyksen-kesaretki-4/
LOCATION:Junnankuja 25 Hirvensalmi
ORGANIZER;CN="Hirvensalmen k%C3%A4sity%C3%B6yhdistys ry":MAILTO:posti@puulanmanuelli.fi
END:VEVENT
BEGIN:VEVENT
DTSTART;TZID=Europe/Helsinki:20250724T180000
DTEND;TZID=Europe/Helsinki:20250724T203000
DTSTAMP:20260422T100208
CREATED:20250701T085758Z
LAST-MODIFIED:20250701T085758Z
UID:33397-1753380000-1753389000@www.hirvensalmi.fi
SUMMARY:Kesäteatteriesitys "Voihan Elämän Kevät!!"
DESCRIPTION:”Voihan Elämän Kevät!” kertoo ajankohtaisen ja samalla riemastuttavan tarinan hoivakoti Elämän Keväästä\, joka joudutaan sulkemaan säästösyistä. Hoivakodin asukkaat ja henkilökunta\, jotka ovat tottuneet rauhalliseen elämänmenoon ovatkin yhtäkkiä uuden edessä. Tarina alkaa\, kun hoivakodin asukkaille ilmoitetaan kodin lakkautuksesta ja siitä\, että heille etsitään uusia työmahdollisuuksia. Idean äitinä on urahakuinen työ- ja terveysministeri Peipponen konsultteineen. Kuinkahan käy? Lopputulos yllättää kaikki.
URL:https://www.hirvensalmi.fi/tapahtuma/kesateatteriesitys-voihan-elaman-kevat-3/
LOCATION:Hirvensalmen Seuratalo\, Pitäjäntie 7\, Hirvensalmi\, 52550
ATTACH;FMTTYPE=image/png:https://www.hirvensalmi.fi/wp-content/uploads/2025/06/Elamankevat2_es-2.png
END:VEVENT
BEGIN:VEVENT
DTSTART;TZID=Europe/Helsinki:20250724T190000
DTEND;TZID=Europe/Helsinki:20250724T200000
DTSTAMP:20260422T100208
CREATED:20250414T100515Z
LAST-MODIFIED:20250414T100828Z
UID:32541-1753383600-1753387200@www.hirvensalmi.fi
SUMMARY:Cello Night
DESCRIPTION:Seeli Toivio on tunnettu sellisti ja laulaja\, joka liikkuu ketterästi klassisen laulun ja sellonsoiton sekä viihdemusiikin parissa. Tässä konsertissa soi Toivion laulun lisäksi moderni sähkösello sekä vanha sello vuodelta 1810. Ohjelmassa on monipuolinen kattaus tyylikästä elokuvamusiikkia\, yllättäviä viihdelauluja\, voimakasta teknoa sekä klassista. Seeli Toivio on musiikin tohtori (Sibelius-Akatemia) ja hän on esiintynyt kotimaassa sekä ulkomailla laajasti. \nLiput 20e aikuiset\, lapset ilmaiseksi. \nYhteistyössä: Hirvensalmen seurakunta \nLiput ovelta. Käteinen\, MobilePay\, kortit.
URL:https://www.hirvensalmi.fi/tapahtuma/cello-night/
LOCATION:Hirvensalmen kirkko\, Kirkkotie 3
END:VEVENT
BEGIN:VEVENT
DTSTART;TZID=Europe/Helsinki:20250725T170000
DTEND;TZID=Europe/Helsinki:20250726T230000
DTSTAMP:20260422T100208
CREATED:20241202T052005Z
LAST-MODIFIED:20241202T052005Z
UID:30914-1753462800-1753570800@www.hirvensalmi.fi
SUMMARY:Sejon Sutinat 2025
DESCRIPTION:Kaksi päiväinen minifestari Sejon Baarin piha-alueella heinäkuun viimeinen viikonloppu\, jossa esiintyy useampi huippu artisti. Alueella on myös ruoka ja anniskelu pisteet.\nLiput ovat myynnissä 9.12 alkaen nettilippu.fi / Sejon Baari.
URL:https://www.hirvensalmi.fi/tapahtuma/sejon-sutinat-2025/
LOCATION:Sejon Baari\, Hirvensalmentie 39\, Hirvensalmi\, 52550
ATTACH;FMTTYPE=image/jpeg:https://www.hirvensalmi.fi/wp-content/uploads/2024/11/Screenshot_2024-11-07-18-19-14-90_4a24d271e133915ae237d4bec6ffe3682.jpg
ORGANIZER;CN="Sejon Baari":MAILTO:sejonbaari@hotmail.com
END:VEVENT
BEGIN:VEVENT
DTSTART;TZID=Europe/Helsinki:20250726T120000
DTEND;TZID=Europe/Helsinki:20250726T150000
DTSTAMP:20260422T100208
CREATED:20250526T041710Z
LAST-MODIFIED:20250602T043832Z
UID:33044-1753531200-1753542000@www.hirvensalmi.fi
SUMMARY:Turvallisesti taipaleenkin takana Ripatin kesätapahtuma
DESCRIPTION:Tapahtuman teemana on varautuminen ja kodin huoltovarmuus.\n* Kotivara 72h\n* Sammutusopastusta\n* Yrttineuvontaa\n* Marttojen maittava buffetti\n* Arpajaiset
URL:https://www.hirvensalmi.fi/tapahtuma/turvallisesti-taipaleenkin-takana-ripatin-kesatapahtuma/
LOCATION:Ripatin Seuratalo\, Hämeenmäentie 412\, Hirvensalmi\, 52550
END:VEVENT
BEGIN:VEVENT
DTSTART;TZID=Europe/Helsinki:20250728T120000
DTEND;TZID=Europe/Helsinki:20250804T180000
DTSTAMP:20260422T100208
CREATED:20250102T053116Z
LAST-MODIFIED:20250804T114425Z
UID:31237-1753704000-1754330400@www.hirvensalmi.fi
SUMMARY:Pop-up Kahvila Martta
DESCRIPTION:Itseleivottuja herkkuja luonnon antimia hyödyntäen. Nauti tunnelmallisen Studio Martan miljöössä.
URL:https://www.hirvensalmi.fi/tapahtuma/pop-up-kahvila-martta/
LOCATION:Studio Martta\, Herkkutie 18\, Hirvensalmi\, 52550\, Suomi
ATTACH;FMTTYPE=image/jpeg:https://www.hirvensalmi.fi/wp-content/uploads/2024/12/IMG_2942-1.jpeg
ORGANIZER;CN="Studio Martta":MAILTO:satu@studiomartta.fi
END:VEVENT
BEGIN:VEVENT
DTSTART;TZID=Europe/Helsinki:20250731T120000
DTEND;TZID=Europe/Helsinki:20250731T140000
DTSTAMP:20260422T100208
CREATED:20250102T055126Z
LAST-MODIFIED:20250102T055131Z
UID:31200-1753963200-1753970400@www.hirvensalmi.fi
SUMMARY:Tehdään yhdessä käsitöitä Puulan Manuellissa
DESCRIPTION:Kaikki tervetulleita tehdään yhdessä käsitöitä päivään.
URL:https://www.hirvensalmi.fi/tapahtuma/tehdaan-yhdessa-kasitoita-puulan-manuellissa-18/
LOCATION:Junnankuja 25 Hirvensalmi
ORGANIZER;CN="Hirvensalmen k%C3%A4sity%C3%B6yhdistys ry":MAILTO:posti@puulanmanuelli.fi
END:VEVENT
BEGIN:VEVENT
DTSTART;TZID=Europe/Helsinki:20250731T140000
DTEND;TZID=Europe/Helsinki:20250731T160000
DTSTAMP:20260422T100208
CREATED:20250724T045309Z
LAST-MODIFIED:20250724T045309Z
UID:33528-1753970400-1753977600@www.hirvensalmi.fi
SUMMARY:Kirkkovenesoutu !
DESCRIPTION:Tule kokemaan soutu kirkkoveneellä torstaina 31.7.2025 klo 14.00. Lähtö Pappilanniemen kirkkovenekatokselta. Ilmoita halukkuutesi Martti Rummukaiselle puh.0407577252. Ilmoittautumisjärjestyksessä 14 ensimmäistä pääsee mukaan. Tervetuloa kesäiseen soututapahtumaan!
URL:https://www.hirvensalmi.fi/tapahtuma/kirkkovenesoutu/
LOCATION:Ryökäs\, Hirvensalmi\, Hirvensalmi\, Finland
END:VEVENT
BEGIN:VEVENT
DTSTART;TZID=Europe/Helsinki:20250801T180000
DTEND;TZID=Europe/Helsinki:20250801T203000
DTSTAMP:20260422T100208
CREATED:20250701T090221Z
LAST-MODIFIED:20250701T090221Z
UID:33400-1754071200-1754080200@www.hirvensalmi.fi
SUMMARY:Kesäteatteriesitys "Voihan Elämän Kevät!!"
DESCRIPTION:”Voihan Elämän Kevät!” kertoo ajankohtaisen ja samalla riemastuttavan tarinan hoivakoti Elämän Keväästä\, joka joudutaan sulkemaan säästösyistä. Hoivakodin asukkaat ja henkilökunta\, jotka ovat tottuneet rauhalliseen elämänmenoon ovatkin yhtäkkiä uuden edessä. Tarina alkaa\, kun hoivakodin asukkaille ilmoitetaan kodin lakkautuksesta ja siitä\, että heille etsitään uusia työmahdollisuuksia. Idean äitinä on urahakuinen työ- ja terveysministeri Peipponen konsultteineen. Kuinkahan käy? Lopputulos yllättää kaikki.
URL:https://www.hirvensalmi.fi/tapahtuma/kesateatteriesitys-voihan-elaman-kevat-4/
LOCATION:Satulinna\, Yrttitie 21\, Hirvensalmi\, 52550
ATTACH;FMTTYPE=image/png:https://www.hirvensalmi.fi/wp-content/uploads/2025/06/Elamankevat2_es-3.png
END:VEVENT
BEGIN:VEVENT
DTSTART;TZID=Europe/Helsinki:20250802T110000
DTEND;TZID=Europe/Helsinki:20250802T130000
DTSTAMP:20260422T100208
CREATED:20250102T055105Z
LAST-MODIFIED:20250102T055115Z
UID:31202-1754132400-1754139600@www.hirvensalmi.fi
SUMMARY:Kansallispukujen tuuletus ja pelättien palkitseminen
DESCRIPTION:Kaikki tervetulleita tuulettamaan kansallispukuja\, kansanpukuja\, muinaispukuja taikka kukkamekkoa. Asu vapaa.\nKello 12 pelättien palkitseminen.
URL:https://www.hirvensalmi.fi/tapahtuma/kansallispukujen-tuuletus-ja-pelattien-palkitseminen/
LOCATION:Junnankuja 25 Hirvensalmi
ORGANIZER;CN="Hirvensalmen k%C3%A4sity%C3%B6yhdistys ry":MAILTO:posti@puulanmanuelli.fi
END:VEVENT
BEGIN:VEVENT
DTSTART;TZID=Europe/Helsinki:20250802T140000
DTEND;TZID=Europe/Helsinki:20250802T163000
DTSTAMP:20260422T100208
CREATED:20250701T090234Z
LAST-MODIFIED:20250701T090234Z
UID:33403-1754143200-1754152200@www.hirvensalmi.fi
SUMMARY:Kesäteatteriesitys "Voihan Elämän Kevät!!"
DESCRIPTION:”Voihan Elämän Kevät!” kertoo ajankohtaisen ja samalla riemastuttavan tarinan hoivakoti Elämän Keväästä\, joka joudutaan sulkemaan säästösyistä. Hoivakodin asukkaat ja henkilökunta\, jotka ovat tottuneet rauhalliseen elämänmenoon ovatkin yhtäkkiä uuden edessä. Tarina alkaa\, kun hoivakodin asukkaille ilmoitetaan kodin lakkautuksesta ja siitä\, että heille etsitään uusia työmahdollisuuksia. Idean äitinä on urahakuinen työ- ja terveysministeri Peipponen konsultteineen. Kuinkahan käy? Lopputulos yllättää kaikki.
URL:https://www.hirvensalmi.fi/tapahtuma/kesateatteriesitys-voihan-elaman-kevat-5/
LOCATION:Satulinna\, Yrttitie 21\, Hirvensalmi\, 52550
ATTACH;FMTTYPE=image/png:https://www.hirvensalmi.fi/wp-content/uploads/2025/06/Elamankevat2_es-4.png
END:VEVENT
BEGIN:VEVENT
DTSTART;TZID=Europe/Helsinki:20250803T140000
DTEND;TZID=Europe/Helsinki:20250803T163000
DTSTAMP:20260422T100208
CREATED:20250701T092924Z
LAST-MODIFIED:20250724T045929Z
UID:33406-1754229600-1754238600@www.hirvensalmi.fi
SUMMARY:Kesäteatteriesitys "Voihan Elämän Kevät!!"
DESCRIPTION:”Voihan Elämän Kevät!” kertoo ajankohtaisen ja samalla riemastuttavan tarinan hoivakoti Elämän Keväästä\, joka joudutaan sulkemaan säästösyistä. Hoivakodin asukkaat ja henkilökunta\, jotka ovat tottuneet rauhalliseen elämänmenoon ovatkin yhtäkkiä uuden edessä. Tarina alkaa\, kun hoivakodin asukkaille ilmoitetaan kodin lakkautuksesta ja siitä\, että heille etsitään uusia työmahdollisuuksia. Idean äitinä on urahakuinen työ- ja terveysministeri Peipponen konsultteineen. Kuinkahan käy? Lopputulos yllättää kaikki.
URL:https://www.hirvensalmi.fi/tapahtuma/kesateatteriesitys-voihan-elaman-kevat-7/
LOCATION:Satulinna\, Yrttitie 21\, Hirvensalmi\, 52550
ATTACH;FMTTYPE=image/png:https://www.hirvensalmi.fi/wp-content/uploads/2025/06/Elamankevat2_es-5.png
END:VEVENT
BEGIN:VEVENT
DTSTART;TZID=Europe/Helsinki:20250805T180000
DTEND;TZID=Europe/Helsinki:20250805T200000
DTSTAMP:20260422T100208
CREATED:20250506T092944Z
LAST-MODIFIED:20250506T092944Z
UID:32807-1754416800-1754424000@www.hirvensalmi.fi
SUMMARY:Lasten yleisurheilukilpailut
DESCRIPTION:Metsä Group -seurakisat\, 2-ottelu\, lajeina juoksu + pituus.
URL:https://www.hirvensalmi.fi/tapahtuma/lasten-yleisurheilukilpailut/
LOCATION:Hirvensalmen urheilukenttä\, Kisatie\, Hirvensalmi\, 52550
ORGANIZER;CN="Hirvensalmen urheilijat":MAILTO:hirvensalmenurheilijat@gmail.com
END:VEVENT
BEGIN:VEVENT
DTSTART;TZID=Europe/Helsinki:20250806T100000
DTEND;TZID=Europe/Helsinki:20250806T140000
DTSTAMP:20260422T100208
CREATED:20250725T041441Z
LAST-MODIFIED:20250725T041441Z
UID:33547-1754474400-1754488800@www.hirvensalmi.fi
SUMMARY:Liikuntapäivä!
DESCRIPTION:Eläkeliiton Etelä-Savon liikuntapäivä Hirvensalmen Urheilukentällä alkaen klo 10-\nPäivässä käydään myös Mölkkymestaruus-kisa.\nKentällä tarjolla keittoa hintaan 5 € ja kahvia\, pullaa sämpylöitä ym. sekä grillimakkaraa\nPäivän aikana mukavaa leikkimielistä liikuntaa kaikenkuntoisille.\nTervetuloa!
URL:https://www.hirvensalmi.fi/tapahtuma/liikuntapaiva/
LOCATION:Hirvensalmen urheilukenttä\, Kisatie\, Hirvensalmi\, 52550
END:VEVENT
BEGIN:VEVENT
DTSTART;TZID=Europe/Helsinki:20250807T120000
DTEND;TZID=Europe/Helsinki:20250807T140000
DTSTAMP:20260422T100208
CREATED:20250102T055050Z
LAST-MODIFIED:20250102T055110Z
UID:31205-1754568000-1754575200@www.hirvensalmi.fi
SUMMARY:Kivikoristeet kurssi
DESCRIPTION:Kurssilla koristellaan kiviä. Kaikki tervetulleita.
URL:https://www.hirvensalmi.fi/tapahtuma/kivikoristeet-kurssi/
LOCATION:Junnankuja 25 Hirvensalmi
ORGANIZER;CN="Hirvensalmen k%C3%A4sity%C3%B6yhdistys ry":MAILTO:posti@puulanmanuelli.fi
END:VEVENT
BEGIN:VEVENT
DTSTART;TZID=Europe/Helsinki:20250808T190000
DTEND;TZID=Europe/Helsinki:20250808T200000
DTSTAMP:20260422T100208
CREATED:20250102T052658Z
LAST-MODIFIED:20250505T051429Z
UID:31275-1754679600-1754683200@www.hirvensalmi.fi
SUMMARY:Arja Koriseva: kirkkokonsertti
DESCRIPTION:Kansan rakastama artisti Arja Koriseva tulee vierailemaan Hirvensalmen tunnelmalliseen kirkkoon kesällä 2025.\nKonsertin hinnasto: aikuiset 25€ + käsittelymaksu\,  nuoret 15€ (alle 18v.) + käsittelymaksu ja lapset 0€ (alle 10v.). \nLämpimästi tervetuloa nauttimaan korkeatasoisesta esiintymisestä ja musiikista. \nhttps://www.lippuagentti.fi/event/view?id=6033 \n 
URL:https://www.hirvensalmi.fi/tapahtuma/arja-koriseva-kirkkokonsertti/
LOCATION:Hirvensalmen kirkko\, Kirkkotie 3
END:VEVENT
BEGIN:VEVENT
DTSTART;TZID=Europe/Helsinki:20250808T190000
DTEND;TZID=Europe/Helsinki:20250808T213000
DTSTAMP:20260422T100208
CREATED:20250701T090253Z
LAST-MODIFIED:20250724T045910Z
UID:33409-1754679600-1754688600@www.hirvensalmi.fi
SUMMARY:Kesäteatteriesitys "Voihan Elämän Kevät!!"
DESCRIPTION:”Voihan Elämän Kevät!” kertoo ajankohtaisen ja samalla riemastuttavan tarinan hoivakoti Elämän Keväästä\, joka joudutaan sulkemaan säästösyistä. Hoivakodin asukkaat ja henkilökunta\, jotka ovat tottuneet rauhalliseen elämänmenoon ovatkin yhtäkkiä uuden edessä. Tarina alkaa\, kun hoivakodin asukkaille ilmoitetaan kodin lakkautuksesta ja siitä\, että heille etsitään uusia työmahdollisuuksia. Idean äitinä on urahakuinen työ- ja terveysministeri Peipponen konsultteineen. Kuinkahan käy? Lopputulos yllättää kaikki.
URL:https://www.hirvensalmi.fi/tapahtuma/kesateatteriesitys-voihan-elaman-kevat-6/
LOCATION:Kuitulan vanha saha\, Pehemäentie 1\, Tuukkala\, 52610\, Finland
ATTACH;FMTTYPE=image/png:https://www.hirvensalmi.fi/wp-content/uploads/2025/06/Elamankevat2_es-6.png
END:VEVENT
BEGIN:VEVENT
DTSTART;TZID=Europe/Helsinki:20250809T120000
DTEND;TZID=Europe/Helsinki:20250809T150000
DTSTAMP:20260422T100208
CREATED:20250617T061548Z
LAST-MODIFIED:20250617T061548Z
UID:33283-1754740800-1754751600@www.hirvensalmi.fi
SUMMARY:RIPATIN KANSAKOULUA KÄYNEET !
DESCRIPTION:Tapaaminen Ripatin koululla lauantaina 9.8.2025 klo 12-15.\nHämeenmäentie 412. \nTERVETULOA!
URL:https://www.hirvensalmi.fi/tapahtuma/ripatin-kansakoulua-kayneet-7/
END:VEVENT
BEGIN:VEVENT
DTSTART;TZID=Europe/Helsinki:20250815T190000
DTEND;TZID=Europe/Helsinki:20250815T220000
DTSTAMP:20260422T100208
CREATED:20250515T115031Z
LAST-MODIFIED:20250515T115045Z
UID:32965-1755284400-1755295200@www.hirvensalmi.fi
SUMMARY:Karaoke-lauluilta Tuukkalan Kylätalolla
DESCRIPTION:Laulamme yksin ja yhdessä karaokea Tuukkalan Kylätalolla elokuisissa tunnelmissa. \nKahvibuffet\nPääsymaksu 5 € (jäsenet maksutta) \nTERVETULOA!
URL:https://www.hirvensalmi.fi/tapahtuma/karaoke-lauluilta-tuukkalan-kylatalolla-2/
LOCATION:Tuukkalan kylätalo\, Joutsantie 1212\, 52610 Tuukkala
ATTACH;FMTTYPE=image/png:https://www.hirvensalmi.fi/wp-content/uploads/2025/05/Karaokeilmoitus_kesa2.png
END:VEVENT
BEGIN:VEVENT
DTSTART;TZID=Europe/Helsinki:20250818T130000
DTEND;TZID=Europe/Helsinki:20250818T143000
DTSTAMP:20260422T100208
CREATED:20250808T085554Z
LAST-MODIFIED:20250808T085554Z
UID:33685-1755522000-1755527400@www.hirvensalmi.fi
SUMMARY:Omais- ja läheishoitajien vertaistukiryhmä Hirvensalmella
DESCRIPTION:Vertaistukiryhmä kaikille omaistaan ja läheistään hoitaville Hirvensalmella. \nVertaistukiryhmässä voit jakaa kokemuksia luottamuksellisessa ja ymmärtävässä ilmapiirissä toisten läheis- ja omaishoitajien kanssa. Arjen vinkit\, ilot ja surut on helpompi kertoa\, kun vertainen ymmärtää\, mistä on kyse. \nRyhmää ohjaa ammattilainen tuoden jokaiselle ryhmäkerralle tietoa\, tehtäviä\, pohdittavaa tai vaikkapa vierailijan. \nSinun ei tarvitse olla sopimusomaishoitaja tai yhdistyksen jäsen\, huoli ja hoivavastuu läheisestä tai omaisesta riittää. \nRyhmä toteutetaan yhteistyössä Mikkelin seudun Omaishoitajat ja läheiset ry ja Etelä-Savon Muistiluotsin kanssa. \nRyhmä kokoontuu kerran kuussa maanantaisin klo 13-14.30:\n18.8. MsOL OmaisOiva\n22.9. Muistiluotsi\n20.10. MsOL OmaisOiva\n17.11. Muistiluotsi\n8.12. MsOL OmaisOiva \nLämpimästi tervetuloa!
URL:https://www.hirvensalmi.fi/tapahtuma/omais-ja-laheishoitajien-vertaistukiryhma-hirvensalmella-4/
LOCATION:Hirvensalmen Seuratalo\, Pitäjäntie 7\, Hirvensalmi\, 52550
ATTACH;FMTTYPE=image/png:https://www.hirvensalmi.fi/wp-content/uploads/2025/08/HIRVENSALMI-1.png
END:VEVENT
BEGIN:VEVENT
DTSTART;TZID=Europe/Helsinki:20250821T170000
DTEND;TZID=Europe/Helsinki:20250821T180000
DTSTAMP:20260422T100208
CREATED:20250806T102547Z
LAST-MODIFIED:20250806T102547Z
UID:33658-1755795600-1755799200@www.hirvensalmi.fi
SUMMARY:Mikkelin kaupunginorkesterin konsertti
DESCRIPTION:
URL:https://www.hirvensalmi.fi/tapahtuma/mikkelin-kaupunginorkesterin-konsertti/
LOCATION:Ravintola Kissakoski\, Vahvamäentie 42\, Hirvensalmi\, 52550
END:VEVENT
BEGIN:VEVENT
DTSTART;TZID=Europe/Helsinki:20250822T190000
DTEND;TZID=Europe/Helsinki:20250822T200000
DTSTAMP:20260422T100208
CREATED:20250102T052640Z
LAST-MODIFIED:20250505T051802Z
UID:31277-1755889200-1755892800@www.hirvensalmi.fi
SUMMARY:Pepe Willberg: kirkkokonsertti
DESCRIPTION:Koko kansan rakastama ja arvostama artisti Pepe Willberg tulee vierailemaan Hirvensalmen kirkkoon konsertilla kesällä 2025. Tätä konserttia ei kannata jättää väliin. \nKonsertin hinnasto: aikuiset 35€ + käsittelymaksu\, alle 18 v 15 € + käsittelymaksu\, alle 10v ilmaiseksi aikuisen seurassa. \nhttps://www.lippuagentti.fi/event/view?id=6033
URL:https://www.hirvensalmi.fi/tapahtuma/pepe-willberg-kirkkokonsertti/
LOCATION:Hirvensalmen kirkko\, Kirkkotie 3
END:VEVENT
BEGIN:VEVENT
DTSTART;TZID=Europe/Helsinki:20250901T150000
DTEND;TZID=Europe/Helsinki:20250901T160000
DTSTAMP:20260422T100208
CREATED:20250812T114344Z
LAST-MODIFIED:20250812T114344Z
UID:33728-1756738800-1756742400@www.hirvensalmi.fi
SUMMARY:Avoin kuntosalivuoro
DESCRIPTION:Kuntalaisille avoimet aikuisten ohjatut kuntosalivuorot jatkuvat syyskaudella 2025. Kuntosalilla luvassa on opastusta kuntosaliharjoittelun aloittamiseen\, laitteiden käyttöön ja turvalliseen harjoitteluun. Tervetuloa!
URL:https://www.hirvensalmi.fi/tapahtuma/avoin-kuntosalivuoro-34/
LOCATION:Koulukeskuksen kuntosali\, Koulutie 5\, Hirvensalmi\, 52550\, Suomi
END:VEVENT
BEGIN:VEVENT
DTSTART;TZID=Europe/Helsinki:20250902T080000
DTEND;TZID=Europe/Helsinki:20250902T170000
DTSTAMP:20260422T100208
CREATED:20250902T093018Z
LAST-MODIFIED:20250902T093018Z
UID:33889-1756800000-1756832400@www.hirvensalmi.fi
SUMMARY:Mikkelin Seudun Sydänyhdistys r.y.\, Hirvensalmen Sydänkerho
DESCRIPTION:Sydänjumppa alkaa maanant. 22.09.2025 klo 10.30 Seuratalolla. Jumppaa ohjaa fys.terapeutti Jaana Pöyry. Mukaan mahtuu 20 osallistujaa. Ilmoitus osallistumisesta Pirjolle puh 040 5069506
URL:https://www.hirvensalmi.fi/tapahtuma/mikkelin-seudun-sydanyhdistys-r-y-hirvensalmen-sydankerho/
LOCATION:Hirvensalmen Seuratalo\, Pitäjäntie 7\, Hirvensalmi\, 52550
ORGANIZER;CN="Hirvensalmen Syd%C3%A4nkerho":MAILTO:marjaliisa.koskela@gmail.com
END:VEVENT
BEGIN:VEVENT
DTSTART;TZID=Europe/Helsinki:20250902T120000
DTEND;TZID=Europe/Helsinki:20250902T133000
DTSTAMP:20260422T100208
CREATED:20250812T112541Z
LAST-MODIFIED:20250812T112552Z
UID:33725-1756814400-1756819800@www.hirvensalmi.fi
SUMMARY:Hyvinvointia arkipäiviin
DESCRIPTION:Mielen tasapaino\, aivojen hyvinvointi ja liikunnan terveyshyödyt.\nTarvitsetko tietoa ja tukea näissä asioissa\, jotta arjessa olisi mukava matkustaa? \nTule kuulemaan ja pohtimaan sinulle sopivaa\nhyvinvointia yhdessä toimien tai yksilöllisessä ohjauksessa. \nLisätietoa Hanne Pyrhönen\np. 0400 539007 tai hanne.pyrhonen@msmuisti.fi\nToiminta on kohdennettu yli 65 -vuotiaille
URL:https://www.hirvensalmi.fi/tapahtuma/hyvinvointia-arkipaiviin/
LOCATION:Hirvensalmen Seuratalo\, Pitäjäntie 7\, Hirvensalmi\, 52550
ORGANIZER;CN="Mikkelin seudun Muisti ry":MAILTO:riitta.halonen@msmuisti.fi
END:VEVENT
END:VCALENDAR