BEGIN:VCALENDAR
VERSION:2.0
PRODID:-//Hirvensalmi - ECPv6.6.4.2//NONSGML v1.0//EN
CALSCALE:GREGORIAN
METHOD:PUBLISH
X-WR-CALNAME:Hirvensalmi
X-ORIGINAL-URL:https://www.hirvensalmi.fi
X-WR-CALDESC:Tapahtumat Hirvensalmi
REFRESH-INTERVAL;VALUE=DURATION:PT1H
X-Robots-Tag:noindex
X-PUBLISHED-TTL:PT1H
BEGIN:VTIMEZONE
TZID:Europe/Helsinki
BEGIN:DAYLIGHT
TZOFFSETFROM:+0200
TZOFFSETTO:+0300
TZNAME:EEST
DTSTART:20260329T010000
END:DAYLIGHT
BEGIN:STANDARD
TZOFFSETFROM:+0300
TZOFFSETTO:+0200
TZNAME:EET
DTSTART:20261025T010000
END:STANDARD
END:VTIMEZONE
BEGIN:VEVENT
DTSTART;TZID=Europe/Helsinki:20260508T080000
DTEND;TZID=Europe/Helsinki:20260517T233000
DTSTAMP:20260421T162724
CREATED:20260416T101809Z
LAST-MODIFIED:20260416T101809Z
UID:35993-1778227200-1779060600@www.hirvensalmi.fi
SUMMARY:Valokuvasuunnistus: kevätrastit 2026
DESCRIPTION:Hirvensalmella on jälleen mahdollisuus reippailla tutuksi tulleessa valokuvasuunnistuksessa. \nValokuvasuunnistus järjestetään pe 8.5. – su 17.5. \nSuunnistuksen tarkoituksena on etsiä valokuvavihjeillä osoitetut punavalkoisilla lipuilla merkityt rastipaikat. Rasteja on taajamassa\, liikuntapaikoilla ja ulkoilureiteillä. Rastilla on koodikirjain\, joka merkitään rastin mukaiseen ruutuun. Jokaisella tulee olla oma merkintäkynä mukana. Vihjekuvat ja leimauskortti ovat lehden lisäksi tulostettavissa myös kunnan nettisivuilta tai noudettavissa kunnanvirastolta takaoven vieressä olevasta muovitaskusta. \n  \n\nKortti palautetaan täytettynä (vähintään 7 rastia) kunnanviraston takaoven vieressä olevaan punaiseen postilaatikkoon ma 18.5. klo 12.00 mennessä.\nPalkintoina arvotaan osallistuneiden kesken 50 € lahjakortti Puulan Manuelliin\, 6 kk jäsenyys kuntosalille ja muita palkintoja.\n\nKuvavihjeet ilmestyvät 30.4. Hirvensalmelaisessa. Rastit viedään paikoilleen 7.5. \nJärj. Hirvensalmen kunnan liikuntapalvelut ja paikallislehti Hirvensalmelainen. \n  \nTervetuloa liikkumaan!
URL:https://www.hirvensalmi.fi/tapahtuma/valokuvasuunnistus-kevatrastit-2026/
END:VEVENT
BEGIN:VEVENT
DTSTART;VALUE=DATE:20260516
DTEND;VALUE=DATE:20260518
DTSTAMP:20260421T162724
CREATED:20260325T084006Z
LAST-MODIFIED:20260325T084006Z
UID:35722-1778900400-1778986799@www.hirvensalmi.fi
SUMMARY:9.Hirvensalmelainen ajo moottoripyörille
DESCRIPTION:Kaikille avoin\, omakustanteinen \n9.30 Kokoontuminen Sataman Herkku\, Hirvensalmi\n10.00 Lähtö\n11.00 Tankkaus ABC Heinola\n13.00 Ruokailu Ravintola Fasetti\n14.00 Suomen Metsästysmuseo Riihimäki\nn.18.00 Hirvensalmi paluu mutkien kautta\nReitin pituus n. 420 km\nVoimassa olevalla metsästyskortilla vapaa pääsy.\nmcc.remppa@gmail.com facebook.com/MccRemppa\nPääsylippu 10€+ opastus koko ryhmältä 70€ (max 30henk.)
URL:https://www.hirvensalmi.fi/tapahtuma/9-hirvensalmelainen-ajo-moottoripyorille/
LOCATION:Ravintola Sataman Herkku\, Hirvensalmentie 22 \, Hirvensalmi\, Finland\, 52550\, Suomi
ATTACH;FMTTYPE=image/jpeg:https://www.hirvensalmi.fi/wp-content/uploads/2026/03/Remppa-Logo.jpg
END:VEVENT
BEGIN:VEVENT
DTSTART;TZID=Europe/Helsinki:20260517T160000
DTEND;TZID=Europe/Helsinki:20260517T170000
DTSTAMP:20260421T162724
CREATED:20260330T041803Z
LAST-MODIFIED:20260330T041803Z
UID:35776-1779033600-1779037200@www.hirvensalmi.fi
SUMMARY:Lasten liikuntakerho 0v. - alle eskari-ikäiset
DESCRIPTION:Lasten liikuntakerho 0v. – alle eskari-ikäiset \nHirvensalmen Urheilijat järjestää lasten liikuntakerhot alle eskari-ikäisille lapsille 24.5.2026 asti sunnuntaisin Hirvensalmen Elomaan koulun liikuntasalissa klo 16-17. Kerho-ohjaajina toimivat Sirja Venäläinen ja Santra Venäläinen. \nLiikuntakerho on avoin ja ILMAINEN niin HiU:n jäsenille kuin myös ei-jäsenille. Vanhemmat voivat halutessaan olla mukana kerhossa. \nTervetuloa mukaan! \nEi ennakkoilmoittautumisia. Lisätietoja: Sirja Venäläinen\, p. 040 5269 979
URL:https://www.hirvensalmi.fi/tapahtuma/lasten-liikuntakerho-0v-alle-eskari-ikaiset-2/
LOCATION:Elomaan koulu\, Koulutie\, 52550 Hirvensalmi\, Hirvensalmi\, 52550
ATTACH;FMTTYPE=image/png:https://www.hirvensalmi.fi/wp-content/uploads/2026/03/2026_kevat_pienten_lasten_liikuntakerho-8.png
ORGANIZER;CN="Hirvensalmen urheilijat":MAILTO:hirvensalmenurheilijat@gmail.com
END:VEVENT
BEGIN:VEVENT
DTSTART;TZID=Europe/Helsinki:20260521T110000
DTEND;TZID=Europe/Helsinki:20260521T140000
DTSTAMP:20260421T162724
CREATED:20260417T040622Z
LAST-MODIFIED:20260417T040622Z
UID:36001-1779361200-1779372000@www.hirvensalmi.fi
SUMMARY:Toukosiunaus!
DESCRIPTION:Perinteinen Toukosiunaus pidetään torstaina 21.5.2026 klo 11.00 Antti Nirosen tilan Kivituvalla Kilkinmäentiellä. Kylvönsiunaus\non vanha suomalainen perinne kunnioittaa leipäviljan kylvämistä peltoon.\nKirkkoherra Asko Nuorkivi ja kanttori Pirjo-Riitta Marjamäki-Rantanen seurakunnasta ovat mukana tapahtumassa. \nTarjolla on keittoa ja Kahvia pientä maksua vastaan.\nLämpimästi Tervetuloa!
URL:https://www.hirvensalmi.fi/tapahtuma/toukosiunaus-3/
LOCATION:Kivitupa Kilkinmäentie\, Kilkinmäentie\, Hirvensalmi\, Etelä-Savo\, 52550\, Finland
ORGANIZER;CN="El%C3%A4keliiton Hirvensalmen yhdistys":MAILTO:jukkamanninen20@gmail.com
END:VEVENT
BEGIN:VEVENT
DTSTART;TZID=Europe/Helsinki:20260522T190000
DTEND;TZID=Europe/Helsinki:20260522T220000
DTSTAMP:20260421T162724
CREATED:20260313T095120Z
LAST-MODIFIED:20260313T095120Z
UID:35604-1779476400-1779487200@www.hirvensalmi.fi
SUMMARY:Sampsa Sejon Baarissa
DESCRIPTION:Sampsa Astala esiintyy baarilla.\nSampsa tuli tunnetuksi Lordi yhtyeen rumpalina vuosina 2000-2010.
URL:https://www.hirvensalmi.fi/tapahtuma/sampsa-sejon-baarissa/
ATTACH;FMTTYPE=image/jpeg:https://www.hirvensalmi.fi/wp-content/uploads/2026/03/Screenshot_2026-03-13-11-33-27-02_40deb401b9ffe8e1df2f1cc5ba480b122.jpg
END:VEVENT
BEGIN:VEVENT
DTSTART;TZID=Europe/Helsinki:20260523T110000
DTEND;TZID=Europe/Helsinki:20260523T130000
DTSTAMP:20260421T162724
CREATED:20251219T063316Z
LAST-MODIFIED:20251219T063316Z
UID:34952-1779534000-1779541200@www.hirvensalmi.fi
SUMMARY:Käsityöyhdistyksen 25 v. juhlakahvit Puulan Manuellissa
DESCRIPTION:Kaikki tervetulleita viettämään käsityöyhdistyksen 25 v. Juhlapäivää Puulan Manuelliin. Kahvia ja musiikkia.
URL:https://www.hirvensalmi.fi/tapahtuma/kasityoyhdistyksen-25-v-juhlakahvit-puulan-manuellissa/
LOCATION:Junnankuja 25 Hirvensalmi
ORGANIZER;CN="Hirvensalmen k%C3%A4sity%C3%B6yhdistys ry":MAILTO:posti@puulanmanuelli.fi
END:VEVENT
BEGIN:VEVENT
DTSTART;TZID=Europe/Helsinki:20260524T160000
DTEND;TZID=Europe/Helsinki:20260524T170000
DTSTAMP:20260421T162724
CREATED:20260330T041748Z
LAST-MODIFIED:20260330T041748Z
UID:35779-1779638400-1779642000@www.hirvensalmi.fi
SUMMARY:Lasten liikuntakerho 0v. - alle eskari-ikäiset
DESCRIPTION:Lasten liikuntakerho 0v. – alle eskari-ikäiset \nHirvensalmen Urheilijat järjestää lasten liikuntakerhot alle eskari-ikäisille lapsille 24.5.2026 asti sunnuntaisin Hirvensalmen Elomaan koulun liikuntasalissa klo 16-17. Kerho-ohjaajina toimivat Sirja Venäläinen ja Santra Venäläinen. \nLiikuntakerho on avoin ja ILMAINEN niin HiU:n jäsenille kuin myös ei-jäsenille. Vanhemmat voivat halutessaan olla mukana kerhossa. \nTervetuloa mukaan! \nEi ennakkoilmoittautumisia. Lisätietoja: Sirja Venäläinen\, p. 040 5269 979
URL:https://www.hirvensalmi.fi/tapahtuma/lasten-liikuntakerho-0v-alle-eskari-ikaiset/
LOCATION:Elomaan koulu\, Koulutie\, 52550 Hirvensalmi\, Hirvensalmi\, 52550
ATTACH;FMTTYPE=image/png:https://www.hirvensalmi.fi/wp-content/uploads/2026/03/2026_kevat_pienten_lasten_liikuntakerho-9.png
ORGANIZER;CN="Hirvensalmen urheilijat":MAILTO:hirvensalmenurheilijat@gmail.com
END:VEVENT
BEGIN:VEVENT
DTSTART;TZID=Europe/Helsinki:20260528T120000
DTEND;TZID=Europe/Helsinki:20260528T140000
DTSTAMP:20260421T162724
CREATED:20251219T063355Z
LAST-MODIFIED:20251219T063355Z
UID:34954-1779969600-1779976800@www.hirvensalmi.fi
SUMMARY:Tehdään yhdessä käsitöitä Puulan Manuellissa
DESCRIPTION:Kaikki tervetulleita.
URL:https://www.hirvensalmi.fi/tapahtuma/tehdaan-yhdessa-kasitoita-puulan-manuellissa-23/
LOCATION:Junnankuja 25 Hirvensalmi
ORGANIZER;CN="Hirvensalmen k%C3%A4sity%C3%B6yhdistys ry":MAILTO:posti@puulanmanuelli.fi
END:VEVENT
BEGIN:VEVENT
DTSTART;TZID=Europe/Helsinki:20260606T110000
DTEND;TZID=Europe/Helsinki:20260606T150000
DTSTAMP:20260421T162724
CREATED:20260407T044828Z
LAST-MODIFIED:20260407T044828Z
UID:35868-1780743600-1780758000@www.hirvensalmi.fi
SUMMARY:Avoimet Ovet Hietalan luomutilalla
DESCRIPTION:Perinteiset Avoimet Ovet Hietalassa. Lihakeittoa\, lettukahvio\, markkinat\, pomppulinna (säävaraus)\, kasvomaalausta\, eläimet nähtävillä\, tilanväki tavattavissa ja iloinen maalaistunnelma. Tilapuoti palvelee koko tapahtuman ajan. Varaathan lihakeittoa ja lettuja varten käteistä rahaa mukaan.
URL:https://www.hirvensalmi.fi/tapahtuma/avoimet-ovet-hietalan-luomutilalla-3/
LOCATION:Hietalan luomutila\, Kilkintie 936\, Hirvensalmi\, 52550
ORGANIZER;CN="Hietalan luomutila":MAILTO:hietalanluomutila@gmail.com
END:VEVENT
BEGIN:VEVENT
DTSTART;TZID=Europe/Helsinki:20260609T120000
DTEND;TZID=Europe/Helsinki:20260609T140000
DTSTAMP:20260421T162724
CREATED:20251219T063448Z
LAST-MODIFIED:20251219T063448Z
UID:34956-1781006400-1781013600@www.hirvensalmi.fi
SUMMARY:Kivikurssi Puulan Manuellissa
DESCRIPTION:Kaikki tervetulleita.
URL:https://www.hirvensalmi.fi/tapahtuma/kivikurssi-puulan-manuellissa/
LOCATION:Junnankuja 25 Hirvensalmi
ORGANIZER;CN="Hirvensalmen k%C3%A4sity%C3%B6yhdistys ry":MAILTO:posti@puulanmanuelli.fi
END:VEVENT
BEGIN:VEVENT
DTSTART;TZID=Europe/Helsinki:20260612T190000
DTEND;TZID=Europe/Helsinki:20260612T200000
DTSTAMP:20260421T162724
CREATED:20260409T041920Z
LAST-MODIFIED:20260409T041920Z
UID:35907-1781290800-1781294400@www.hirvensalmi.fi
SUMMARY:Kirkkokonsertti: Ilta (Story)
DESCRIPTION:Hurmaava Ilta julkaisi keväällä 2026 kolmannen pitkäsoittonsa ‘Jokaisen hymyn takana’ ja kevään konserttisalikiertueensa lisäksi hän saapuu kesäkuussa konsertoimaan upeaan Hirvensalmen kirkkoon. \n“Mun biiseissä kuuluu rehellisyys\, raakuus ja elämän monimutkaisuus. Haluan\, että mun musiikki auttaa ihmisiä menemään läpi eri elämän vaiheiden ja herättää kysymyksiä. Vaikkei mun laulut aina antaisi suoria vastauksia\, ne toivottavasti auttaa pohtimaan elämää. Tuleva albumi on kuin matka\, jossa yhdessä kuulijoiden kanssa yritetään ymmärtää elämää vähän paremmin.” – Ilta \nVirtuoottinen Ilta hurmasi suomalaiset laulamalla kertosäkeen Cheekin hittikappaleessa Sillat. Iltan musiikki uhkuu iloista elämänasennetta ja samaistuttavia sydänsuruja. Vuoden 2019 Tähdet Tähdet -kaudella Ilta hurmasi sekä tuomarit että yleisön upeilla tulkinnoillaan ja persoonallaan. 2023 syksyllä Ilta oli yksi supersuositun Elämäni biisi -ohjelman solisteista ja 2024 hän osallistui Vain elämää -ohjelmaan\, josta repertuaariin jäivät hitit Kiire ja Tässä talossa. \nTilaisuuden kesto on noin tunnin\, mutta jos encoreita… \nTilaisuus on pääsylipullinen ja lippuja voi ostaa joko lippu.fi sivustolta tai paikanpäältä alkaen tuntia ennen konsertin alkua.
URL:https://www.hirvensalmi.fi/tapahtuma/kirkkokonsertti-ilta-story/
LOCATION:Hirvensalmen kirkko\, Kirkkotie 3
ATTACH;FMTTYPE=image/jpeg:https://www.hirvensalmi.fi/wp-content/uploads/2026/04/Ilta-Hirvensalmi-Story.jpg
ORGANIZER;CN="AllDay.fi":MAILTO:laura@allday.fi
END:VEVENT
BEGIN:VEVENT
DTSTART;TZID=Europe/Helsinki:20260616T120000
DTEND;TZID=Europe/Helsinki:20260616T140000
DTSTAMP:20260421T162724
CREATED:20251219T063503Z
LAST-MODIFIED:20251219T063503Z
UID:34958-1781611200-1781618400@www.hirvensalmi.fi
SUMMARY:Juhannuskurssi Puulan Manuellissa
DESCRIPTION:Kaikki tervetulleita.
URL:https://www.hirvensalmi.fi/tapahtuma/juhannuskurssi-puulan-manuellissa/
LOCATION:Junnankuja 25 Hirvensalmi
ORGANIZER;CN="Hirvensalmen k%C3%A4sity%C3%B6yhdistys ry":MAILTO:posti@puulanmanuelli.fi
END:VEVENT
BEGIN:VEVENT
DTSTART;TZID=Europe/Helsinki:20260619T210000
DTEND;TZID=Europe/Helsinki:20260619T210000
DTSTAMP:20260421T162724
CREATED:20260320T051935Z
LAST-MODIFIED:20260320T051935Z
UID:35662-1781902800-1781902800@www.hirvensalmi.fi
SUMMARY:Ari Koivunen Sataman Herkkussa
DESCRIPTION:“ARI KOIVUNEN on vuoden 2007 Idols-voittaja\, joka muistetaan myös Amoral -yhtyeen laulajana. Ari on tähdittänyt vuosien 2015-2018 aikana tamperelaisen Suomen Musiikkiteatterin musikaaleja ja esiintynyt usean vuoden ajan muiden Suomen raskaan musiikin kärkinimien kanssa jättisuosion saavuttaneessa Raskasta Joulua -projektissa. \nAri keikkailee myös akustisena duona ja muunlaistenkin kokoonpanojen kanssa. Arin upea ääni vie biisit uusiin ulottuvuuksiin\, on sitten kyse räväkästä rockista tai herkästä balladista. Ohjelmistosta löytyykin musiikkia jokaiseen makuun\, rock- ja pophelmistä klassikoihin. \nArin duoparina toimii pääasiallisesti Marko Salonen. Biljardin parissa tavanneet miehet ovatkin olleet parhaat ystävät jo 20 vuotta\, mutta yhdessä soittaminen on alkanut vasta hiljattain. Marko säveltää itse myös musiikkia nimellä Marze ja kaverusten äänet soivat mitä mainioimmin yhteen. Yhdessä musisoinnissa huumori kukkii ja yhteistyö sujuu saumattomasti. Siitä nauttivat niin yleisö\, kuin herrat itse. Settilistasta löytyy biisejä laidasta laitaan\, varmasti jokaiselle jotakin. \nARI KOIVUNEN\n– Idols-voittaja 2007\n– Soololevyt ‘Fuel For The Fire’ (2007)\, Becoming (2008)\n– Amoralin laulajana (2008-2017) neljä levyä\, keikkoja Suomen lisäksi mm. Filippiineillä\, Japanissa\, Kiinassa\, USA:ssa ja useita Euroopan kiertueita\n– Raskasta Joulua -kiertue vuodet 2007- 2017\n– Suomen Musiikkiteatteri 2015- : Rockmusikaalit ‘I Wanna Rock’\, Autiotalossa\, ‘Let’s Dance’\, ‘Raparperitaivas’ sekä ‘We Rock’ -show \n— Powerless Trio -kiertue 2018 (Leppäluoto\, Koivunen\, Hietala) \n— Farmi Suomi 2025” \nLiput: lippuagentti.fi
URL:https://www.hirvensalmi.fi/tapahtuma/ari-koivunen-sataman-herkkussa/
LOCATION:Sataman herkku\, Hirvensalmentie 22A\, Hirvensalmi\, 52550
ATTACH;FMTTYPE=image/jpeg:https://www.hirvensalmi.fi/wp-content/uploads/2026/03/AriMakeuusi.jpg
END:VEVENT
BEGIN:VEVENT
DTSTART;TZID=Europe/Helsinki:20260620T000000
DTEND;TZID=Europe/Helsinki:20260620T000000
DTSTAMP:20260421T162724
CREATED:20260320T052008Z
LAST-MODIFIED:20260320T052008Z
UID:35668-1781913600-1781913600@www.hirvensalmi.fi
SUMMARY:Etelelärinteen poikien Tuisku Marttinen Sataman Herkussa
DESCRIPTION:Etelärinteen pojista tuttu Tuisku Marttinen saapuu taasen Juhannuspäivänä esiintymään svengaavia kappaleita. Kellonaika tarkentuu myöhemmin\, seuraa meidän Facebookkia!
URL:https://www.hirvensalmi.fi/tapahtuma/etelelarinteen-poikien-tuisku-marttinen-sataman-herkussa/
LOCATION:Ravintola Sataman Herkku\, Hirvensalmentie 22 \, Hirvensalmi\, Finland\, 52550\, Suomi
ORGANIZER;CN="Ravintola Sataman Herkku":MAILTO:marianne@satamanherkku.fi
END:VEVENT
BEGIN:VEVENT
DTSTART;TZID=Europe/Helsinki:20260622T100000
DTEND;TZID=Europe/Helsinki:20260630T170000
DTSTAMP:20260421T162724
CREATED:20251219T063538Z
LAST-MODIFIED:20251219T063538Z
UID:34962-1782122400-1782838800@www.hirvensalmi.fi
SUMMARY:Pelättikisa 10 v. Ilmoittautuminen vko.26. Puulan Manuelliin
DESCRIPTION:Perinteiseen leikkimieliseen pelättikisaan ilmoittautuminen viikolla 26. Kaikki tervetulleita osallistumaan.
URL:https://www.hirvensalmi.fi/tapahtuma/pelattikisa-10-v-ilmoittautuminen-vko-26-puulan-manuelliin/
LOCATION:Junnankuja 25 Hirvensalmi
ORGANIZER;CN="Hirvensalmen k%C3%A4sity%C3%B6yhdistys ry":MAILTO:posti@puulanmanuelli.fi
END:VEVENT
BEGIN:VEVENT
DTSTART;TZID=Europe/Helsinki:20260625T000000
DTEND;TZID=Europe/Helsinki:20260625T000000
DTSTAMP:20260421T162724
CREATED:20260320T052020Z
LAST-MODIFIED:20260320T052025Z
UID:35670-1782345600-1782345600@www.hirvensalmi.fi
SUMMARY:Etelärinteen pojat Sataman Herkussa
DESCRIPTION:Etelärinteen pojat saapuvat svengaavien ja jazz-tyyliin sointuvien kappaleiden kanssa viihdyttämään. Esiintymisaika tarkentuu kesemmällä. Seuraa meidän Facebookia!
URL:https://www.hirvensalmi.fi/tapahtuma/etelarinteen-pojat-sataman-herkussa/
LOCATION:Ravintola Sataman Herkku\, Hirvensalmentie 22 \, Hirvensalmi\, Finland\, 52550\, Suomi
ORGANIZER;CN="Ravintola Sataman Herkku":MAILTO:marianne@satamanherkku.fi
END:VEVENT
BEGIN:VEVENT
DTSTART;TZID=Europe/Helsinki:20260625T120000
DTEND;TZID=Europe/Helsinki:20260625T140000
DTSTAMP:20260421T162724
CREATED:20251219T063523Z
LAST-MODIFIED:20251219T063523Z
UID:34960-1782388800-1782396000@www.hirvensalmi.fi
SUMMARY:Tehdään yhdessä käsitöitä Puulan Manuellissa
DESCRIPTION:Kaikki tervetulleita.
URL:https://www.hirvensalmi.fi/tapahtuma/tehdaan-yhdessa-kasitoita-puulan-manuellissa-24/
LOCATION:Junnankuja 25 Hirvensalmi
ORGANIZER;CN="Hirvensalmen k%C3%A4sity%C3%B6yhdistys ry":MAILTO:posti@puulanmanuelli.fi
END:VEVENT
BEGIN:VEVENT
DTSTART;TZID=Europe/Helsinki:20260626T000000
DTEND;TZID=Europe/Helsinki:20260626T000000
DTSTAMP:20260421T162724
CREATED:20260320T050748Z
LAST-MODIFIED:20260320T050748Z
UID:35678-1782432000-1782432000@www.hirvensalmi.fi
SUMMARY:Let's Eppelin
DESCRIPTION:Aitoa rokkia Sataman Herkussa!\nIlmoitamme esiintymisajan Facebookissa piakkoin!\nSisäänpääsy vapaehtoinen käteisellä!
URL:https://www.hirvensalmi.fi/tapahtuma/lets-eppelin/
LOCATION:Ravintola Sataman Herkku\, Hirvensalmentie 22 \, Hirvensalmi\, Finland\, 52550\, Suomi
ORGANIZER;CN="Ravintola Sataman Herkku":MAILTO:marianne@satamanherkku.fi
END:VEVENT
BEGIN:VEVENT
DTSTART;TZID=Europe/Helsinki:20260627T130000
DTEND;TZID=Europe/Helsinki:20260627T170000
DTSTAMP:20260421T162724
CREATED:20260320T050826Z
LAST-MODIFIED:20260320T050826Z
UID:35683-1782565200-1782579600@www.hirvensalmi.fi
SUMMARY:Peten päiväkaraoke
DESCRIPTION:Viime kesän suuren suosion saanut Pete Nikulaisen päiväkaraoke jatkaa kesän ohjelmistossa!
URL:https://www.hirvensalmi.fi/tapahtuma/peten-paivakaraoke/
LOCATION:Ravintola Sataman Herkku\, Hirvensalmentie 22 \, Hirvensalmi\, Finland\, 52550\, Suomi
ORGANIZER;CN="Ravintola Sataman Herkku":MAILTO:marianne@satamanherkku.fi
END:VEVENT
BEGIN:VEVENT
DTSTART;TZID=Europe/Helsinki:20260627T210000
DTEND;TZID=Europe/Helsinki:20260627T230000
DTSTAMP:20260421T162724
CREATED:20260320T050804Z
LAST-MODIFIED:20260320T050804Z
UID:35680-1782594000-1782601200@www.hirvensalmi.fi
SUMMARY:Jukka K. Drag queen- show
DESCRIPTION:Ennennäkemätön esitys Hirvensalmella\, kun drag artisti Jukka K. saapuu show:llaan valtaamaan lavan! Tätä ei kannata missata!
URL:https://www.hirvensalmi.fi/tapahtuma/jukka-k-drag-queen-show/
LOCATION:Ravintola Sataman Herkku\, Hirvensalmentie 22 \, Hirvensalmi\, Finland\, 52550\, Suomi
ATTACH;FMTTYPE=image/jpeg:https://www.hirvensalmi.fi/wp-content/uploads/2026/03/Jukka-K.-Show.jpg
ORGANIZER;CN="Ravintola Sataman Herkku":MAILTO:marianne@satamanherkku.fi
END:VEVENT
BEGIN:VEVENT
DTSTART;TZID=Europe/Helsinki:20260703T100000
DTEND;TZID=Europe/Helsinki:20260731T170000
DTSTAMP:20260421T162724
CREATED:20251219T063611Z
LAST-MODIFIED:20251219T063611Z
UID:34966-1783072800-1785517200@www.hirvensalmi.fi
SUMMARY:Pelättien äänestys Puulan Manuellissa
DESCRIPTION:Tervetuloa äänestämään vuoden 2026 Parasta pelättiä 3.7. – 31.7.2026 myymälän aukioloaikoina. Arkisin 10-17 ja lauantaisin 10-14.
URL:https://www.hirvensalmi.fi/tapahtuma/pelattien-aanestys-puulan-manuellissa/
LOCATION:Junnankuja 25 Hirvensalmi
END:VEVENT
BEGIN:VEVENT
DTSTART;TZID=Europe/Helsinki:20260703T100000
DTEND;TZID=Europe/Helsinki:20260831T170000
DTSTAMP:20260421T162724
CREATED:20251219T063555Z
LAST-MODIFIED:20251219T063555Z
UID:34964-1783072800-1788195600@www.hirvensalmi.fi
SUMMARY:Käsityönäyttely Satujen Taikaa Puulan Manuellissa
DESCRIPTION:Käsityönäyttelyn avajaiset perjantaina 3.7.2025 kello 10. Näyttely avoinna myymälän aukioloaikoina. Arkisin 10-17 ja lauantaisin 10-14. Tervetuloa näyttelyyn 3.7. – 31.8.2026.
URL:https://www.hirvensalmi.fi/tapahtuma/kasityonayttely-satujen-taikaa-puulan-manuellissa/
LOCATION:Junnankuja 25 Hirvensalmi
ORGANIZER;CN="Hirvensalmen k%C3%A4sity%C3%B6yhdistys ry":MAILTO:posti@puulanmanuelli.fi
END:VEVENT
BEGIN:VEVENT
DTSTART;TZID=Europe/Helsinki:20260703T160000
DTEND;TZID=Europe/Helsinki:20260703T200000
DTSTAMP:20260421T162724
CREATED:20260320T050841Z
LAST-MODIFIED:20260320T050841Z
UID:35685-1783094400-1783108800@www.hirvensalmi.fi
SUMMARY:Peten päiväkaraoke
DESCRIPTION:Viime kesän suuren suosion saanut Pete Nikulaisen päiväkaraoke jatkaa kesän ohjelmistossa!
URL:https://www.hirvensalmi.fi/tapahtuma/peten-paivakaraoke-2/
LOCATION:Ravintola Sataman Herkku\, Hirvensalmentie 22 \, Hirvensalmi\, Finland\, 52550\, Suomi
ORGANIZER;CN="Ravintola Sataman Herkku":MAILTO:marianne@satamanherkku.fi
END:VEVENT
BEGIN:VEVENT
DTSTART;TZID=Europe/Helsinki:20260704T210000
DTEND;TZID=Europe/Helsinki:20260704T210000
DTSTAMP:20260421T162724
CREATED:20260320T052038Z
LAST-MODIFIED:20260320T052044Z
UID:35672-1783198800-1783198800@www.hirvensalmi.fi
SUMMARY:Laura Närhi Tervaleppäjuhla lauantaina Sataman Herkussa
DESCRIPTION:Tervaleppäjuhlien lauantaina Hirvensalmelle saapuu yksi eturivin kuumimmista nimistä Laura Närhi! \nLiput: lippuagentti.fi
URL:https://www.hirvensalmi.fi/tapahtuma/laura-narhi-tervaleppajuhla-lauantaina-sataman-herkussa/
LOCATION:Ravintola Sataman Herkku\, Hirvensalmentie 22 \, Hirvensalmi\, Finland\, 52550\, Suomi
ORGANIZER;CN="Ravintola Sataman Herkku":MAILTO:marianne@satamanherkku.fi
END:VEVENT
BEGIN:VEVENT
DTSTART;TZID=Europe/Helsinki:20260710T130000
DTEND;TZID=Europe/Helsinki:20260710T170000
DTSTAMP:20260421T162724
CREATED:20260320T050854Z
LAST-MODIFIED:20260320T050854Z
UID:35687-1783688400-1783702800@www.hirvensalmi.fi
SUMMARY:Peten päiväkaraoke
DESCRIPTION:Viime kesän suuren suosion saanut Pete Nikulaisen päiväkaraoke jatkaa kesän ohjelmistossa!
URL:https://www.hirvensalmi.fi/tapahtuma/peten-paivakaraoke-3/
LOCATION:Ravintola Sataman Herkku\, Hirvensalmentie 22 \, Hirvensalmi\, Finland\, 52550\, Suomi
ORGANIZER;CN="Ravintola Sataman Herkku":MAILTO:marianne@satamanherkku.fi
END:VEVENT
BEGIN:VEVENT
DTSTART;TZID=Europe/Helsinki:20260711T080000
DTEND;TZID=Europe/Helsinki:20260711T170000
DTSTAMP:20260421T162724
CREATED:20260320T052059Z
LAST-MODIFIED:20260320T052125Z
UID:35674-1783756800-1783789200@www.hirvensalmi.fi
SUMMARY:JaySax
DESCRIPTION:Mikkeliläinen JaySax tuo diskon jytkettä Herkun terassille saxofonin säestämänä! Kokemus\, jota ei kannata jättää välistä! \nKellonaika tarkentuu kesemmällä\, seuraa ilmoitteluamme Facebookissa!
URL:https://www.hirvensalmi.fi/tapahtuma/jaysax/
LOCATION:Ravintola Sataman Herkku\, Hirvensalmentie 22 \, Hirvensalmi\, Finland\, 52550\, Suomi
ORGANIZER;CN="Ravintola Sataman Herkku":MAILTO:marianne@satamanherkku.fi
END:VEVENT
BEGIN:VEVENT
DTSTART;TZID=Europe/Helsinki:20260717T130000
DTEND;TZID=Europe/Helsinki:20260717T170000
DTSTAMP:20260421T162724
CREATED:20260320T050908Z
LAST-MODIFIED:20260320T050908Z
UID:35689-1784293200-1784307600@www.hirvensalmi.fi
SUMMARY:Peten päiväkaraoke
DESCRIPTION:Viime kesän suuren suosion saanut Pete Nikulaisen päiväkaraoke jatkaa kesän ohjelmistossa!
URL:https://www.hirvensalmi.fi/tapahtuma/peten-paivakaraoke-4/
LOCATION:Ravintola Sataman Herkku\, Hirvensalmentie 22 \, Hirvensalmi\, Finland\, 52550\, Suomi
ORGANIZER;CN="Ravintola Sataman Herkku":MAILTO:marianne@satamanherkku.fi
END:VEVENT
BEGIN:VEVENT
DTSTART;TZID=Europe/Helsinki:20260717T200000
DTEND;TZID=Europe/Helsinki:20260717T200000
DTSTAMP:20260421T162724
CREATED:20260320T051947Z
LAST-MODIFIED:20260320T051947Z
UID:35665-1784318400-1784318400@www.hirvensalmi.fi
SUMMARY:Samuli Edelman Sataman Herkussa
DESCRIPTION:Koko kansan tuttu Samuli Edelman saapuu Sataman Herkkuun!
URL:https://www.hirvensalmi.fi/tapahtuma/samuli-edelman-sataman-herkussa/
LOCATION:Ravintola Sataman Herkku\, Hirvensalmentie 22 \, Hirvensalmi\, Finland\, 52550\, Suomi
ATTACH;FMTTYPE=image/jpeg:https://www.hirvensalmi.fi/wp-content/uploads/2026/03/2023-05-17-Samuli-potretti0609_V2_preview.jpg
ORGANIZER;CN="Ravintola Sataman Herkku":MAILTO:marianne@satamanherkku.fi
END:VEVENT
BEGIN:VEVENT
DTSTART;VALUE=DATE:20260723
DTEND;VALUE=DATE:20260725
DTSTAMP:20260421T162724
CREATED:20251219T063630Z
LAST-MODIFIED:20251219T063630Z
UID:34968-1784775600-1784861999@www.hirvensalmi.fi
SUMMARY:Kesäretki
DESCRIPTION:Kaikki tervetulleita kesäretkelle.
URL:https://www.hirvensalmi.fi/tapahtuma/kesaretki-2/
LOCATION:Junnankuja 25 Hirvensalmi
ORGANIZER;CN="Hirvensalmen k%C3%A4sity%C3%B6yhdistys ry":MAILTO:posti@puulanmanuelli.fi
END:VEVENT
BEGIN:VEVENT
DTSTART;TZID=Europe/Helsinki:20260724T130000
DTEND;TZID=Europe/Helsinki:20260724T170000
DTSTAMP:20260421T162724
CREATED:20260320T050923Z
LAST-MODIFIED:20260320T050923Z
UID:35691-1784898000-1784912400@www.hirvensalmi.fi
SUMMARY:Peten päiväkaraoke
DESCRIPTION:Viime kesän suuren suosion saanut Pete Nikulaisen päiväkaraoke jatkaa kesän ohjelmistossa!
URL:https://www.hirvensalmi.fi/tapahtuma/peten-paivakaraoke-5/
LOCATION:Ravintola Sataman Herkku\, Hirvensalmentie 22 \, Hirvensalmi\, Finland\, 52550\, Suomi
ORGANIZER;CN="Ravintola Sataman Herkku":MAILTO:marianne@satamanherkku.fi
END:VEVENT
END:VCALENDAR