BEGIN:VCALENDAR
VERSION:2.0
PRODID:-//Hirvensalmi - ECPv6.6.4.2//NONSGML v1.0//EN
CALSCALE:GREGORIAN
METHOD:PUBLISH
X-WR-CALNAME:Hirvensalmi
X-ORIGINAL-URL:https://www.hirvensalmi.fi
X-WR-CALDESC:Tapahtumat Hirvensalmi
REFRESH-INTERVAL;VALUE=DURATION:PT1H
X-Robots-Tag:noindex
X-PUBLISHED-TTL:PT1H
BEGIN:VTIMEZONE
TZID:Europe/Helsinki
BEGIN:DAYLIGHT
TZOFFSETFROM:+0200
TZOFFSETTO:+0300
TZNAME:EEST
DTSTART:20260329T010000
END:DAYLIGHT
BEGIN:STANDARD
TZOFFSETFROM:+0300
TZOFFSETTO:+0200
TZNAME:EET
DTSTART:20261025T010000
END:STANDARD
END:VTIMEZONE
BEGIN:VEVENT
DTSTART;TZID=Europe/Helsinki:20260924T120000
DTEND;TZID=Europe/Helsinki:20260924T140000
DTSTAMP:20260422T053837
CREATED:20251219T063757Z
LAST-MODIFIED:20251219T063757Z
UID:34976-1790251200-1790258400@www.hirvensalmi.fi
SUMMARY:Tehdään yhdessä käsitöitä Puulan Manuellissa
DESCRIPTION:Kaikki tervetulleita.
URL:https://www.hirvensalmi.fi/tapahtuma/tehdaan-yhdessa-kasitoita-puulan-manuellissa-26/
LOCATION:Junnankuja 25 Hirvensalmi
ORGANIZER;CN="Hirvensalmen k%C3%A4sity%C3%B6yhdistys ry":MAILTO:posti@puulanmanuelli.fi
END:VEVENT
BEGIN:VEVENT
DTSTART;TZID=Europe/Helsinki:20261015T120000
DTEND;TZID=Europe/Helsinki:20261015T140000
DTSTAMP:20260422T053837
CREATED:20251219T064030Z
LAST-MODIFIED:20251219T064030Z
UID:34978-1792065600-1792072800@www.hirvensalmi.fi
SUMMARY:Kurssipäivä Puulan Manuellissa
DESCRIPTION:Kaikki tervetulleita.
URL:https://www.hirvensalmi.fi/tapahtuma/kurssipaiva-puulan-manuellissa-6/
LOCATION:Junnankuja 25 Hirvensalmi
ORGANIZER;CN="Hirvensalmen k%C3%A4sity%C3%B6yhdistys ry":MAILTO:posti@puulanmanuelli.fi
END:VEVENT
BEGIN:VEVENT
DTSTART;TZID=Europe/Helsinki:20261025T110000
DTEND;TZID=Europe/Helsinki:20261025T130000
DTSTAMP:20260422T053837
CREATED:20251219T064044Z
LAST-MODIFIED:20251219T064044Z
UID:34980-1792926000-1792933200@www.hirvensalmi.fi
SUMMARY:Kellonkääntäjäiset Puulan Manuellissa
DESCRIPTION:Käännetään kellot kohti talviaikaa. Myynnissä kotileivonnaisia.
URL:https://www.hirvensalmi.fi/tapahtuma/kellonkaantajaiset-puulan-manuellissa/
LOCATION:Junnankuja 25 Hirvensalmi
ORGANIZER;CN="Hirvensalmen k%C3%A4sity%C3%B6yhdistys ry":MAILTO:posti@puulanmanuelli.fi
END:VEVENT
BEGIN:VEVENT
DTSTART;TZID=Europe/Helsinki:20261030T120000
DTEND;TZID=Europe/Helsinki:20261030T140000
DTSTAMP:20260422T053837
CREATED:20251219T064100Z
LAST-MODIFIED:20251219T064100Z
UID:34982-1793361600-1793368800@www.hirvensalmi.fi
SUMMARY:Tehdään yhdessä käsitöitä Puulan Manuellissa
DESCRIPTION:Kaikki tervetulleita.
URL:https://www.hirvensalmi.fi/tapahtuma/tehdaan-yhdessa-kasitoita-puulan-manuellissa-27/
LOCATION:Junnankuja 25 Hirvensalmi
ORGANIZER;CN="Hirvensalmen k%C3%A4sity%C3%B6yhdistys ry":MAILTO:posti@puulanmanuelli.fi
END:VEVENT
BEGIN:VEVENT
DTSTART;TZID=Europe/Helsinki:20261105T120000
DTEND;TZID=Europe/Helsinki:20261105T140000
DTSTAMP:20260422T053837
CREATED:20251219T064117Z
LAST-MODIFIED:20251219T064117Z
UID:34984-1793880000-1793887200@www.hirvensalmi.fi
SUMMARY:Korttikurssi Puulan Manuellissa
DESCRIPTION:Kaikki tervetulleita.
URL:https://www.hirvensalmi.fi/tapahtuma/korttikurssi-puulan-manuellissa/
LOCATION:Junnankuja 25 Hirvensalmi
ORGANIZER;CN="Hirvensalmen k%C3%A4sity%C3%B6yhdistys ry":MAILTO:posti@puulanmanuelli.fi
END:VEVENT
BEGIN:VEVENT
DTSTART;TZID=Europe/Helsinki:20261112T120000
DTEND;TZID=Europe/Helsinki:20261112T140000
DTSTAMP:20260422T053837
CREATED:20251219T064142Z
LAST-MODIFIED:20251219T064142Z
UID:34986-1794484800-1794492000@www.hirvensalmi.fi
SUMMARY:Kurssipäivä Puulan Manuellissa
DESCRIPTION:Kaikki tervetulleita.
URL:https://www.hirvensalmi.fi/tapahtuma/kurssipaiva-puulan-manuellissa-7/
LOCATION:Junnankuja 25 Hirvensalmi
ORGANIZER;CN="Hirvensalmen k%C3%A4sity%C3%B6yhdistys ry":MAILTO:posti@puulanmanuelli.fi
END:VEVENT
BEGIN:VEVENT
DTSTART;TZID=Europe/Helsinki:20261120T120000
DTEND;TZID=Europe/Helsinki:20261120T140000
DTSTAMP:20260422T053837
CREATED:20251219T064156Z
LAST-MODIFIED:20251219T064156Z
UID:34988-1795176000-1795183200@www.hirvensalmi.fi
SUMMARY:Joulukoristekurssi Puulan Manuellissa
DESCRIPTION:Kaikki tervetulleita.
URL:https://www.hirvensalmi.fi/tapahtuma/joulukoristekurssi-puulan-manuellissa/
LOCATION:Junnankuja 25 Hirvensalmi
ORGANIZER;CN="Hirvensalmen k%C3%A4sity%C3%B6yhdistys ry":MAILTO:posti@puulanmanuelli.fi
END:VEVENT
BEGIN:VEVENT
DTSTART;TZID=Europe/Helsinki:20261127T120000
DTEND;TZID=Europe/Helsinki:20261127T140000
DTSTAMP:20260422T053837
CREATED:20251219T064338Z
LAST-MODIFIED:20251219T064338Z
UID:34990-1795780800-1795788000@www.hirvensalmi.fi
SUMMARY:Tehdään yhdessä käsitöitä Puulan Manuellissa
DESCRIPTION:Kaikki tervetulleita.
URL:https://www.hirvensalmi.fi/tapahtuma/tehdaan-yhdessa-kasitoita-puulan-manuellissa-28/
LOCATION:Junnankuja 25 Hirvensalmi
ORGANIZER;CN="Hirvensalmen k%C3%A4sity%C3%B6yhdistys ry":MAILTO:posti@puulanmanuelli.fi
END:VEVENT
BEGIN:VEVENT
DTSTART;TZID=Europe/Helsinki:20261128T100000
DTEND;TZID=Europe/Helsinki:20261128T140000
DTSTAMP:20260422T053837
CREATED:20251219T064352Z
LAST-MODIFIED:20251219T064352Z
UID:34992-1795860000-1795874400@www.hirvensalmi.fi
SUMMARY:Joulunavaus Puulan Manuellissa
DESCRIPTION:Kotileivonnaisia\, joulupuuroa\, joululahjaideoita. Tervetuloa.
URL:https://www.hirvensalmi.fi/tapahtuma/joulunavaus-puulan-manuellissa/
LOCATION:Junnankuja 25 Hirvensalmi
ORGANIZER;CN="Hirvensalmen k%C3%A4sity%C3%B6yhdistys ry":MAILTO:posti@puulanmanuelli.fi
END:VEVENT
BEGIN:VEVENT
DTSTART;TZID=Europe/Helsinki:20261207T120000
DTEND;TZID=Europe/Helsinki:20261207T140000
DTSTAMP:20260422T053837
CREATED:20251219T064417Z
LAST-MODIFIED:20251219T064417Z
UID:34994-1796644800-1796652000@www.hirvensalmi.fi
SUMMARY:Jouluaskartelua Puulan Manuellissa
DESCRIPTION:Askarrellaan yhdessä joulukoristeita. Kaikki tervetulleita.
URL:https://www.hirvensalmi.fi/tapahtuma/jouluaskartelua-puulan-manuellissa-2/
LOCATION:Junnankuja 25 Hirvensalmi
ORGANIZER;CN="Hirvensalmen k%C3%A4sity%C3%B6yhdistys ry":MAILTO:posti@puulanmanuelli.fi
END:VEVENT
BEGIN:VEVENT
DTSTART;TZID=Europe/Helsinki:20261210T120000
DTEND;TZID=Europe/Helsinki:20261210T140000
DTSTAMP:20260422T053837
CREATED:20251219T064449Z
LAST-MODIFIED:20251219T064449Z
UID:34996-1796904000-1796911200@www.hirvensalmi.fi
SUMMARY:Kurssipäivä Puulan Manuellissa
DESCRIPTION:Kaikki tervetulleita.
URL:https://www.hirvensalmi.fi/tapahtuma/kurssipaiva-puulan-manuellissa-8/
LOCATION:Junnankuja 25 Hirvensalmi
ORGANIZER;CN="Hirvensalmen k%C3%A4sity%C3%B6yhdistys ry":MAILTO:posti@puulanmanuelli.fi
END:VEVENT
END:VCALENDAR