BEGIN:VCALENDAR
VERSION:2.0
PRODID:-//Hirvensalmi - ECPv6.6.4.2//NONSGML v1.0//EN
CALSCALE:GREGORIAN
METHOD:PUBLISH
X-ORIGINAL-URL:https://www.hirvensalmi.fi
X-WR-CALDESC:Tapahtumat Hirvensalmi
REFRESH-INTERVAL;VALUE=DURATION:PT1H
X-Robots-Tag:noindex
X-PUBLISHED-TTL:PT1H
BEGIN:VTIMEZONE
TZID:Europe/Helsinki
BEGIN:DAYLIGHT
TZOFFSETFROM:+0200
TZOFFSETTO:+0300
TZNAME:EEST
DTSTART:20250330T010000
END:DAYLIGHT
BEGIN:STANDARD
TZOFFSETFROM:+0300
TZOFFSETTO:+0200
TZNAME:EET
DTSTART:20251026T010000
END:STANDARD
END:VTIMEZONE
BEGIN:VEVENT
DTSTART;TZID=Europe/Helsinki:20250424T080000
DTEND;TZID=Europe/Helsinki:20250424T170000
DTSTAMP:20260423T015412
CREATED:20241212T061251Z
LAST-MODIFIED:20241212T061251Z
UID:31042-1745481600-1745514000@www.hirvensalmi.fi
SUMMARY:Tehdään yhdessä käsitöitä Puulan Manuellissa
DESCRIPTION:Tehdään yhdessä käsitöitä\, teemana vappu.
URL:https://www.hirvensalmi.fi/tapahtuma/tehdaan-yhdessa-kasitoita-puulan-manuellissa-12/
LOCATION:Junnankuja 25 Hirvensalmi
ORGANIZER;CN="Hirvensalmen k%C3%A4sity%C3%B6yhdistys ry":MAILTO:posti@puulanmanuelli.fi
END:VEVENT
BEGIN:VEVENT
DTSTART;TZID=Europe/Helsinki:20250424T180000
DTEND;TZID=Europe/Helsinki:20250424T190000
DTSTAMP:20260423T015412
CREATED:20250303T061515Z
LAST-MODIFIED:20250303T061520Z
UID:32045-1745517600-1745521200@www.hirvensalmi.fi
SUMMARY:Tervaleppäyhdistys kevätkokous
DESCRIPTION:Tervaleppäyhdistyksen sääntömääräinen kevätkokous pidetään torstaina 24.04\,2025 Kunnanviraston kunnanhallituksen kokoushuoneessa.\nKevätkokouksessa käsitellään sääntömääräiset kevätkokoukselle määrätyt asiat. \nTervetuloa \nKahvitarjoilu
URL:https://www.hirvensalmi.fi/tapahtuma/tervaleppayhdistys-kevatkokous/
LOCATION:Hirvensalmen kunnanvirasto\, Keskustie 2\, Hirvensalmi\, 52550
ORGANIZER;CN="Tervalepp%C3%A4yhdistys ry":MAILTO:tervaleppayhdistys@outlook.com
END:VEVENT
BEGIN:VEVENT
DTSTART;TZID=Europe/Helsinki:20250428T170000
DTEND;TZID=Europe/Helsinki:20250428T180000
DTSTAMP:20260423T015412
CREATED:20250428T045930Z
LAST-MODIFIED:20250428T045930Z
UID:32673-1745859600-1745863200@www.hirvensalmi.fi
SUMMARY:Kylän yhteinen kävelylenkki
DESCRIPTION:Kaikenikäisille ja kuntoisille sopiva yhteinen kävelylenkki. Yhteinen aloitus Sejon baarin pihasta\, mistä lähdemme kiertämään yhdessä sopivan pituisen lenkin/kierroksen. Kävelyn jälkeen mahdollista ostaa omakustanteisesti iltapalaa Sejolta.
URL:https://www.hirvensalmi.fi/tapahtuma/kylan-yhteinen-kavelylenkki-2/
LOCATION:Sejon Baari\, Hirvensalmentie 39\, Hirvensalmi\, 52550
ATTACH;FMTTYPE=image/png:https://www.hirvensalmi.fi/wp-content/uploads/2025/04/Kylalenkki-1.png
END:VEVENT
BEGIN:VEVENT
DTSTART;TZID=Europe/Helsinki:20250505T150000
DTEND;TZID=Europe/Helsinki:20250505T160000
DTSTAMP:20260423T015412
CREATED:20250430T063532Z
LAST-MODIFIED:20250430T063532Z
UID:32722-1746457200-1746460800@www.hirvensalmi.fi
SUMMARY:Avoin kuntosalivuoro
DESCRIPTION:Kuntalaisille avoimet ohjatut kuntosalivuorot jatkuvat kevätkaudella 2025. Kuntosalilla luvassa on opastusta kuntosaliharjoittelun aloittamiseen\, laitteiden käyttöön ja turvalliseen harjoitteluun. Tervetuloa!
URL:https://www.hirvensalmi.fi/tapahtuma/avoin-kuntosalivuoro-31/
LOCATION:Koulukeskuksen kuntosali\, Koulutie 5\, Hirvensalmi\, 52550\, Suomi
END:VEVENT
BEGIN:VEVENT
DTSTART;TZID=Europe/Helsinki:20250505T170000
DTEND;TZID=Europe/Helsinki:20250505T180000
DTSTAMP:20260423T015412
CREATED:20250428T045945Z
LAST-MODIFIED:20250428T045945Z
UID:32676-1746464400-1746468000@www.hirvensalmi.fi
SUMMARY:Kylän yhteinen kävelylenkki
DESCRIPTION:Kaikenikäisille ja kuntoisille sopiva yhteinen kävelylenkki. Yhteinen aloitus Sejon baarin pihasta\, mistä lähdemme kiertämään yhdessä sopivan pituisen lenkin/kierroksen. Kävelyn jälkeen mahdollista ostaa omakustanteisesti iltapalaa Sejolta.
URL:https://www.hirvensalmi.fi/tapahtuma/kylan-yhteinen-kavelylenkki-3/
LOCATION:Sejon Baari\, Hirvensalmentie 39\, Hirvensalmi\, 52550
ATTACH;FMTTYPE=image/png:https://www.hirvensalmi.fi/wp-content/uploads/2025/04/Kylalenkki-2.png
END:VEVENT
BEGIN:VEVENT
DTSTART;TZID=Europe/Helsinki:20250505T180000
DTEND;TZID=Europe/Helsinki:20250505T180000
DTSTAMP:20260423T015412
CREATED:20250414T065053Z
LAST-MODIFIED:20250414T065057Z
UID:32538-1746468000-1746468000@www.hirvensalmi.fi
SUMMARY:RUUSUKÄVELY ma 5.5.2025 klo 18.00 kirkonkylän seurantalo
DESCRIPTION:Kirkonkylän Martat ry järjestää perinteisen Ruusunpäiväkävelyn maanantaina 5.5.2025 alkaen klo 18.00 kirkonkylän seurantalon pihalta.\nAluksi pieni alkulämmittely ja sitten lenkkeilyä. Mehua ja ruusut osanottajille lenkin jälkeen.\nTervetuloa mukaan! Avoin kaikille.
URL:https://www.hirvensalmi.fi/tapahtuma/ruusukavely-ma-5-5-2025-klo-18-00-kirkonkylan-seurantalo/
LOCATION:Seurantalo\, kirkonkylä\, Kirkonkylä\, Hirvensalmi
END:VEVENT
BEGIN:VEVENT
DTSTART;TZID=Europe/Helsinki:20250506T160000
DTEND;TZID=Europe/Helsinki:20250506T180000
DTSTAMP:20260423T015412
CREATED:20250428T050000Z
LAST-MODIFIED:20250428T050000Z
UID:32679-1746547200-1746554400@www.hirvensalmi.fi
SUMMARY:Nuorten Olkkari
DESCRIPTION:Nuorten matalankynnyksen kohtaamispaikka. Nuorten olkkari on avoinna kaikille 17-29-vuotiaille nuorille klo 16-18. Yhteistä oleilua\, pelailua ja pientä purtavaa. Tervetuloa
URL:https://www.hirvensalmi.fi/tapahtuma/nuorten-olkkari/
LOCATION:Seuratalo\, Pitäjäntie 9\, Hirvensalmi\, 52550
ATTACH;FMTTYPE=image/png:https://www.hirvensalmi.fi/wp-content/uploads/2025/04/Nuorten-olkkari.png
END:VEVENT
BEGIN:VEVENT
DTSTART;TZID=Europe/Helsinki:20250512T150000
DTEND;TZID=Europe/Helsinki:20250512T160000
DTSTAMP:20260423T015412
CREATED:20250430T063631Z
LAST-MODIFIED:20250430T063631Z
UID:32724-1747062000-1747065600@www.hirvensalmi.fi
SUMMARY:Avoin kuntosalivuoro
DESCRIPTION:Kuntalaisille avoimet aikuisten ohjatut kuntosalivuorot jatkuvat kevätkaudella 2025. Kuntosalilla luvassa on opastusta kuntosaliharjoittelun aloittamiseen\, laitteiden käyttöön ja turvalliseen harjoitteluun. Tervetuloa!
URL:https://www.hirvensalmi.fi/tapahtuma/avoin-kuntosalivuoro-32/
LOCATION:Koulukeskuksen kuntosali\, Koulutie 5\, Hirvensalmi\, 52550\, Suomi
END:VEVENT
BEGIN:VEVENT
DTSTART;TZID=Europe/Helsinki:20250516T080000
DTEND;TZID=Europe/Helsinki:20250525T233000
DTSTAMP:20260423T015412
CREATED:20250430T064134Z
LAST-MODIFIED:20250430T064134Z
UID:32728-1747382400-1748215800@www.hirvensalmi.fi
SUMMARY:Valokuvasuunnistus 2025: kevätrastit
DESCRIPTION:Hirvensalmella on jälleen mahdollisuus reippailla tutuksi tulleessa valokuvasuunnistuksessa. \nValokuvasuunnistus järjestetään pe 16.5.-su 25.5. \nSuunnistuksen tarkoituksena on etsiä valokuvavihjeillä osoitetut punavalkoisilla lipuilla merkityt rastipaikat. Rasteja on taajamassa\, liikuntapaikoilla ja ulkoilureiteillä. Rastilla on koodikirjain\, joka merkitään rastin mukaiseen ruutuun. Jokaisella tulee olla oma merkintäkynä mukana. Vihjekuvat ja leimauskortti ovat lehden lisäksi tulostettavissa myös kunnan nettisivuilta tai noudettavissa kunnanvirastolta takaoven vieressä olevasta muovitaskusta. \nValokuvasuunnistuksen kuvat ilmestyvät Hirvensalmelaisessa ja kunnan nettisivuilla 16.5. Rastit viedään paikoilleen 15.5.
URL:https://www.hirvensalmi.fi/tapahtuma/valokuvasuunnistus-2025-kevatrastit/
END:VEVENT
BEGIN:VEVENT
DTSTART;TZID=Europe/Helsinki:20250517T090000
DTEND;TZID=Europe/Helsinki:20250517T180000
DTSTAMP:20260423T015412
CREATED:20250401T040549Z
LAST-MODIFIED:20250401T040549Z
UID:32400-1747472400-1747504800@www.hirvensalmi.fi
SUMMARY:8.Hirvensalmelainen ajo
DESCRIPTION:Kaikille avoin\, omakustanteinen moottoripyöräretki Kuopion automuseoon\nKokoontuminen Sataman Herkku klo 9.00 Lähtö 9.30\nRetken pituus n. 400km
URL:https://www.hirvensalmi.fi/tapahtuma/8-hirvensalmelainen-ajo/
LOCATION:Sataman herkku\, Hirvensalmentie 22A\, Hirvensalmi\, 52550
ATTACH;FMTTYPE=image/jpeg:https://www.hirvensalmi.fi/wp-content/uploads/2025/03/Remppa-logo-JPG.jpg
END:VEVENT
BEGIN:VEVENT
DTSTART;TZID=Europe/Helsinki:20250519T130000
DTEND;TZID=Europe/Helsinki:20250519T143000
DTSTAMP:20260423T015412
CREATED:20250313T051627Z
LAST-MODIFIED:20250313T051632Z
UID:32171-1747659600-1747665000@www.hirvensalmi.fi
SUMMARY:Omais- ja läheishoitajien vertaistukiryhmä Hirvensalmella
DESCRIPTION:Vertaistukiryhmä kaikille omaistaan ja läheistään hoitaville Hirvensalmella. \nVertaistukiryhmässä voit jakaa kokemuksia luottamuksellisessa ja ymmärtävässä ilmapiirissä toisten läheis- ja omaishoitajien kanssa. Arjen vinkit\, ilot ja surut on helpompi kertoa\, kun vertainen ymmärtää\, mistä on kyse. Ryhmää ohjaa ammattilainen tuoden jokaiselle ryhmäkerralle tietoa\, tehtäviä\, pohdittavaa tai vaikkapa vierailijan. \nSinun ei tarvitse olla sopimusomaishoitaja tai yhdistyksen jäsen\, huoli ja hoivavastuu läheisestä tai omaisesta riittää. \nRyhmä toteutetaan yhteistyössä Etelä-Savon Muistiluotsin kanssa. \nRyhmä kokoontuu kerran kuussa maanantaisin klo 13-14.30:\n20.1. MsOL: Eloisan palveluohjaaja Anne Hiljanen\n17.2. Muisti\n17.3. MsOL: Sirpa-Helena Pesonen\, vanhus- ja vammaisneuvosto\n14.4. Muisti\n19.5. yhdessä \nLämpimästi tervetuloa!
URL:https://www.hirvensalmi.fi/tapahtuma/omais-ja-laheishoitajien-vertaistukiryhma-hirvensalmella-3/
LOCATION:Seuratalo\, Pitäjäntie 9\, Hirvensalmi\, 52550
ATTACH;FMTTYPE=image/png:https://www.hirvensalmi.fi/wp-content/uploads/2025/03/Hirvensalmi-kevat-2025-Instagram-postaus-2.png
END:VEVENT
BEGIN:VEVENT
DTSTART;TZID=Europe/Helsinki:20250519T150000
DTEND;TZID=Europe/Helsinki:20250519T160000
DTSTAMP:20260423T015412
CREATED:20250430T063729Z
LAST-MODIFIED:20250430T063729Z
UID:32726-1747666800-1747670400@www.hirvensalmi.fi
SUMMARY:Avoin kuntosalivuoro
DESCRIPTION:Kuntalaisille avoimet aikuisten ohjatut kuntosalivuorot jatkuvat kevätkaudella 2025. Kuntosalilla luvassa on opastusta kuntosaliharjoittelun aloittamiseen\, laitteiden käyttöön ja turvalliseen harjoitteluun. Tervetuloa!
URL:https://www.hirvensalmi.fi/tapahtuma/avoin-kuntosalivuoro-33/
LOCATION:Koulukeskuksen kuntosali\, Koulutie 5\, Hirvensalmi\, 52550\, Suomi
END:VEVENT
BEGIN:VEVENT
DTSTART;TZID=Europe/Helsinki:20250522T120000
DTEND;TZID=Europe/Helsinki:20250522T143000
DTSTAMP:20260423T015412
CREATED:20250507T042241Z
LAST-MODIFIED:20250507T042241Z
UID:32816-1747915200-1747924200@www.hirvensalmi.fi
SUMMARY:Toukosiunaus!
DESCRIPTION:Toukosiunaus yhteistyössä seurakunnan kanssa torstaina 22.5.2025 klo 12.00\nPaikka Kilkintie 1275 Luomutila / Siiriäinen\, entisen Torniaisen leipomon piha.\nKylvön siunauksen tekee kirkkoherra Asko Nuorkivi. Tarjolla keittolounas ja kahvit\, vapaaehtoinen maksu.
URL:https://www.hirvensalmi.fi/tapahtuma/toukosiunaus-2/
LOCATION:Kilkintie 1275\, Kilkintie 1275\, Hirvensalmi\, Finland
END:VEVENT
BEGIN:VEVENT
DTSTART;TZID=Europe/Helsinki:20250522T140000
DTEND;TZID=Europe/Helsinki:20250522T160000
DTSTAMP:20260423T015412
CREATED:20250513T090246Z
LAST-MODIFIED:20250513T090246Z
UID:32912-1747922400-1747929600@www.hirvensalmi.fi
SUMMARY:Kirkonkylän marttojen päiväkahvit 22.5.2025
DESCRIPTION:Kirkonkylän martat laulavat marttalauluja säestyksen kera seurantalolla torstaina 22.5.2025.
URL:https://www.hirvensalmi.fi/tapahtuma/kirkonkylan-marttojen-paivakahvit-22-5-2025/
LOCATION:Seurantalo\, kirkonkylä\, Kirkonkylä\, Hirvensalmi
END:VEVENT
BEGIN:VEVENT
DTSTART;TZID=Europe/Helsinki:20250522T150000
DTEND;TZID=Europe/Helsinki:20250522T180000
DTSTAMP:20260423T015412
CREATED:20250425T093829Z
LAST-MODIFIED:20250425T093858Z
UID:32654-1747926000-1747936800@www.hirvensalmi.fi
SUMMARY:Passikuvaus 22.5.2025 kunnanvirastolla
DESCRIPTION:
URL:https://www.hirvensalmi.fi/tapahtuma/passikuvaus-22-5-2025/
END:VEVENT
BEGIN:VEVENT
DTSTART;TZID=Europe/Helsinki:20250524T100000
DTEND;TZID=Europe/Helsinki:20250524T120000
DTSTAMP:20260423T015412
CREATED:20250428T064330Z
LAST-MODIFIED:20250428T064330Z
UID:32684-1748080800-1748088000@www.hirvensalmi.fi
SUMMARY:Yksityistiepäivä
DESCRIPTION:Aika: 24.5.2025 klo 10 -12\nPaikka: Kunnantalo\, valtuustosali\nIlmoittautuminen päättyy: 21.5. (ilmoittaudu Metsäkeskuksen tapahtumakalenterin kautta osoitteessa: https://www.lyyti.in/Yksityistiepaiva_Hirvensalmi_2086)\nKenelle: Tilaisuus on suunnattu erityisesti Hirvensalmen alueen yksityistiekunnille\, maanomistajille sekä kaikille yksityistieasioista kiinnostuneille.\nOhjelmassa on muun muassa seuraavia aiheita:\nYksityisteiden kunnossapidon perusteet\nPerusparannushankkeen menettelytavat ja avustukset\nTiekunnan merkitys päätöksenteossa\nYksityisteiden ja siltojen kuntokartoituksen tulokset (TIESIT-hanke)\nESSIT-hankkeen toiminta ja tavoitteet.\nIlmoittautuminen ja hinta\nKahvitarjoilun mitoittamiseksi ilmoittaudu viimeistään 21.5 mennessä. (ilmoittaudu Metsäkeskuksen tapahtumakalenterin kautta)\nYksityistiepäivän on osa ESSIT – Etelä-Savon sillat ja tiet kuntoon -hanketta ja on osallistujalle maksuton. Lisätietoja Essit-hankkeesta osoitteesta: https://www.metsakeskus.fi/fi/hankkeet/etela-savon-sillat-ja-tiet-kuntoon-essit\nESSIT-hanke on Euroopan unionin osarahoittama.\nSaat tarkempia osallistumisohjeita sisältävän tervetuloa-viestin sähköpostiisi viimeistään tilaisuutta edeltävän päivän aikana. Tarkistathan myös roskapostikansion. Jos viestiä ei löydy\, ole yhteydessä tilaisuuden järjestäjään.\nLisätietoja\nJari Lievonen\nprojektipäällikkö\npuh. 050 475 4299\njari.lievonen@metsakeskus.fi\nSuomen metsäkeskus
URL:https://www.hirvensalmi.fi/tapahtuma/yksityistiepaiva/
LOCATION:Hirvensalmen kunnanvirasto valtuustosali
ATTACH;FMTTYPE=image/png:https://www.hirvensalmi.fi/wp-content/uploads/2025/04/kuva_hirvensalmi.png
END:VEVENT
BEGIN:VEVENT
DTSTART;TZID=Europe/Helsinki:20250524T110000
DTEND;TZID=Europe/Helsinki:20250524T140000
DTSTAMP:20260423T015412
CREATED:20241212T061231Z
LAST-MODIFIED:20241212T061231Z
UID:31044-1748084400-1748095200@www.hirvensalmi.fi
SUMMARY:Tervetuloa kesä !
DESCRIPTION:Toivotetaan yhdessä kesä tervetulleeksi. Kahvia\, arvontaa\, arvuuttelua.
URL:https://www.hirvensalmi.fi/tapahtuma/tervetuloa-kesa/
LOCATION:Junnankuja 25 Hirvensalmi
ORGANIZER;CN="Hirvensalmen k%C3%A4sity%C3%B6yhdistys ry":MAILTO:posti@puulanmanuelli.fi
END:VEVENT
BEGIN:VEVENT
DTSTART;TZID=Europe/Helsinki:20250527T180000
DTEND;TZID=Europe/Helsinki:20250527T200000
DTSTAMP:20260423T015412
CREATED:20250506T040548Z
LAST-MODIFIED:20250506T040548Z
UID:32792-1748368800-1748376000@www.hirvensalmi.fi
SUMMARY:Lasten yleisurheilukisat
DESCRIPTION:Metsä Group -seurakisat\, 2-otteluna (juoksu + pituus tai juoksu + pallonheitto/kuula)
URL:https://www.hirvensalmi.fi/tapahtuma/lasten-yleisurheilukisat/
END:VEVENT
BEGIN:VEVENT
DTSTART;TZID=Europe/Helsinki:20250528T120000
DTEND;TZID=Europe/Helsinki:20250528T140000
DTSTAMP:20260423T015413
CREATED:20241212T061219Z
LAST-MODIFIED:20241212T061219Z
UID:31046-1748433600-1748440800@www.hirvensalmi.fi
SUMMARY:Tehdään yhdessä käsitöitä Puulan Manuellissa
DESCRIPTION:Tehdään yhdessä käsitöitä.
URL:https://www.hirvensalmi.fi/tapahtuma/tehdaan-yhdessa-kasitoita-puulan-manuellissa-11/
LOCATION:Junnankuja 25 Hirvensalmi
ORGANIZER;CN="Hirvensalmen k%C3%A4sity%C3%B6yhdistys ry":MAILTO:posti@puulanmanuelli.fi
END:VEVENT
BEGIN:VEVENT
DTSTART;TZID=Europe/Helsinki:20250602T143000
DTEND;TZID=Europe/Helsinki:20250602T153000
DTSTAMP:20260423T015413
CREATED:20250530T062326Z
LAST-MODIFIED:20250530T062326Z
UID:33105-1748874600-1748878200@www.hirvensalmi.fi
SUMMARY:Avoin ulkotreeni
DESCRIPTION:Avoin ulkotreeni urheilukentän ulkokuntosalilaitteilla ja kuntoportailla. Treenivinkkejä matalan kynnyksen aloittamiseen. Tervetuloa!
URL:https://www.hirvensalmi.fi/tapahtuma/avoin-ulkotreeni-3/
LOCATION:Hirvensalmen urheilukenttä\, Kisatie\, Hirvensalmi\, 52550
END:VEVENT
BEGIN:VEVENT
DTSTART;TZID=Europe/Helsinki:20250603T120000
DTEND;TZID=Europe/Helsinki:20250603T140000
DTSTAMP:20260423T015413
CREATED:20241220T121022Z
LAST-MODIFIED:20241220T121022Z
UID:31183-1748952000-1748959200@www.hirvensalmi.fi
SUMMARY:Koristellaan kiviä kurssi
DESCRIPTION:Kurssilla koristellaan kiviä. Kaikki tervetulleita.
URL:https://www.hirvensalmi.fi/tapahtuma/koristellaan-kivia-kurssi-2/
LOCATION:Junnankuja 25 Hirvensalmi
ORGANIZER;CN="Hirvensalmen k%C3%A4sity%C3%B6yhdistys ry":MAILTO:posti@puulanmanuelli.fi
END:VEVENT
BEGIN:VEVENT
DTSTART;TZID=Europe/Helsinki:20250604T110000
DTEND;TZID=Europe/Helsinki:20250604T123000
DTSTAMP:20260423T015413
CREATED:20250505T040612Z
LAST-MODIFIED:20250505T040612Z
UID:32762-1749034800-1749040200@www.hirvensalmi.fi
SUMMARY:Laulua & soppaa
DESCRIPTION:“Laulua & soppaa” on ulkoilmatapahtuma\, jossa kokoonnutaan Seuratalon puistoon laulamaan yhteislauluja solistien säestyksellä ja minkä jälkeen on puistoruokailu. Ota siis oma viltti\, eväsastiat mukaan ja repullinen reipasta laulumeininkiä. Tilaisuus toteutetaan yhteistyössä Hirvensalmen kunnan ja Hirvensalmen maa- ja kotitalous seura ry:n kanssa. \nTervetuloa yhteisölliseen tapahtumaan Hirvensalmen kylän raitille – eli Seuratalon puistoon. Kokoonnumme sinne laulamaan yhteislauluja solistien sävellyksellä ja laulujen jälkeen syömme yhdessä\, eli tilaisuudessa myös puistoruokailu. \nOta mahdollisuuksien mukaan omat eväsastiat mukaan sekä viltti\, sillä ruokailun on tarkoitus tapahtua puistossa itsessään\, mikäli oma kunto ja sää sen sallii. Seuratalo on varattu ruokailuun heille\, joille maahan istuminen on hankalaa. Sadesäällä tilaisuus järjestetään kokonaan Seuratalossa. Järjestäjiltä löytyy myös kertakäyttöastioita\, jos omat eväsastiat unohtuvat tai puuttuvat kokonaan. \nRuokailun hinnat: ilmaista alle 18-vuotiaille\, kaikilta muilta 5€. Mikäli soppaa jää yli\, niin sitä voi ostaa myös mukaan 5€:lla per purkki. \nTapahtuma on tarkoitettu kaikille!
URL:https://www.hirvensalmi.fi/tapahtuma/laulua-soppaa/
LOCATION:Seurantalo\, kirkonkylä\, Kirkonkylä\, Hirvensalmi
END:VEVENT
BEGIN:VEVENT
DTSTART;TZID=Europe/Helsinki:20250606T190000
DTEND;TZID=Europe/Helsinki:20250606T190000
DTSTAMP:20260423T015413
CREATED:20250528T070740Z
LAST-MODIFIED:20250528T070740Z
UID:33089-1749236400-1749236400@www.hirvensalmi.fi
SUMMARY:Kesän avajaistanssit Hirvensalmen Kellokallion tanssilavalla pe 6.6 Johanna Rantsi ja Mojova
DESCRIPTION:Kesän avajaiset Kellokallion tanssilavalla pe 6.6.25\,klo 19-23 lavalle nousee suosittu tanssitähti Johanna Rantsi ja Mojova\, Liput 18 euroa \nLisätietoa p.040-7406354 \nJohanna Rantsi: \nKarismaattinen\, tunnistettava ääni\, kiehtova\, ja ehdottomasti tulevaisuuden tähti. Näin määritteli tuomaristo vuonna 2000 Lavatähtiprinsessaksi valitun Johanna Rantsin taidot. Keikkailuun tuli tauko\, lasten syntymien myötä. \nJohanna teki räjähdysmäisen come backin \, v. 2022 \n“Hallitsematon” single löi läpi radioaalloilla\, mm. ollen Radio Pookin listaykkösenä! \nHän on julkaissut tasaisin väliajoin tuoretta\, nuorekasta ja ennen kaikkea tanssittavaa musiikkia. Biisien takana on maamme huipputekijät. \nJohanna on noussut nopeasti tanssikansan suosikiksi. \nKesäkuussa tanssitaan \nPe 13.6 J.Eskelinen ja Onnenkulkurit \nPe 27.6 Mira Kunnasluoto ja Paratiisi
URL:https://www.hirvensalmi.fi/tapahtuma/kesan-avajaistanssit-hirvensalmen-kellokallion-tanssilavalla-pe-6-6-johanna-rantsi-ja-mojova/
LOCATION:Kellokallion lava
ATTACH;FMTTYPE=image/jpeg:https://www.hirvensalmi.fi/wp-content/uploads/2025/05/IMG-20241221-WA0000.jpg
END:VEVENT
BEGIN:VEVENT
DTSTART;TZID=Europe/Helsinki:20250607T100000
DTEND;TZID=Europe/Helsinki:20250607T150000
DTSTAMP:20260423T015413
CREATED:20250609T041840Z
LAST-MODIFIED:20250609T041840Z
UID:33184-1749290400-1749308400@www.hirvensalmi.fi
SUMMARY:VUOSIEN VARRELTA
DESCRIPTION:Laina Honkasen 90v käsityönäyttely Lounaskahvila Eija Karjalaisen tilassa\nHirvensalmentie 25
URL:https://www.hirvensalmi.fi/tapahtuma/vuosien-varrelta/
END:VEVENT
BEGIN:VEVENT
DTSTART;TZID=Europe/Helsinki:20250607T100000
DTEND;TZID=Europe/Helsinki:20250607T160000
DTSTAMP:20260423T015413
CREATED:20250515T115240Z
LAST-MODIFIED:20250515T115240Z
UID:32949-1749290400-1749312000@www.hirvensalmi.fi
SUMMARY:Tuukkalan Kesäpuodin avajaiset
DESCRIPTION:Tuukkalan Kesäpuoti avaa ovensa kesäkauteen 7.6.25 klo 10-16 \nAvajaisissa on tarjolla mukavaa ohjelmaa.\nTervetuloa mukaan tapaamaan tuttuja ja tutustumaan uusiin tuttaviin!
URL:https://www.hirvensalmi.fi/tapahtuma/tuukkalan-kesapuodin-avajaiset-2/
LOCATION:Tuukkalan kesäpuoti\, Joutsantie 1212\, Hirvensalmi\, Etelä-Savo\, 52610\, Suomi
ATTACH;FMTTYPE=image/png:https://www.hirvensalmi.fi/wp-content/uploads/2025/05/Avajaiset_k.png
END:VEVENT
BEGIN:VEVENT
DTSTART;TZID=Europe/Helsinki:20250607T100000
DTEND;TZID=Europe/Helsinki:20250809T160000
DTSTAMP:20260423T015413
CREATED:20250514T124008Z
LAST-MODIFIED:20250514T124008Z
UID:32933-1749290400-1754755200@www.hirvensalmi.fi
SUMMARY:Taidenäyttely Sirpa Rahdulta Tuukkalan Kesäpuodilla
DESCRIPTION:Sirpa Rahtu on koulutukseltaan muotitaiteilija\, ja se näkyy hänen töissään. Öljy- ja akryylimaalaus on ollut jo vuosia tärkeä luomisen väline. Näyttelyssä on mukana myös muutama kesäinen akvarellimaalaus. Näyttelyyn pääsee tutustumaan Tuukkalan Kesäpuodin kahviossa kesäaikaan puodin aukioloaikoina eli keskiviikosta lauantaihin klo 10-16 (ei juhannuslauantaina 21.6.\, mutta auki puolestaan sunnuntaina 22.6.)
URL:https://www.hirvensalmi.fi/tapahtuma/taidenayttely-sirpa-rahdulta-tuukkalan-kesapuodilla/
LOCATION:Tuukkalan kesäpuoti\, Joutsantie 1212\, Hirvensalmi\, Etelä-Savo\, 52610\, Suomi
ATTACH;FMTTYPE=image/jpeg:https://www.hirvensalmi.fi/wp-content/uploads/2025/05/kukkia.jpg
END:VEVENT
BEGIN:VEVENT
DTSTART;TZID=Europe/Helsinki:20250610T100000
DTEND;TZID=Europe/Helsinki:20250612T130000
DTSTAMP:20260423T015413
CREATED:20250513T125435Z
LAST-MODIFIED:20250609T084849Z
UID:32929-1749549600-1749733200@www.hirvensalmi.fi
SUMMARY:Liikuntaleiri
DESCRIPTION:Hirvensalmen kunta järjestää maksuttoman liikuntaleirin 7-15 -vuotiaille lapsille ja nuorille. Leiri järjestetään 10-12.6. päivittäin klo 10-13. Luvassa on monipuolista liikunnallista toimintaa ja kesäistä tekemistä palloilun ja muiden urheilulajien parissa. \nLeirille tarvitset mukaan säänmukaiset urheiluvarusteet ja juomapullon sekä halutessasi pienet eväät. \nIlmoittautumiset huoltajan yhteystietoineen sähköpostitse osoitteeseen mikko.haverinen@hirvensalmi.fi 4.6. mennessä. \nHUOM! Leirin alkaa tiistaina 10.6. klo 10 Elomaan koulun takapihalla (Koulutie 5).
URL:https://www.hirvensalmi.fi/tapahtuma/liikuntaleiri/
LOCATION:Elomaan koulu\, Koulutie\, 52550 Hirvensalmi\, Hirvensalmi\, 52550
END:VEVENT
BEGIN:VEVENT
DTSTART;TZID=Europe/Helsinki:20250613T190000
DTEND;TZID=Europe/Helsinki:20250613T230000
DTSTAMP:20260423T015413
CREATED:20250528T070813Z
LAST-MODIFIED:20250528T070813Z
UID:33092-1749841200-1749855600@www.hirvensalmi.fi
SUMMARY:Lavatanssit Hirvensalmen Kellokallion tanssilavalla pe 13.6 J.Eskelinen ja Onnenkulkurit
DESCRIPTION:Kesäkuussa tanssitaan Hirvensalmen Kellokallion tanssilavalla pe 13.6 klo 19. Lavalle nousee upeaääninen J.Eskelinen ja Onnenkulkurit. Liput 18 euroa\, lisätietoa 040-7406354 \nTulossa: pe 27.6 Mira Kunnasluoto ja Paratiisi \nJ.Eskelinen:\nKarismaattisena esiintyjänä mainetta niittävä J.Eskelinen on saanut kehuja monipuolisesta ohjelmistostaan. Hän tunnustautuu perinteisen tanssimusiikin\, iskelmän- ja rautalangan faniksi.\nKeikkaohjelmisto on valittu huolella nostalgisista klassikkokappaleista\, omasta uudesta tuotannosta\, sekä nykypäivänä harvemmin kuulluista\, kenties hieman jo unhoon jääneistä helmistä. J.Eskelinen on pikkupojasta asti tykännyt Olavi Virrasta sekä Elvis Presleystä\, joten ohjelmistossa on myös Olavi Virran ja itsekuningas Elviksen levytyksiä. Parhaillaan hän viihdyttää tanssikansaa ympäri Suomea oman Onnenkulkurit yhtyeensä kanssa. \nArtistin nettisivut: www.j-eskelinen.net
URL:https://www.hirvensalmi.fi/tapahtuma/lavatanssit-hirvensalmen-kellokallion-tanssilavalla-pe-13-6-j-eskelinen-ja-onnenkulkurit/
LOCATION:Kellokallion tanssilava
ATTACH;FMTTYPE=image/jpeg:https://www.hirvensalmi.fi/wp-content/uploads/2025/05/489758911_1145463140928701_7768162454753031375_n.jpg
END:VEVENT
BEGIN:VEVENT
DTSTART;TZID=Europe/Helsinki:20250614T100000
DTEND;TZID=Europe/Helsinki:20250614T160000
DTSTAMP:20260423T015413
CREATED:20250515T115223Z
LAST-MODIFIED:20250515T115223Z
UID:32952-1749895200-1749916800@www.hirvensalmi.fi
SUMMARY:Luonnonlaidunpäivä Hirvensalmen Tuukkalassa 14.6.25
DESCRIPTION:Tuukkalan Kesäpuodin pihassa laiduntavat Mäkelän lammastilalta Tiina Jokelan lampaat upouudella luonnonlaitumella\, mikä ulottuu Suonteen rantaan. Kivenheiton päässä laiduntavat Jarmo ja Keijo Kiesilän tilan emolehmät pitkään hoidossa olleella\, valtakunnallisesti arvokkaalla perinnebiotooppiniityllä. \nEmolehmälaitumeen pääsee tutustumaan ohjatulla laidunkierroksella klo 12 ja muuna aikana omatoimisesti aidan takaa.\nLammaslaitumeen pääsee tutustumaan koko tapahtuman ajan ja myös lampuri on paikalla.\nEtelä-Savon maa- ja kotitalousnaisten luonnonlaiduninfo toimii Kesäpuodilla koko tapahtuman ajan. \nTapahtuman järjestävät Etelä-Savon MKN Maa- ja kotitalousnaiset\, Tuukkalan Kesäpuoti
URL:https://www.hirvensalmi.fi/tapahtuma/luonnonlaidunpaiva-hirvensalmen-tuukkalassa-14-6-25/
LOCATION:Tuukkalan kylätalo\, Joutsantie 1212\, 52610 Tuukkala
ATTACH;FMTTYPE=image/png:https://www.hirvensalmi.fi/wp-content/uploads/2025/05/Luonnonlaidunpaiva1_k.png
END:VEVENT
BEGIN:VEVENT
DTSTART;TZID=Europe/Helsinki:20250614T110000
DTEND;TZID=Europe/Helsinki:20250614T150000
DTSTAMP:20260423T015413
CREATED:20250526T041653Z
LAST-MODIFIED:20250526T041653Z
UID:33052-1749898800-1749913200@www.hirvensalmi.fi
SUMMARY:Hietalan luomutilan Avoimet Ovet
DESCRIPTION:Perinteiset Avoimet Ovet- tapahtuma Hietalan luomutilalla. Paikalla makkaran paistoa\, maa- ja kotitalousnaisten lettukahvio\, eläimiä nähtävillä\, sekä lihapuoti auki koko tapahtuman ajan. Pomppulinna pystytetään myös mikäli säät sen sallivat.
URL:https://www.hirvensalmi.fi/tapahtuma/hietalan-luomutilan-avoimet-ovet/
LOCATION:Hietalan luomutila\, Kilkintie 936\, Hirvensalmi\, 52550
ATTACH;FMTTYPE=image/png:https://www.hirvensalmi.fi/wp-content/uploads/2025/05/Brown-and-Yellow-Illustrated-Farm-Event-Announcement-Instagram-Post_20250509_062923_0000.png
ORGANIZER;CN="Hietalan luomutila":MAILTO:hietalanluomutila@gmail.com
END:VEVENT
END:VCALENDAR