BEGIN:VCALENDAR
VERSION:2.0
PRODID:-//Hirvensalmi - ECPv6.6.4.2//NONSGML v1.0//EN
CALSCALE:GREGORIAN
METHOD:PUBLISH
X-ORIGINAL-URL:https://www.hirvensalmi.fi
X-WR-CALDESC:Tapahtumat Hirvensalmi
REFRESH-INTERVAL;VALUE=DURATION:PT1H
X-Robots-Tag:noindex
X-PUBLISHED-TTL:PT1H
BEGIN:VTIMEZONE
TZID:Europe/Helsinki
BEGIN:DAYLIGHT
TZOFFSETFROM:+0200
TZOFFSETTO:+0300
TZNAME:EEST
DTSTART:20250330T010000
END:DAYLIGHT
BEGIN:STANDARD
TZOFFSETFROM:+0300
TZOFFSETTO:+0200
TZNAME:EET
DTSTART:20251026T010000
END:STANDARD
END:VTIMEZONE
BEGIN:VEVENT
DTSTART;TZID=Europe/Helsinki:20250901T150000
DTEND;TZID=Europe/Helsinki:20250901T160000
DTSTAMP:20260422T044946
CREATED:20250812T114344Z
LAST-MODIFIED:20250812T114344Z
UID:33728-1756738800-1756742400@www.hirvensalmi.fi
SUMMARY:Avoin kuntosalivuoro
DESCRIPTION:Kuntalaisille avoimet aikuisten ohjatut kuntosalivuorot jatkuvat syyskaudella 2025. Kuntosalilla luvassa on opastusta kuntosaliharjoittelun aloittamiseen\, laitteiden käyttöön ja turvalliseen harjoitteluun. Tervetuloa!
URL:https://www.hirvensalmi.fi/tapahtuma/avoin-kuntosalivuoro-34/
LOCATION:Koulukeskuksen kuntosali\, Koulutie 5\, Hirvensalmi\, 52550\, Suomi
END:VEVENT
BEGIN:VEVENT
DTSTART;TZID=Europe/Helsinki:20250902T080000
DTEND;TZID=Europe/Helsinki:20250902T170000
DTSTAMP:20260422T044946
CREATED:20250902T093018Z
LAST-MODIFIED:20250902T093018Z
UID:33889-1756800000-1756832400@www.hirvensalmi.fi
SUMMARY:Mikkelin Seudun Sydänyhdistys r.y.\, Hirvensalmen Sydänkerho
DESCRIPTION:Sydänjumppa alkaa maanant. 22.09.2025 klo 10.30 Seuratalolla. Jumppaa ohjaa fys.terapeutti Jaana Pöyry. Mukaan mahtuu 20 osallistujaa. Ilmoitus osallistumisesta Pirjolle puh 040 5069506
URL:https://www.hirvensalmi.fi/tapahtuma/mikkelin-seudun-sydanyhdistys-r-y-hirvensalmen-sydankerho/
LOCATION:Hirvensalmen Seuratalo\, Pitäjäntie 7\, Hirvensalmi\, 52550
ORGANIZER;CN="Hirvensalmen Syd%C3%A4nkerho":MAILTO:marjaliisa.koskela@gmail.com
END:VEVENT
BEGIN:VEVENT
DTSTART;TZID=Europe/Helsinki:20250902T120000
DTEND;TZID=Europe/Helsinki:20250902T133000
DTSTAMP:20260422T044946
CREATED:20250812T112541Z
LAST-MODIFIED:20250812T112552Z
UID:33725-1756814400-1756819800@www.hirvensalmi.fi
SUMMARY:Hyvinvointia arkipäiviin
DESCRIPTION:Mielen tasapaino\, aivojen hyvinvointi ja liikunnan terveyshyödyt.\nTarvitsetko tietoa ja tukea näissä asioissa\, jotta arjessa olisi mukava matkustaa? \nTule kuulemaan ja pohtimaan sinulle sopivaa\nhyvinvointia yhdessä toimien tai yksilöllisessä ohjauksessa. \nLisätietoa Hanne Pyrhönen\np. 0400 539007 tai hanne.pyrhonen@msmuisti.fi\nToiminta on kohdennettu yli 65 -vuotiaille
URL:https://www.hirvensalmi.fi/tapahtuma/hyvinvointia-arkipaiviin/
LOCATION:Hirvensalmen Seuratalo\, Pitäjäntie 7\, Hirvensalmi\, 52550
ORGANIZER;CN="Mikkelin seudun Muisti ry":MAILTO:riitta.halonen@msmuisti.fi
END:VEVENT
BEGIN:VEVENT
DTSTART;TZID=Europe/Helsinki:20250906T100000
DTEND;TZID=Europe/Helsinki:20250906T120000
DTSTAMP:20260422T044946
CREATED:20250815T113113Z
LAST-MODIFIED:20250902T081130Z
UID:33768-1757152800-1757160000@www.hirvensalmi.fi
SUMMARY:Harrastusmessut
DESCRIPTION:Tule tutustumaan Hirvensalmen monipuoliseen harrastustoimintaan ja löydä itsellesi uusi harrastus! Paikalliset toimijat esittelevät harrastustoimintojaan. Tapahtumassa toteutetaan myös yhteisvastuukeräys lasten ja nuorten hyväksi. Tapahtuma on avoin ja maksuton kaikenikäisille. Kahvi- ja mehutarjoilu. Tervetuloa! \nKierretään urheilukenttää hyvän asian puolesta! Hirvensalmen kunta lahjoittaa euron yhteisvastuukeräykseen jokaisesta kentän kiertäjästä. Joten nyt reippailemaan ja haasta myös kaverisi mukaan kierrokselle. \nTapahtumaan mahtuu vielä hyvin mukaan esittelemään harrastustoimintaa. Ota yhteyttä mikko.haverinen@hirvensalmi.fi \n  \nTapahtumassa mukana mm. \nHirvensalmen kunta \nHirvensalmen Seurakunta \nEläkeliitto \nHirvensalmen Autourheilijat \nHirvensalmen Käsityöyhdistys \nStudio Martta \nHirvensalmen Sydänkerho \n  \nTarjoilut lahjoittaa S-Market Hirvensalmi \n 
URL:https://www.hirvensalmi.fi/tapahtuma/harrastusmessut-2/
LOCATION:Hirvensalmen urheilukenttä\, Kisatie\, Hirvensalmi\, 52550
END:VEVENT
BEGIN:VEVENT
DTSTART;TZID=Europe/Helsinki:20250908T160000
DTEND;TZID=Europe/Helsinki:20250908T170000
DTSTAMP:20260422T044946
CREATED:20250812T114656Z
LAST-MODIFIED:20250812T114656Z
UID:33734-1757347200-1757350800@www.hirvensalmi.fi
SUMMARY:Nuorten avoin kuntosalivuoro
DESCRIPTION:Nuorten avoimet ja ohjatut kuntosalivuorot jatkuvat syyskaudella 2025. Kuntosalilla luvassa on opastusta kuntosaliharjoittelun aloittamiseen\, laitteiden käyttöön ja turvalliseen harjoitteluun. Tervetuloa!
URL:https://www.hirvensalmi.fi/tapahtuma/nuorten-avoin-kuntosalivuoro-7/
LOCATION:Koulukeskuksen kuntosali\, Koulutie 5\, Hirvensalmi\, 52550\, Suomi
END:VEVENT
BEGIN:VEVENT
DTSTART;TZID=Europe/Helsinki:20250909T120000
DTEND;TZID=Europe/Helsinki:20250909T140000
DTSTAMP:20260422T044946
CREATED:20250905T064455Z
LAST-MODIFIED:20250905T064455Z
UID:33922-1757419200-1757426400@www.hirvensalmi.fi
SUMMARY:Pöyryn vanhan hautausmaan historiaa!
DESCRIPTION:Tiistaina 9.9.2025 klo 12.00 Seuratalolla Pirjo Lehtinen kertoo Pöyryn hautausmaasta. Tämä mielenkiintoinen aihe herättää varmasti ajatuksia menneestä historiasta. Kahvia tarjolla klo 11.30\nTervetuloa kuuntelemaan ja keskustelemaan!
URL:https://www.hirvensalmi.fi/tapahtuma/poyryn-vanhan-hautausmaan-historiaa/
LOCATION:Seuratalo\, Pitäjäntie 9\, Hirvensalmi\, 52550
END:VEVENT
BEGIN:VEVENT
DTSTART;TZID=Europe/Helsinki:20250915T150000
DTEND;TZID=Europe/Helsinki:20250915T160000
DTSTAMP:20260422T044946
CREATED:20250812T114449Z
LAST-MODIFIED:20250812T114449Z
UID:33730-1757948400-1757952000@www.hirvensalmi.fi
SUMMARY:Avoin kuntosalivuoro
DESCRIPTION:Kuntalaisille avoimet aikuisten ohjatut kuntosalivuorot jatkuvat syyskaudella 2025. Kuntosalilla luvassa on opastusta kuntosaliharjoittelun aloittamiseen\, laitteiden käyttöön ja turvalliseen harjoitteluun. Tervetuloa!
URL:https://www.hirvensalmi.fi/tapahtuma/avoin-kuntosalivuoro-35/
LOCATION:Koulukeskuksen kuntosali\, Koulutie 5\, Hirvensalmi\, 52550\, Suomi
END:VEVENT
BEGIN:VEVENT
DTSTART;TZID=Europe/Helsinki:20250916T100000
DTEND;TZID=Europe/Helsinki:20250916T113000
DTSTAMP:20260422T044946
CREATED:20250826T080438Z
LAST-MODIFIED:20250826T080438Z
UID:33842-1758016800-1758022200@www.hirvensalmi.fi
SUMMARY:Muistikävely
DESCRIPTION:Tule kävelemään yhdessä pieni lenkki. Reitin varrella pohdittavaksi aivo- ja muistiaiheisia kysymyksiä\, joilla voit testata tietouttasi ja oppia ehkä uuttakin!
URL:https://www.hirvensalmi.fi/tapahtuma/muistikavely/
LOCATION:Hirvensalmen urheilukenttä\, Kisatie\, Hirvensalmi\, 52550
ATTACH;FMTTYPE=image/jpeg:https://www.hirvensalmi.fi/wp-content/uploads/2025/08/Hirvensalmi_16.9.jpg
ORGANIZER;CN="Etel%C3%A4-Savon Muistiluotsi":MAILTO:hanne.pyrhonen@msmuisti.fi
END:VEVENT
BEGIN:VEVENT
DTSTART;TZID=Europe/Helsinki:20250918T120000
DTEND;TZID=Europe/Helsinki:20250918T140000
DTSTAMP:20260422T044946
CREATED:20250102T055015Z
LAST-MODIFIED:20250102T055021Z
UID:31207-1758196800-1758204000@www.hirvensalmi.fi
SUMMARY:Heijastava kurssi
DESCRIPTION:Kurssilla tehdään heijastimien kaveriksi heijastavia. Kaikki tervetulleita.
URL:https://www.hirvensalmi.fi/tapahtuma/heijastava-kurssi/
LOCATION:Junnankuja 25 Hirvensalmi
ORGANIZER;CN="Hirvensalmen k%C3%A4sity%C3%B6yhdistys ry":MAILTO:posti@puulanmanuelli.fi
END:VEVENT
BEGIN:VEVENT
DTSTART;TZID=Europe/Helsinki:20250922T130000
DTEND;TZID=Europe/Helsinki:20250922T143000
DTSTAMP:20260422T044946
CREATED:20250808T085626Z
LAST-MODIFIED:20250808T085626Z
UID:33688-1758546000-1758551400@www.hirvensalmi.fi
SUMMARY:Omais- ja läheishoitajien vertaistukiryhmä Hirvensalmella
DESCRIPTION:Vertaistukiryhmä kaikille omaistaan ja läheistään hoitaville Hirvensalmella. \nVertaistukiryhmässä voit jakaa kokemuksia luottamuksellisessa ja ymmärtävässä ilmapiirissä toisten läheis- ja omaishoitajien kanssa. Arjen vinkit\, ilot ja surut on helpompi kertoa\, kun vertainen ymmärtää\, mistä on kyse. \nRyhmää ohjaa ammattilainen tuoden jokaiselle ryhmäkerralle tietoa\, tehtäviä\, pohdittavaa tai vaikkapa vierailijan. \nSinun ei tarvitse olla sopimusomaishoitaja tai yhdistyksen jäsen\, huoli ja hoivavastuu läheisestä tai omaisesta riittää. \nRyhmä toteutetaan yhteistyössä Mikkelin seudun Omaishoitajat ja läheiset ry ja Etelä-Savon Muistiluotsin kanssa. \nRyhmä kokoontuu kerran kuussa maanantaisin klo 13-14.30:\n18.8. MsOL OmaisOiva\n22.9. Muistiluotsi\n20.10. MsOL OmaisOiva\n17.11. Muistiluotsi\n8.12. MsOL OmaisOiva \nLämpimästi tervetuloa!
URL:https://www.hirvensalmi.fi/tapahtuma/omais-ja-laheishoitajien-vertaistukiryhma-hirvensalmella-5/
LOCATION:Hirvensalmen Seuratalo\, Pitäjäntie 7\, Hirvensalmi\, 52550
ATTACH;FMTTYPE=image/png:https://www.hirvensalmi.fi/wp-content/uploads/2025/08/HIRVENSALMI-1-1.png
END:VEVENT
BEGIN:VEVENT
DTSTART;TZID=Europe/Helsinki:20250922T150000
DTEND;TZID=Europe/Helsinki:20250922T160000
DTSTAMP:20260422T044946
CREATED:20250812T114756Z
LAST-MODIFIED:20250812T114756Z
UID:33736-1758553200-1758556800@www.hirvensalmi.fi
SUMMARY:Nuorten avoin kuntosalivuoro
DESCRIPTION:Nuorten avoimet ja ohjatut kuntosalivuorot jatkuvat syyskaudella 2025. Kuntosalilla luvassa on opastusta kuntosaliharjoittelun aloittamiseen\, laitteiden käyttöön ja turvalliseen harjoitteluun. Tervetuloa!
URL:https://www.hirvensalmi.fi/tapahtuma/nuorten-avoin-kuntosalivuoro-8/
LOCATION:Koulukeskuksen kuntosali\, Koulutie 5\, Hirvensalmi\, 52550\, Suomi
END:VEVENT
BEGIN:VEVENT
DTSTART;TZID=Europe/Helsinki:20250925T120000
DTEND;TZID=Europe/Helsinki:20250925T140000
DTSTAMP:20260422T044946
CREATED:20250102T054959Z
LAST-MODIFIED:20250102T054959Z
UID:31209-1758801600-1758808800@www.hirvensalmi.fi
SUMMARY:Tehdään yhdessä käsitöitä Puulan Manuellissa
DESCRIPTION:Kaikki tervetulleita tehdään yhdessä käsitöitä päivään.
URL:https://www.hirvensalmi.fi/tapahtuma/tehdaan-yhdessa-kasitoita-puulan-manuellissa-17/
LOCATION:Junnankuja 25 Hirvensalmi
ORGANIZER;CN="Hirvensalmen k%C3%A4sity%C3%B6yhdistys ry":MAILTO:posti@puulanmanuelli.fi
END:VEVENT
BEGIN:VEVENT
DTSTART;TZID=Europe/Helsinki:20250929T103000
DTEND;TZID=Europe/Helsinki:20250929T113000
DTSTAMP:20260422T044946
CREATED:20250924T041026Z
LAST-MODIFIED:20250924T041032Z
UID:34087-1759141800-1759145400@www.hirvensalmi.fi
SUMMARY:Maailman Sydänpäivä
DESCRIPTION:Hirvensalmen sydänkerhon maksuton\, kaikille avoin jumppa Maailman Sydänpäivänä Seuratalolla klo10.30 alkaen.\nTervetuloa tutustumaan ja jumppaamaan
URL:https://www.hirvensalmi.fi/tapahtuma/maailman-sydanpaiva/
END:VEVENT
BEGIN:VEVENT
DTSTART;TZID=Europe/Helsinki:20251006T150000
DTEND;TZID=Europe/Helsinki:20251006T160000
DTSTAMP:20260422T044946
CREATED:20251003T073142Z
LAST-MODIFIED:20251003T073142Z
UID:34162-1759762800-1759766400@www.hirvensalmi.fi
SUMMARY:Avoin kuntosalivuoro
DESCRIPTION:Kuntalaisille avoimet aikuisten ohjatut kuntosalivuorot jatkuvat syyskaudella 2025. Kuntosalilla luvassa on opastusta kuntosaliharjoittelun aloittamiseen\, laitteiden käyttöön ja turvalliseen harjoitteluun. \nEi ennakkoilmoittautumista. Soita ovikelloa tullessasi. \nTervetuloa!
URL:https://www.hirvensalmi.fi/tapahtuma/avoin-kuntosalivuoro-36/
LOCATION:Koulukeskuksen kuntosali\, Koulutie 5\, Hirvensalmi\, 52550\, Suomi
END:VEVENT
BEGIN:VEVENT
DTSTART;TZID=Europe/Helsinki:20251008T093000
DTEND;TZID=Europe/Helsinki:20251008T103000
DTSTAMP:20260422T044946
CREATED:20250915T043245Z
LAST-MODIFIED:20250915T043255Z
UID:34016-1759915800-1759919400@www.hirvensalmi.fi
SUMMARY:Päivähoitoikäisten                  Hyvän Päivän                     Makkara- ja mehuhetki
DESCRIPTION:Keskiviikkona 8.10. klo 09.30 – 10.30\nGrillikota Muistolassa\n(Paloaseman lähellä)\nKaikki alle kouluikäiset hoitajineen\nlämpimästi tervetuloa!\nP.S. Erkki Teittinen laulaa ja laulattaa
URL:https://www.hirvensalmi.fi/tapahtuma/paivahoitoikaisten-hyvan-paivan-makkara-ja-mehuhetki-2/
END:VEVENT
BEGIN:VEVENT
DTSTART;TZID=Europe/Helsinki:20251013T150000
DTEND;TZID=Europe/Helsinki:20251013T160000
DTSTAMP:20260422T044946
CREATED:20251003T073729Z
LAST-MODIFIED:20251003T073729Z
UID:34172-1760367600-1760371200@www.hirvensalmi.fi
SUMMARY:Nuorten avoin kuntosalivuoro
DESCRIPTION:Kuntalaisille avoimet aikuisten ohjatut kuntosalivuorot jatkuvat syyskaudella 2025. Kuntosalilla luvassa on opastusta kuntosaliharjoittelun aloittamiseen\, laitteiden käyttöön ja turvalliseen harjoitteluun. \nEi ennakkoilmoittautumista. Soita ovikelloa tullessasi. \nTervetuloa!
URL:https://www.hirvensalmi.fi/tapahtuma/nuorten-avoin-kuntosalivuoro-9/
LOCATION:Koulukeskuksen kuntosali\, Koulutie 5\, Hirvensalmi\, 52550\, Suomi
END:VEVENT
BEGIN:VEVENT
DTSTART;TZID=Europe/Helsinki:20251015T173000
DTEND;TZID=Europe/Helsinki:20251015T190000
DTSTAMP:20260422T044946
CREATED:20250930T091444Z
LAST-MODIFIED:20250930T091444Z
UID:34136-1760549400-1760554800@www.hirvensalmi.fi
SUMMARY:Pop Henksut jalkautuvat Sejon baariin
DESCRIPTION:Hirvensalmen seurakunta jalkautuu tykätyllä tilaisuudellaan “Pop Henksuilla” kylälle. Pop Henksut on yhteisveisutilaisuus\, mikä koostuu pitkälti veisuista\, jotka ovat populaarimusiikista tuttuja ja silti luonteeltaan hengellisiä kappaleita. Tällä kertaa seurakunta jalkautuu Sejon baariin\, mikä palkittiin vuoden 2025 Mikkelin seudun uusyrittäjäksi-palkinnolla. Tervetuloa seuraamme veisaamaan ja tekemään hyväntekeväisyyttä\, sillä tilaisuudessa kerätään kolehti Yhteisvastuukeräykselle\, jonka kohteena ovat nuoret ja heidän harrastusmahdollisuuksien lisääminen.
URL:https://www.hirvensalmi.fi/tapahtuma/pop-henksut-jalkautuvat-sejon-baariin/
LOCATION:Sejon Baari\, Hirvensalmentie 39\, Hirvensalmi\, 52550
END:VEVENT
BEGIN:VEVENT
DTSTART;TZID=Europe/Helsinki:20251020T130000
DTEND;TZID=Europe/Helsinki:20251020T143000
DTSTAMP:20260422T044946
CREATED:20250808T085640Z
LAST-MODIFIED:20250808T085640Z
UID:33691-1760965200-1760970600@www.hirvensalmi.fi
SUMMARY:Omais- ja läheishoitajien vertaistukiryhmä Hirvensalmella
DESCRIPTION:Vertaistukiryhmä kaikille omaistaan ja läheistään hoitaville Hirvensalmella. \nVertaistukiryhmässä voit jakaa kokemuksia luottamuksellisessa ja ymmärtävässä ilmapiirissä toisten läheis- ja omaishoitajien kanssa. Arjen vinkit\, ilot ja surut on helpompi kertoa\, kun vertainen ymmärtää\, mistä on kyse. \nRyhmää ohjaa ammattilainen tuoden jokaiselle ryhmäkerralle tietoa\, tehtäviä\, pohdittavaa tai vaikkapa vierailijan. \nSinun ei tarvitse olla sopimusomaishoitaja tai yhdistyksen jäsen\, huoli ja hoivavastuu läheisestä tai omaisesta riittää. \nRyhmä toteutetaan yhteistyössä Mikkelin seudun Omaishoitajat ja läheiset ry ja Etelä-Savon Muistiluotsin kanssa. \nRyhmä kokoontuu kerran kuussa maanantaisin klo 13-14.30:\n18.8. MsOL OmaisOiva\n22.9. Muistiluotsi\n20.10. MsOL OmaisOiva\n17.11. Muistiluotsi\n8.12. MsOL OmaisOiva \nLämpimästi tervetuloa!
URL:https://www.hirvensalmi.fi/tapahtuma/omais-ja-laheishoitajien-vertaistukiryhma-hirvensalmella-6/
LOCATION:Hirvensalmen Seuratalo\, Pitäjäntie 7\, Hirvensalmi\, 52550
ATTACH;FMTTYPE=image/png:https://www.hirvensalmi.fi/wp-content/uploads/2025/08/HIRVENSALMI-1-2.png
END:VEVENT
BEGIN:VEVENT
DTSTART;TZID=Europe/Helsinki:20251021T113000
DTEND;TZID=Europe/Helsinki:20251021T143000
DTSTAMP:20260422T044946
CREATED:20251016T040810Z
LAST-MODIFIED:20251016T040810Z
UID:34303-1761046200-1761057000@www.hirvensalmi.fi
SUMMARY:Hyvinvointi!
DESCRIPTION:Tanhuvaaran Urheiluopistolta hyvinvointipäällikkö Sami Piisilä puhuu kokonaishyvinvoinnista ja kehon kunnossapitämisestä.\nSeuratalolla klo 12.00-14.00\nTilaisuus alkaa kahvilla klo 11.30
URL:https://www.hirvensalmi.fi/tapahtuma/hyvinvointi/
LOCATION:Seuratalo\, Pitäjäntie 9\, Hirvensalmi\, 52550
ORGANIZER;CN="El%C3%A4keliiton Hirvensalmen yhdistys":MAILTO:jukkamanninen20@gmail.com
END:VEVENT
BEGIN:VEVENT
DTSTART;TZID=Europe/Helsinki:20251022T080000
DTEND;TZID=Europe/Helsinki:20251022T080000
DTSTAMP:20260422T044946
CREATED:20251020T040047Z
LAST-MODIFIED:20251020T040052Z
UID:34346-1761120000-1761120000@www.hirvensalmi.fi
SUMMARY:Hautausmaan haravointitalkoot ke 22.10.2025
DESCRIPTION:Tule mukaan haravoimaan pudonneet lehdet hautausmaalta keskiviikkona 22.10.2025.\nTalkoolounas seurakuntakodilla klo 11.30\nTervetuloa!
URL:https://www.hirvensalmi.fi/tapahtuma/hautausmaan-haravointitalkoot-ke-22-10-2025/
LOCATION:Kirkonkylän hautausmaa
END:VEVENT
BEGIN:VEVENT
DTSTART;TZID=Europe/Helsinki:20251023T120000
DTEND;TZID=Europe/Helsinki:20251023T140000
DTSTAMP:20260422T044946
CREATED:20250102T053806Z
LAST-MODIFIED:20250102T054947Z
UID:31211-1761220800-1761228000@www.hirvensalmi.fi
SUMMARY:Joulukorttikurssi Junnankuja 25
DESCRIPTION:Kurssilla teemme joulukortteja. Kaikki tervetulleita.
URL:https://www.hirvensalmi.fi/tapahtuma/joulukorttikurssi-junnankuja-25-2/
LOCATION:Junnankuja 25 Hirvensalmi
ORGANIZER;CN="Hirvensalmen k%C3%A4sity%C3%B6yhdistys ry":MAILTO:posti@puulanmanuelli.fi
END:VEVENT
BEGIN:VEVENT
DTSTART;TZID=Europe/Helsinki:20251025T110000
DTEND;TZID=Europe/Helsinki:20251025T130000
DTSTAMP:20260422T044946
CREATED:20250102T053747Z
LAST-MODIFIED:20250102T053752Z
UID:31213-1761390000-1761397200@www.hirvensalmi.fi
SUMMARY:Kellon kääntäjäiset Junnankuja 25
DESCRIPTION:Kello kaksitoista käännetään kellot talviaikaan.
URL:https://www.hirvensalmi.fi/tapahtuma/kellon-kaantajaiset-junnankuja-25/
LOCATION:Junnankuja 25 Hirvensalmi
ORGANIZER;CN="Hirvensalmen k%C3%A4sity%C3%B6yhdistys ry":MAILTO:posti@puulanmanuelli.fi
END:VEVENT
BEGIN:VEVENT
DTSTART;TZID=Europe/Helsinki:20251025T170000
DTEND;TZID=Europe/Helsinki:20251025T173000
DTSTAMP:20260422T044946
CREATED:20251003T074600Z
LAST-MODIFIED:20251025T055518Z
UID:34180-1761411600-1761413400@www.hirvensalmi.fi
SUMMARY:Tulikarkelot HUOM! TAPAHTUMA PERUUNTUNUT SAIRASTAPAUKSEN VUOKSI
DESCRIPTION:TAPAHTUMA PERUUNTUNUT SAIRASTAPAUKSEN VUOKSI! \n  \nJoensuulainen tanssiva tuliteatteri Kuuma Kollektiivi johdattelee katsojat tulen lämpöön ja tanssin taikamaailmaan erityisesti perheen pienemmille suunnatussa esityksessään. Riemukkaassa tanssiteatterin omaisessa tuliesityksessä erilaiset tutut ja vähän tuntemattomatkin eläimet taituroivat tulisoihtujen ja -pyrstöjen kanssa. \nKulttuuri Itää -kehittämistehtävä tukee tapahtuman järjestämistä.
URL:https://www.hirvensalmi.fi/tapahtuma/tulikarkelot/
LOCATION:Hirvensalmen urheilukenttä\, Kisatie\, Hirvensalmi\, 52550
END:VEVENT
BEGIN:VEVENT
DTSTART;TZID=Europe/Helsinki:20251027T150000
DTEND;TZID=Europe/Helsinki:20251027T160000
DTSTAMP:20260422T044946
CREATED:20251003T073334Z
LAST-MODIFIED:20251003T073334Z
UID:34164-1761577200-1761580800@www.hirvensalmi.fi
SUMMARY:Avoin kuntosalivuoro
DESCRIPTION:Kuntalaisille avoimet aikuisten ohjatut kuntosalivuorot jatkuvat syyskaudella 2025. Kuntosalilla luvassa on opastusta kuntosaliharjoittelun aloittamiseen\, laitteiden käyttöön ja turvalliseen harjoitteluun. \nEi ennakkoilmoittautumista. Soita ovikelloa tullessasi. \nTervetuloa!
URL:https://www.hirvensalmi.fi/tapahtuma/avoin-kuntosalivuoro-37/
LOCATION:Koulukeskuksen kuntosali\, Koulutie 5\, Hirvensalmi\, 52550\, Suomi
END:VEVENT
BEGIN:VEVENT
DTSTART;TZID=Europe/Helsinki:20251028T180000
DTEND;TZID=Europe/Helsinki:20251028T200000
DTSTAMP:20260422T044946
CREATED:20251016T040834Z
LAST-MODIFIED:20251016T040834Z
UID:34312-1761674400-1761681600@www.hirvensalmi.fi
SUMMARY:Koko perheen nuotioretki luontoon!
DESCRIPTION:Tiistaina 28.10\,2025 klo 18.00 alkaen. Paikka Vahvamäentie 169\, siitä opasteet nuotiopaikoille.\nVarusteet säänmukaiset ulkoiluvaatteet\nOmat eväät\, makkaranpaistomahdollisuus\nOhjelma “karkkimetsä”\, pimeävaellus köysi ohjauksella ja vapaata seurustelua sekä eväiden syöntiä.\nJärjestäjinä Eläkeliiton Hirvensalmen yhdistys ja Hirvensalmen kalamiehet
URL:https://www.hirvensalmi.fi/tapahtuma/koko-perheen-nuotioretki-luontoon/
LOCATION:Jokikankaantie 169\, Jokikankaantie 169\, Hirvensalmi\, Etelä-Savo\, 52550 Hirvensalmi\, Finland
ORGANIZER;CN="El%C3%A4keliiton Hirvensalmen yhdistys":MAILTO:jukkamanninen20@gmail.com
END:VEVENT
BEGIN:VEVENT
DTSTART;TZID=Europe/Helsinki:20251030T120000
DTEND;TZID=Europe/Helsinki:20251030T140000
DTSTAMP:20260422T044946
CREATED:20250102T053414Z
LAST-MODIFIED:20250102T053423Z
UID:31215-1761825600-1761832800@www.hirvensalmi.fi
SUMMARY:Tehdään yhdessä käsitöitä Puulan Manuellissa
DESCRIPTION:Kaikki tervetulleita tehdään yhdessä käsitöitä päivään.
URL:https://www.hirvensalmi.fi/tapahtuma/tehdaan-yhdessa-kasitoita-puulan-manuellissa-16/
LOCATION:Junnankuja 25 Hirvensalmi
ORGANIZER;CN="Hirvensalmen k%C3%A4sity%C3%B6yhdistys ry":MAILTO:posti@puulanmanuelli.fi
END:VEVENT
BEGIN:VEVENT
DTSTART;TZID=Europe/Helsinki:20251031T090000
DTEND;TZID=Europe/Helsinki:20251102T190000
DTSTAMP:20260422T044946
CREATED:20251028T131835Z
LAST-MODIFIED:20251028T131835Z
UID:34470-1761901200-1762110000@www.hirvensalmi.fi
SUMMARY:Hirvensalmen Halloween kierros
DESCRIPTION:Viikonloppuna vietetään Pyhänpäivää ja Halloweenia! Jere Luntta kehitteli ravintolakierroksen vähän approtyyppisesti. Saat kustakin ravintolasta puumerkin ostamalla sieltä jonkin tuotteen.\nTäyskupongin saaneille arvotaan ravintoloiden lahjoittamia tuotepalkintoja.😀 \nTapahtumassa mukana:\nRavintola Puulanaitta\nSataman Herkku\nSejon baari\nKissakosken ravintola\nPub Leppä \nTuetaan yhdessä paikallisia ravintoloita näin syksylläkin!
URL:https://www.hirvensalmi.fi/tapahtuma/hirvensalmen-halloween-kierros/
ATTACH;FMTTYPE=image/jpeg:https://www.hirvensalmi.fi/wp-content/uploads/2025/10/att.FQ-pUVHY1kMrBoEKvYzMO39ceAFIHM-Af63NXUzC8BY.jpeg
END:VEVENT
BEGIN:VEVENT
DTSTART;TZID=Europe/Helsinki:20251101T180000
DTEND;TZID=Europe/Helsinki:20251101T180000
DTSTAMP:20260422T044946
CREATED:20251009T075038Z
LAST-MODIFIED:20251009T075038Z
UID:34214-1762020000-1762020000@www.hirvensalmi.fi
SUMMARY:Pyhäinpäivän iltajumalanpalvelus 1.11.2025 klo 18.00
DESCRIPTION:Tervetuloa Pyhäinpäivän iltajumalanpalvelukseen 1.11.2025 klo 18.00 Hirvensalmen kirkkoon.\nSytytämme kynttilät viime Pyhäinpäivän jälkeen haudatuille hirvensalmelaisille ja muille Hirvensalmen hautausmaihin haudatuille.\nJumalanpalveluksen jälkeen kynttilän voi viedä läheisen haudalle.\nHautausmaalta löytyy myös muualle haudattujen muistomerkki.\nVälitäthän tämän kutsun myös muille läheisille.\nGlögitarjoilu seurakuntakodilla.
URL:https://www.hirvensalmi.fi/tapahtuma/pyhainpaivan-iltajumalanpalvelus-1-11-2025-klo-18-00/
LOCATION:Hirvensalmen kirkko\, Kirkkotie 3
END:VEVENT
BEGIN:VEVENT
DTSTART;TZID=Europe/Helsinki:20251103T150000
DTEND;TZID=Europe/Helsinki:20251103T170000
DTSTAMP:20260422T044946
CREATED:20250930T064812Z
LAST-MODIFIED:20250930T064812Z
UID:34120-1762182000-1762189200@www.hirvensalmi.fi
SUMMARY:Kirkonkylän Martat ry:n syyskokous ma 3.11.2025
DESCRIPTION:Hirvensalmen Kirkonkylän Martat ry:n syyskokous on seuratalossa maanantaina 3.11.2025 klo 15.00 alkaen. Kahvitarjoilu. Tervetuloa.
URL:https://www.hirvensalmi.fi/tapahtuma/kirkonkylan-martat-ryn-syyskokous-ma-3-11-2025/
LOCATION:Hirvensalmen Seuratalo\, Pitäjäntie 7\, Hirvensalmi\, 52550
END:VEVENT
BEGIN:VEVENT
DTSTART;TZID=Europe/Helsinki:20251104T113000
DTEND;TZID=Europe/Helsinki:20251104T140000
DTSTAMP:20260422T044946
CREATED:20251016T040923Z
LAST-MODIFIED:20251016T040923Z
UID:34305-1762255800-1762264800@www.hirvensalmi.fi
SUMMARY:Syyskokous!
DESCRIPTION:Eläkeliiton Hirvensalmen yhdistys ry:n sääntömääräinen Syyskokous Seuratalolla Pitäjäntie 9 tiistaina 4.11.2025 klo 12.00\nKahvitus klo 11.30
URL:https://www.hirvensalmi.fi/tapahtuma/syyskokous/
LOCATION:Hirvensalmen Seuratalo\, Pitäjäntie 7\, Hirvensalmi\, 52550
ORGANIZER;CN="El%C3%A4keliiton Hirvensalmen yhdistys":MAILTO:jukkamanninen20@gmail.com
END:VEVENT
END:VCALENDAR