BEGIN:VCALENDAR
VERSION:2.0
PRODID:-//Hirvensalmi - ECPv6.6.4.2//NONSGML v1.0//EN
CALSCALE:GREGORIAN
METHOD:PUBLISH
X-ORIGINAL-URL:https://www.hirvensalmi.fi
X-WR-CALDESC:Tapahtumat Hirvensalmi
REFRESH-INTERVAL;VALUE=DURATION:PT1H
X-Robots-Tag:noindex
X-PUBLISHED-TTL:PT1H
BEGIN:VTIMEZONE
TZID:Europe/Helsinki
BEGIN:DAYLIGHT
TZOFFSETFROM:+0200
TZOFFSETTO:+0300
TZNAME:EEST
DTSTART:20230326T010000
END:DAYLIGHT
BEGIN:STANDARD
TZOFFSETFROM:+0300
TZOFFSETTO:+0200
TZNAME:EET
DTSTART:20231029T010000
END:STANDARD
END:VTIMEZONE
BEGIN:VEVENT
DTSTART;TZID=Europe/Helsinki:20231213T093000
DTEND;TZID=Europe/Helsinki:20231213T093000
DTSTAMP:20260421T093549
CREATED:20231110T102754Z
LAST-MODIFIED:20231110T102759Z
UID:26681-1702459800-1702459800@www.hirvensalmi.fi
SUMMARY:Lasten ja perheiden jouluhartaus
DESCRIPTION:Lasten ja perheiden jouluhartaus Hirvensalmen kirkossa klo 9.30.
URL:https://www.hirvensalmi.fi/tapahtuma/lasten-ja-perheiden-jouluhartaus/
LOCATION:Hirvensalmen kirkko\, Kirkkotie 3
END:VEVENT
BEGIN:VEVENT
DTSTART;TZID=Europe/Helsinki:20231212T103000
DTEND;TZID=Europe/Helsinki:20231212T140000
DTSTAMP:20260421T093549
CREATED:20231116T085424Z
LAST-MODIFIED:20231116T085424Z
UID:26754-1702377000-1702389600@www.hirvensalmi.fi
SUMMARY:Joululounas
DESCRIPTION:Joululounas ravintola Puulanaitassa.
URL:https://www.hirvensalmi.fi/tapahtuma/joululounas-2/
LOCATION:Ravintola Puulanaitta\, Hirvensalmentie 21
END:VEVENT
BEGIN:VEVENT
DTSTART;TZID=Europe/Helsinki:20231211T120000
DTEND;TZID=Europe/Helsinki:20231211T140000
DTSTAMP:20260421T093549
CREATED:20221228T071140Z
LAST-MODIFIED:20221228T071140Z
UID:24316-1702296000-1702303200@www.hirvensalmi.fi
SUMMARY:Askarrellaan yhdessä joulukoristeita Puulan Manuellissa
DESCRIPTION:Kaikki tervetulleita askartelemaan joulukoristeita Puulan Manuellin kudontapajaan !
URL:https://www.hirvensalmi.fi/tapahtuma/askarrellaan-yhdessa-joulukoristeita-puulan-manuellissa/
LOCATION:Käsityöpuoti Puulan Manuelli\, Junnankuja 25\, Hirvensalmi\, 52550
ORGANIZER;CN="Hirvensalmen k%C3%A4sity%C3%B6yhdistys ry":MAILTO:posti@puulanmanuelli.fi
END:VEVENT
BEGIN:VEVENT
DTSTART;TZID=Europe/Helsinki:20231210T130000
DTEND;TZID=Europe/Helsinki:20231210T130000
DTSTAMP:20260421T093549
CREATED:20231110T102813Z
LAST-MODIFIED:20231110T102817Z
UID:26679-1702213200-1702213200@www.hirvensalmi.fi
SUMMARY:Kauneimmat joululaulut Ripatin seuratalolla
DESCRIPTION:Kauneimmat joululaulut Ripatin seurantalolla klo 13 (Hämeenmäentie 412).
URL:https://www.hirvensalmi.fi/tapahtuma/kauneimmat-joululaulut-ripatin-seuratalolla/
LOCATION:Ripatin Seuratalo\, Hämeenmäentie 412\, Hirvensalmi\, 52550
END:VEVENT
BEGIN:VEVENT
DTSTART;TZID=Europe/Helsinki:20231208T103000
DTEND;TZID=Europe/Helsinki:20231208T140000
DTSTAMP:20260421T093549
CREATED:20231116T085402Z
LAST-MODIFIED:20231116T085408Z
UID:26752-1702031400-1702044000@www.hirvensalmi.fi
SUMMARY:Joululounas
DESCRIPTION:Joululounas Ravintola Puulanaitassa.
URL:https://www.hirvensalmi.fi/tapahtuma/joululounas/
LOCATION:Ravintola Puulanaitta\, Hirvensalmentie 21
END:VEVENT
BEGIN:VEVENT
DTSTART;TZID=Europe/Helsinki:20231207T120000
DTEND;TZID=Europe/Helsinki:20231207T150000
DTSTAMP:20260421T093549
CREATED:20231113T103947Z
LAST-MODIFIED:20231113T103951Z
UID:26707-1701950400-1701961200@www.hirvensalmi.fi
SUMMARY:Eläkeliiton Hirvensalmen yhdistyksen Pikkujoulu!
DESCRIPTION:Eläkeliiton yhdistyksen syyskausi päättyy pikkujouluun ja paikkana on Ravintola Kissakoski.\nOhjelman lisäksi nautitaan jouluateria\, joka maksaa jäseniltä 10 € / henkilö\n(Ulkopuolisilta 20 €/ henkilö)\nLämpimästi tervetuloa!
URL:https://www.hirvensalmi.fi/tapahtuma/elakeliiton-hirvensalmen-yhdistyksen-pikkujoulu-2/
LOCATION:Kissakosken ravintola\, Vahvamäentie 42 \, Hirvensalmi\, Suomi
END:VEVENT
BEGIN:VEVENT
DTSTART;TZID=Europe/Helsinki:20231206T100000
DTEND;TZID=Europe/Helsinki:20231206T100000
DTSTAMP:20260421T093549
CREATED:20231110T103600Z
LAST-MODIFIED:20231110T103611Z
UID:26677-1701856800-1701856800@www.hirvensalmi.fi
SUMMARY:Itsenäisyyspäivän sanajumalanpalvelus
DESCRIPTION:Itsenäisyyspäivän sanajumalanpalvelus klo 10 Hirvensalmen kirkossa.
URL:https://www.hirvensalmi.fi/tapahtuma/itsenaisyyspaivan-sanajumalanpalvelus/
LOCATION:Hirvensalmen kirkko\, Kirkkotie 3
END:VEVENT
BEGIN:VEVENT
DTSTART;TZID=Europe/Helsinki:20231205T180000
DTEND;TZID=Europe/Helsinki:20231205T200000
DTSTAMP:20260421T093549
CREATED:20231103T082410Z
LAST-MODIFIED:20231103T082410Z
UID:26597-1701799200-1701806400@www.hirvensalmi.fi
SUMMARY:Jouluinen tapahtuma
DESCRIPTION:Tervetuloa jouluinen tapahtuma
URL:https://www.hirvensalmi.fi/tapahtuma/jouluinen-tapahtuma/
LOCATION:Hirvensalmen Seuratalo\, Pitäjäntie 7\, Hirvensalmi\, 52550
END:VEVENT
BEGIN:VEVENT
DTSTART;TZID=Europe/Helsinki:20231204T150000
DTEND;TZID=Europe/Helsinki:20231204T160000
DTSTAMP:20260421T093549
CREATED:20230825T041732Z
LAST-MODIFIED:20230825T041745Z
UID:26091-1701702000-1701705600@www.hirvensalmi.fi
SUMMARY:Avoin kuntosalivuoro
DESCRIPTION:Kuntalaisille avoimet aikuisten ohjatut kuntosalivuorot jatkuvat syyskaudella 2023.\nKuntosalilla luvassa on opastusta kuntosaliharjoittelun aloittamiseen\, laitteiden käyttöön ja turvalliseen harjoitteluun.\nTervetuloa!
URL:https://www.hirvensalmi.fi/tapahtuma/avoin-kuntosalivuoro-6/
LOCATION:Koulukeskuksen kuntosali\, Koulutie 5\, Hirvensalmi\, 52550\, Suomi
ATTACH;FMTTYPE=image/png:https://www.hirvensalmi.fi/wp-content/uploads/2023/08/kuntosalivuorot-6.png
END:VEVENT
BEGIN:VEVENT
DTSTART;TZID=Europe/Helsinki:20231203T160000
DTEND;TZID=Europe/Helsinki:20231203T160000
DTSTAMP:20260421T093549
CREATED:20231110T102838Z
LAST-MODIFIED:20231110T102842Z
UID:26675-1701619200-1701619200@www.hirvensalmi.fi
SUMMARY:Kauneimmat joululaulut Lahnaniemen koululla
DESCRIPTION:Kauneimmat joululaulut Lahnaniemen koululla klo 16.
URL:https://www.hirvensalmi.fi/tapahtuma/kauneimmat-joululaulut-lahnaniemen-koululla/
LOCATION:Lahnaniemen koulu\, Lahnaniementie 67\, Hirvensalmi\, 52510\, Suomi
END:VEVENT
BEGIN:VEVENT
DTSTART;TZID=Europe/Helsinki:20231203T130000
DTEND;TZID=Europe/Helsinki:20231203T130000
DTSTAMP:20260421T093549
CREATED:20231110T102856Z
LAST-MODIFIED:20231110T102902Z
UID:26672-1701608400-1701608400@www.hirvensalmi.fi
SUMMARY:Kauneimmat joululaulut Tuukkalan kylätalolla
DESCRIPTION:Kauneimmat joululaulut Tuukkalan kylätalolla klo 13.
URL:https://www.hirvensalmi.fi/tapahtuma/kauneimmat-joululaulut-tuukkalan-kylatalolla/
LOCATION:Tuukkalan kylätalo\, Joutsantie 1212\, 52610 Tuukkala
END:VEVENT
BEGIN:VEVENT
DTSTART;TZID=Europe/Helsinki:20231203T100000
DTEND;TZID=Europe/Helsinki:20231203T100000
DTSTAMP:20260421T093549
CREATED:20231110T102924Z
LAST-MODIFIED:20231110T102928Z
UID:26670-1701597600-1701597600@www.hirvensalmi.fi
SUMMARY:Adventtisunnuntain messu
DESCRIPTION:Messu Hirvensalmen kirkossa\, kirkkokuoro.
URL:https://www.hirvensalmi.fi/tapahtuma/adventtisunnuntain-messu/
LOCATION:Hirvensalmen kirkko\, Kirkkotie 3
END:VEVENT
BEGIN:VEVENT
DTSTART;TZID=Europe/Helsinki:20231202T130000
DTEND;TZID=Europe/Helsinki:20231202T140000
DTSTAMP:20260421T093549
CREATED:20231030T070306Z
LAST-MODIFIED:20231116T104932Z
UID:26497-1701522000-1701525600@www.hirvensalmi.fi
SUMMARY:Koirien kynsienleikkuupäivä
DESCRIPTION:Kynsienleikkuupäivä koittaa jälleen\, jolloin pääset tuomaan lemmikkisi kynsienleikkuuseen ilman ajanvarausta! \n• Kynsienleikkuu 10€/koira\n• Tassuhuolto 25€/koira\n(Tassuhuolto sisältää kynsien leikkauksen\, tassukarvojen siistimisen päältä ja anturoiden väleistä\, sekä halutessa tassujen vahauksen) \nTervetuloa kynsienleikkuuseen lauantaina 2.12. klo 14-15! Lemmikit hoidetaan saapumisjärjestyksessä yksi kerrallaan\, joten odotathan vuoroasi trimmaamon oven ulkopuolella. \nKynsienleikkuuseen ovat koirien lisäksi tervetulleita muutkin pieneläimet\, kuten kissat ja kanit. Huomioithan kuitenkin\, että paikalla voi olla muitakin eläimiä.\nOsoite: Koulutie 8 A 6\, Hirvensalmi
URL:https://www.hirvensalmi.fi/tapahtuma/koirien-kynsienleikkuupaiva-6/
LOCATION:Trimmaamo Koiruus\, Koulutie 8 A 6\, Hirvensalmi\, 52550
ATTACH;FMTTYPE=image/png:https://www.hirvensalmi.fi/wp-content/uploads/2023/10/kynsienleikkuupäivä-1-1.png
END:VEVENT
BEGIN:VEVENT
DTSTART;TZID=Europe/Helsinki:20231202T110000
DTEND;TZID=Europe/Helsinki:20231202T140000
DTSTAMP:20260421T093549
CREATED:20221228T071121Z
LAST-MODIFIED:20221228T071121Z
UID:24315-1701514800-1701525600@www.hirvensalmi.fi
SUMMARY:Joulupuuro ja myyjäiset Puulan Manuellissa
DESCRIPTION:Joulupuuro ja myyjäiset Puulan Manuellin kudontapajassa\, Junnankuja 25 Hirvensalmi. Tervetuloa !
URL:https://www.hirvensalmi.fi/tapahtuma/joulupuuro-ja-myyjaiset-puulan-manuellissa-2/
LOCATION:Käsityöpuoti Puulan Manuelli\, Junnankuja 25\, Hirvensalmi\, 52550
ORGANIZER;CN="Hirvensalmen k%C3%A4sity%C3%B6yhdistys ry":MAILTO:posti@puulanmanuelli.fi
END:VEVENT
BEGIN:VEVENT
DTSTART;TZID=Europe/Helsinki:20231202T100000
DTEND;TZID=Europe/Helsinki:20231202T140000
DTSTAMP:20260421T093549
CREATED:20231116T085344Z
LAST-MODIFIED:20231116T085348Z
UID:26750-1701511200-1701525600@www.hirvensalmi.fi
SUMMARY:Hirvensalmen joulunavaus
DESCRIPTION:Hirvensalmen joulunavaus Ravintola Puulanaitan ympäristössä. Mukana myös Sejon Baari\, Hirvensalmen Fysioterapia\, Puulan Manuelli\, Hirvensalmelainen\, S-market Hirvensalmi\, Hirvensalmen vpk\, Hirvensalmen kunta. Joulupukki vierailee\, joulukuusen koristelukilpailu\, lapsille piparipaja\, jouluista musiikkia LiveLand Trio\, myyjäiset yms.
URL:https://www.hirvensalmi.fi/tapahtuma/hirvensalmen-joulunavaus/
LOCATION:Ravintola Puulanaitta\, Hirvensalmentie 21
END:VEVENT
BEGIN:VEVENT
DTSTART;TZID=Europe/Helsinki:20231130T120000
DTEND;TZID=Europe/Helsinki:20231130T130000
DTSTAMP:20260421T093549
CREATED:20221228T071103Z
LAST-MODIFIED:20221228T071103Z
UID:24314-1701345600-1701349200@www.hirvensalmi.fi
SUMMARY:Tehdään yhdessä käsitöitä Puulan Manuellissa
DESCRIPTION:Kokoonnumme Puulan Manuellin kudontapajassa joka kuukauden viimeinen torstai klo 12. Vaihtuvia teemoja\, voit ottaa mukaan myös oman käsityön. Kaikki tervetulleita !
URL:https://www.hirvensalmi.fi/tapahtuma/tehdaan-yhdessa-kasitoita-puulan-manuellissa-9/
LOCATION:Käsityöpuoti Puulan Manuelli\, Junnankuja 25\, Hirvensalmi\, 52550
ORGANIZER;CN="Hirvensalmen k%C3%A4sity%C3%B6yhdistys ry":MAILTO:posti@puulanmanuelli.fi
END:VEVENT
BEGIN:VEVENT
DTSTART;TZID=Europe/Helsinki:20231128T113000
DTEND;TZID=Europe/Helsinki:20231128T143000
DTSTAMP:20260421T093549
CREATED:20231113T104007Z
LAST-MODIFIED:20231113T104017Z
UID:26709-1701171000-1701181800@www.hirvensalmi.fi
SUMMARY:Yhteislaulutikaisuus!
DESCRIPTION:Eläkeliiton Hirvensalmen yhdistyksen tiistaikerhossa lauletaan yhteislauluja karaoken säestyksellä ja sanat näytöllä.\nPaikka on Seuratalo\, aika klo 11.30. Aloitamme kahveilla\, jonka jälkeen salissa yhteislaulua.\nTervetuloa mukaan kokeilemaan uutta tapaa yhteislauluille!
URL:https://www.hirvensalmi.fi/tapahtuma/yhteislaulutikaisuus/
LOCATION:Seurantalo\, kirkonkylä\, Kirkonkylä\, Hirvensalmi
END:VEVENT
BEGIN:VEVENT
DTSTART;TZID=Europe/Helsinki:20231123T160000
DTEND;TZID=Europe/Helsinki:20231123T183000
DTSTAMP:20260421T093549
CREATED:20231013T101527Z
LAST-MODIFIED:20231013T101534Z
UID:26458-1700755200-1700764200@www.hirvensalmi.fi
SUMMARY:Kirkonkylän Marttojen pikkujoulu 23.11.2023
DESCRIPTION:Kirkonkylän Martat ry: Pikkujoulut Sataman Herkussa torstaina 23.11.23 kello 16 alkaen.\nKirkonkylän marttojen ruokailun maksaa yhdistys (23€)\, mahdolliset seuralaiset eli avecit maksavat 23€ itse. Ilmoittautumiset Raija Tantulle viikkoa ennen eli to 16.11. viimeistään (erityisruokavalio mainittava) puh. 050 3807055.\nMuutkin Hirvensalmen Marttayhdistykset ovat tervetulleita tilaisuuteen Sataman Herkkuun\, mutta ilmoittautuvat itse ja huolehtivat maksuista.\nVanhan Ajan Joulupöytä:\nSavulohi\, sinappisilli\, rosolli\, sienisalaatti\, kinkku\, perunat\, lämpimät uunijuurekset\, karjalanpiirakat\, ruisleipä ja levite\nRiisipuuro ja luumukiisseli\nJoulutorttu ja kahvi\nTervetuloa!
URL:https://www.hirvensalmi.fi/tapahtuma/kirkonkylan-marttojen-pikkujoulu-23-11-2023/
LOCATION:Ravintola Sataman Herkku\, Hirvensalmentie 22 \, Hirvensalmi\, Finland\, 52550\, Suomi
END:VEVENT
BEGIN:VEVENT
DTSTART;TZID=Europe/Helsinki:20231123T120000
DTEND;TZID=Europe/Helsinki:20231123T140000
DTSTAMP:20260421T093549
CREATED:20231030T070412Z
LAST-MODIFIED:20231030T070418Z
UID:26490-1700740800-1700748000@www.hirvensalmi.fi
SUMMARY:Jouluspiraali-kurssi
DESCRIPTION:Kurssilla valmistamme jouluspiraalin nauhapirralla. Ilmoittautumiset viimeistään tiistaina 21.11.-23 mennessä. Kaikki tervetulleita !
URL:https://www.hirvensalmi.fi/tapahtuma/jouluspiraali-kurssi/
LOCATION:Junnankuja 25 Hirvensalmi
ORGANIZER;CN="Hirvensalmen k%C3%A4sity%C3%B6yhdistys ry":MAILTO:posti@puulanmanuelli.fi
END:VEVENT
BEGIN:VEVENT
DTSTART;TZID=Europe/Helsinki:20231122T080000
DTEND;TZID=Europe/Helsinki:20231122T100000
DTSTAMP:20260421T093549
CREATED:20231114T061837Z
LAST-MODIFIED:20231114T061843Z
UID:26717-1700640000-1700647200@www.hirvensalmi.fi
SUMMARY:Digiportaita askel kerrallaan
DESCRIPTION:Miten pieni yrityskin pystyy hyödyntämään digitaalisuutta ja kilpailemaan Suomen (jopa maailman) laajuisesti? Digitaalisuus on kuin norsu\, syödään pala kerrallaan! Kaikkea ei kannata tai tarvitse tehdä heti eikä edes itse\, mutta jatkuvia pieniä askelia täytyy tehdä koko ajan. Nettimaailmassa tulevaisuuden voittajat ovat niitä\, joilla on asiakasdataa sekä -ymmärrystä ja he myös hyödyntävät sitä. \nTervetuloa maksuttomille aamukahveille 22.11.2023 klo 8:00 – 10:00 Pitopalvelu Pitoaitta \nTämän tilaisuuden jälkeen sinulle on selvää\, mitkä asiat ainakin täytyy olla kunnossa\, ja mitkä olisivat mahdolliset seuraavat askeleet digitaalisuuden saralla. Saat myös sparrausapua siihen\, mitä kannattaa missäkin tilanteessa tehdä itse ja mitä ulkoistaa ja miten. Kuulet myös miten Digiportaat voi auttaa sinua. \nAsiantuntijoina toimivat MikseiMikkelin yritysneuvojat Emmi Liikanen ja Sari Kujala. Emmi ja Sari ovat auttaneet Digiportaissa satoja mikro- ja pk-yrityksiä ympäri Etelä-Savoa jo vuodesta 2018. \nIlmoittautuminen 20.11.2023 mennessä. \nLisätietoja tapahtumasta:\nAnnemari Murtovaara-Kenakkala\np. 050 471 2909 \nTapahtuman mahdollistaa:\n– Yritysten muutoskyvykkyys\, vihreä siirtymä ja digitalisaatio (REACT\, Itä-Suomi) -hanke\, rahoitus Euroopan sosiaalirahaston REACT-EU-rahoitus.\nREACT -hankkeet on rahoitettu osana Euroopan unionin covid-19-pandemiam johdosta toteuttamia toimia.
URL:https://www.hirvensalmi.fi/tapahtuma/digiportaita-askel-kerrallaan/
ATTACH;FMTTYPE=image/jpeg:https://www.hirvensalmi.fi/wp-content/uploads/2023/11/digiportaat.jpg
END:VEVENT
BEGIN:VEVENT
DTSTART;TZID=Europe/Helsinki:20231120T150000
DTEND;TZID=Europe/Helsinki:20231120T160000
DTSTAMP:20260421T093549
CREATED:20230825T041719Z
LAST-MODIFIED:20230825T041719Z
UID:26088-1700492400-1700496000@www.hirvensalmi.fi
SUMMARY:Avoin kuntosalivuoro
DESCRIPTION:Kuntalaisille avoimet aikuisten ohjatut kuntosalivuorot jatkuvat syyskaudella 2023.\nKuntosalilla luvassa on opastusta kuntosaliharjoittelun aloittamiseen\, laitteiden käyttöön ja turvalliseen harjoitteluun.\nTervetuloa!
URL:https://www.hirvensalmi.fi/tapahtuma/avoin-kuntosalivuoro-5/
LOCATION:Koulukeskuksen kuntosali\, Koulutie 5\, Hirvensalmi\, 52550\, Suomi
ATTACH;FMTTYPE=image/png:https://www.hirvensalmi.fi/wp-content/uploads/2023/08/kuntosalivuorot-5.png
END:VEVENT
BEGIN:VEVENT
DTSTART;TZID=Europe/Helsinki:20231116T120000
DTEND;TZID=Europe/Helsinki:20231116T140000
DTSTAMP:20260421T093549
CREATED:20231030T070435Z
LAST-MODIFIED:20231030T070439Z
UID:26488-1700136000-1700143200@www.hirvensalmi.fi
SUMMARY:Makrameekranssi-kurssi
DESCRIPTION:Kurssilla valmistamme kranssin makrameesolmuin. Ilmoittautumiset tiistaihin 14.11.-23 mennessä 040-1647728 / Junnankuja 25 Hirvensalmi. Kaikki tervetulleita !
URL:https://www.hirvensalmi.fi/tapahtuma/makrameekranssi-kurssi/
LOCATION:Junnankuja 25 Hirvensalmi
ORGANIZER;CN="Hirvensalmen k%C3%A4sity%C3%B6yhdistys ry":MAILTO:posti@puulanmanuelli.fi
END:VEVENT
BEGIN:VEVENT
DTSTART;TZID=Europe/Helsinki:20231114T120000
DTEND;TZID=Europe/Helsinki:20231114T143000
DTSTAMP:20260421T093549
CREATED:20231012T041024Z
LAST-MODIFIED:20231012T041031Z
UID:26445-1699963200-1699972200@www.hirvensalmi.fi
SUMMARY:Isänpäivärääppiäiset!
DESCRIPTION:Isänpäivänrääppiäisiä vietetään kakkukahvien merkeissä Seuratalolla tiistaina 14.11.2023 klo 12.00 alkaen. Ohjelmaa ja muistamme tänä vuonna merkkipäivää viettäviä miehiä. Ilmoittautua voi yhdistyksen sihteerille; Maija Kekkonen puh. 0400162792 tai kekkonenmaija@gmail.com
URL:https://www.hirvensalmi.fi/tapahtuma/isanpaivaraappiaiset/
LOCATION:Hirvensalmen Seuratalo\, Pitäjäntie 7\, Hirvensalmi\, 52550
END:VEVENT
BEGIN:VEVENT
DTSTART;TZID=Europe/Helsinki:20231109T120000
DTEND;TZID=Europe/Helsinki:20231109T140000
DTSTAMP:20260421T093549
CREATED:20231030T070456Z
LAST-MODIFIED:20231030T070512Z
UID:26486-1699531200-1699538400@www.hirvensalmi.fi
SUMMARY:Joulupallokranssi-kurssi
DESCRIPTION:Kurssilla valmistamme joulupalloista kranssin. Huom. Omat joulupallot mukaan ! Ilmoittautumiset tiistaihin 7.11.-23 mennessä 040-1647728 / Junnankuja 25 Hirvensalmi. Kaikki tervetulleita !
URL:https://www.hirvensalmi.fi/tapahtuma/joulupallokranssi-kurssi/
LOCATION:Junnankuja 25 Hirvensalmi
ORGANIZER;CN="Hirvensalmen k%C3%A4sity%C3%B6yhdistys ry":MAILTO:posti@puulanmanuelli.fi
END:VEVENT
BEGIN:VEVENT
DTSTART;TZID=Europe/Helsinki:20231108T080000
DTEND;TZID=Europe/Helsinki:20231108T100000
DTSTAMP:20260421T093549
CREATED:20231103T103247Z
LAST-MODIFIED:20231103T103252Z
UID:26605-1699430400-1699437600@www.hirvensalmi.fi
SUMMARY:Maaseudun yritysrahoitus
DESCRIPTION:Sijaitseeko yrityksesti maaseudulla? Tarvitsetko tietoa ja tukea minkälaisia yritystukia on tarjolla mikro- ja pk-yrityksille ELY-keskuksen maaseuturahastosta tai Leader -rahoituksesta? \nTervetuloa maksuttomille yrittäjien aamukahveille ke 8.11. klo 8:00 – 10:00 Pitoaittaan kuuntelemaan eri mahdollisuuksista yritystoiminnan aloittamiseen\, kehittämiseen\, laajentamiseen ja investointeihin liittyvissä tilanteissa. \nTämän tilaisuuden jälkeen olet tunnistanut\, onko rahoituksen hakeminen yrityksellesi mahdollista nyt tai tulevaisuudessa. Saat myös kokonaiskuvan siitä minkälaisiin kehittämistarpeisiin voit saada rahoitusta ja millä ehdoilla. Lisäksi saat käytännön esimerkkejä ja työkaluja rahoituksen hakemiseen ja tiedät mistä saat apua kehityshankkeiden suunnitteluun ja mahdollisen rahoituksen hakemiseen. \nAsiantuntijana toimii MikseiMikkelin kehityspäällikkö Marjo Niittuaho-Nastolin. Marjolla on yli 20 vuoden kokemus yrityskehittämisestä\, erityisosaamisena yritysrahoitus ja rahoituksen hakeminen niin julkisilta kuin yksityisiltäkin rahoittajilta. \nTilaisuuden järjestää Kaakkois-Suomen ammattikorkeakoulu\, Xamk \nlmoittautuminen 6.11.2023 mennessä. \nLisätietoja tapahtumasta:\nannemari.murtovaara-kenakkala@xamk.fi\np. 050 471 2909 \nTapahtuman mahdollistaa:\n– Yritysten muutoskyvykkyys\, vihreä siirtymä ja digitalisaatio (REACT\, Itä-Suomi) -hanke\, rahoitus Euroopan sosiaalirahaston REACT-EU rahoitus.\nREACT -hankkeet on rahoitettu osana Euroopan unionin Covid-19 -pandemian johdosta toteuttamia toimia. \nTule mukaan oppimaan – kilpailukykyä askel kerrallaan – Yritystenmuutoskumppanina.fi
URL:https://www.hirvensalmi.fi/tapahtuma/maaseudun-yritysrahoitus/
LOCATION:Ravintola Puulanaitta\, Hirvensalmentie 21
ATTACH;FMTTYPE=image/jpeg:https://www.hirvensalmi.fi/wp-content/uploads/2023/11/maaseutu.jpg
END:VEVENT
BEGIN:VEVENT
DTSTART;TZID=Europe/Helsinki:20231106T150000
DTEND;TZID=Europe/Helsinki:20231106T160000
DTSTAMP:20260421T093549
CREATED:20230825T041812Z
LAST-MODIFIED:20230825T041818Z
UID:26085-1699282800-1699286400@www.hirvensalmi.fi
SUMMARY:Avoin kuntosalivuoro
DESCRIPTION:Kuntalaisille avoimet aikuisten ohjatut kuntosalivuorot jatkuvat syyskaudella 2023.\nKuntosalilla luvassa on opastusta kuntosaliharjoittelun aloittamiseen\, laitteiden käyttöön ja turvalliseen harjoitteluun.\nTervetuloa!
URL:https://www.hirvensalmi.fi/tapahtuma/avoin-kuntosalivuoro-7/
LOCATION:Koulukeskuksen kuntosali\, Koulutie 5\, Hirvensalmi\, 52550\, Suomi
ATTACH;FMTTYPE=image/png:https://www.hirvensalmi.fi/wp-content/uploads/2023/08/kuntosalivuorot-4.png
END:VEVENT
BEGIN:VEVENT
DTSTART;TZID=Europe/Helsinki:20231102T120000
DTEND;TZID=Europe/Helsinki:20231102T140000
DTSTAMP:20260421T093549
CREATED:20231030T070558Z
LAST-MODIFIED:20231030T070623Z
UID:26484-1698926400-1698933600@www.hirvensalmi.fi
SUMMARY:Heinäseivästonttu-kurssi
DESCRIPTION:Kurssilla valmistamme tontun heinäseipäästä. Ilmoittautuminen viimeistään tiistaina 31.10. mennessä 040-1647728 / Junnankuja 25 Hirvensalmi. Kaikki tervetulleita !
URL:https://www.hirvensalmi.fi/tapahtuma/heinaseivastonttu-kurssi/
LOCATION:Junnankuja 25 Hirvensalmi
ORGANIZER;CN="Hirvensalmen k%C3%A4sity%C3%B6yhdistys ry":MAILTO:posti@puulanmanuelli.fi
END:VEVENT
BEGIN:VEVENT
DTSTART;TZID=Europe/Helsinki:20231031T120000
DTEND;TZID=Europe/Helsinki:20231031T140000
DTSTAMP:20260421T093549
CREATED:20231012T041046Z
LAST-MODIFIED:20231012T041051Z
UID:26443-1698753600-1698760800@www.hirvensalmi.fi
SUMMARY:Eläkeliiton Hirvensalmen yhdistyksen syyskokous!
DESCRIPTION:Sääntömääräinen yhdistyksen syyskokous pidetään 31.10.2023 klo 12.00 Seuratalolla\, Pitäjäntie 9\, klo 12.00. Kahvitarjoilu klo 11.30.\nTervetuloa vaikuttamaan yhdistyksen vuoden 2024 toimintaan!
URL:https://www.hirvensalmi.fi/tapahtuma/elakeliiton-hirvensalmen-yhdistyksen-syyskokous/
LOCATION:Hirvensalmen Seuratalo\, Pitäjäntie 7\, Hirvensalmi\, 52550
END:VEVENT
BEGIN:VEVENT
DTSTART;TZID=Europe/Helsinki:20231026T120000
DTEND;TZID=Europe/Helsinki:20231026T130000
DTSTAMP:20260421T093549
CREATED:20221228T071046Z
LAST-MODIFIED:20221228T071046Z
UID:24313-1698321600-1698325200@www.hirvensalmi.fi
SUMMARY:Tehdään yhdessä käsitöitä Puulan Manuellissa
DESCRIPTION:Kokoonnumme Puulan Manuellin kudontapajassa joka kuukauden viimeinen torstai klo 12. Vaihtuvia teemoja\, voit ottaa mukaan myös oman käsityön. Kaikki tervetulleita !
URL:https://www.hirvensalmi.fi/tapahtuma/tehdaan-yhdessa-kasitoita-puulan-manuellissa-8/
LOCATION:Käsityöpuoti Puulan Manuelli\, Junnankuja 25\, Hirvensalmi\, 52550
ORGANIZER;CN="Hirvensalmen k%C3%A4sity%C3%B6yhdistys ry":MAILTO:posti@puulanmanuelli.fi
END:VEVENT
BEGIN:VEVENT
DTSTART;TZID=Europe/Helsinki:20231026T100000
DTEND;TZID=Europe/Helsinki:20231026T140000
DTSTAMP:20260421T093549
CREATED:20230307T051737Z
LAST-MODIFIED:20231012T105858Z
UID:24620-1698314400-1698328800@www.hirvensalmi.fi
SUMMARY:Seniorimessut
DESCRIPTION:Messuilla esitellään seniori-ikäluokan tarpeisiin ja elinolosuhteisiin kuuluvia asioita ja kohteita.\nJärjestö-/ yhdistysesittelijöitä on niin Hirvensalmen kunnan kuin Mikkelin ja Eloisa:n palvelualueelta sekä aiheeseen liittyviä yrittäjiä Hirvensalmen kunnan alueelta.
URL:https://www.hirvensalmi.fi/tapahtuma/seniorimessut-2/
LOCATION:Elomaan koulu\, Koulutie\, 52550 Hirvensalmi\, Hirvensalmi\, 52550
END:VEVENT
END:VCALENDAR