BEGIN:VCALENDAR
VERSION:2.0
PRODID:-//Hirvensalmi - ECPv6.6.4.2//NONSGML v1.0//EN
CALSCALE:GREGORIAN
METHOD:PUBLISH
X-ORIGINAL-URL:https://www.hirvensalmi.fi
X-WR-CALDESC:Tapahtumat Hirvensalmi
REFRESH-INTERVAL;VALUE=DURATION:PT1H
X-Robots-Tag:noindex
X-PUBLISHED-TTL:PT1H
BEGIN:VTIMEZONE
TZID:Europe/Helsinki
BEGIN:DAYLIGHT
TZOFFSETFROM:+0200
TZOFFSETTO:+0300
TZNAME:EEST
DTSTART:20230326T010000
END:DAYLIGHT
BEGIN:STANDARD
TZOFFSETFROM:+0300
TZOFFSETTO:+0200
TZNAME:EET
DTSTART:20231029T010000
END:STANDARD
END:VTIMEZONE
BEGIN:VEVENT
DTSTART;TZID=Europe/Helsinki:20231024T150000
DTEND;TZID=Europe/Helsinki:20231024T170000
DTSTAMP:20260421T111609
CREATED:20231005T114843Z
LAST-MODIFIED:20231005T114853Z
UID:26432-1698159600-1698166800@www.hirvensalmi.fi
SUMMARY:Kirkonkylän Martat ry:n syyskokous 24.10.2023
DESCRIPTION:Kirkonkylän Marttojen yhdistyksen syyskokous tiistaina 24.10.2023 klo 15.00 seurantalolla.\nSääntöjenmukaiset asiat ja syksyn -23 ja kevään 2024 suunnittelua. Tervetuloa joukolla mukaan uudet ja “vanhat” jäsenet.
URL:https://www.hirvensalmi.fi/tapahtuma/kirkonkylan-martat-ryn-syyskokous-24-10-2023/
LOCATION:Seurantalo\, kirkonkylä\, Kirkonkylä\, Hirvensalmi
END:VEVENT
BEGIN:VEVENT
DTSTART;TZID=Europe/Helsinki:20231023T150000
DTEND;TZID=Europe/Helsinki:20231023T160000
DTSTAMP:20260421T111609
CREATED:20230825T041706Z
LAST-MODIFIED:20230825T041706Z
UID:26082-1698073200-1698076800@www.hirvensalmi.fi
SUMMARY:Avoin kuntosalivuoro
DESCRIPTION:Kuntalaisille avoimet aikuisten ohjatut kuntosalivuorot jatkuvat syyskaudella 2023.\nKuntosalilla luvassa on opastusta kuntosaliharjoittelun aloittamiseen\, laitteiden käyttöön ja turvalliseen harjoitteluun.\nTervetuloa!
URL:https://www.hirvensalmi.fi/tapahtuma/avoin-kuntosalivuoro-4/
LOCATION:Koulukeskuksen kuntosali\, Koulutie 5\, Hirvensalmi\, 52550\, Suomi
ATTACH;FMTTYPE=image/png:https://www.hirvensalmi.fi/wp-content/uploads/2023/08/kuntosalivuorot-3.png
END:VEVENT
BEGIN:VEVENT
DTSTART;TZID=Europe/Helsinki:20231020T180000
DTEND;TZID=Europe/Helsinki:20231020T203000
DTSTAMP:20260421T111609
CREATED:20230929T112520Z
LAST-MODIFIED:20230929T112524Z
UID:26364-1697824800-1697833800@www.hirvensalmi.fi
SUMMARY:YHTEISVASTUU-ILLANVIETTO :"VAIN ELÄMÄÄ!"
DESCRIPTION:Monipuolista ohjelmaa: musisointia\, yhteislaulua\, kisailua\, yleisökilpailuja\, yllätysnumeroita\, arpajaiset ym. KAIKKI TUOTTO LAPSILLE JA NUORILLE YHTEISVASTUUKERÄYKSEN KAUTTA!
URL:https://www.hirvensalmi.fi/tapahtuma/yhteisvastuu-illanvietto-vain-elamaa/
LOCATION:Hirvensalmen Seuratalo\, Pitäjäntie 7\, Hirvensalmi\, 52550
END:VEVENT
BEGIN:VEVENT
DTSTART;TZID=Europe/Helsinki:20231018T080000
DTEND;TZID=Europe/Helsinki:20231018T100000
DTSTAMP:20260421T111609
CREATED:20231003T060340Z
LAST-MODIFIED:20231003T063558Z
UID:26394-1697616000-1697623200@www.hirvensalmi.fi
SUMMARY:Yrittäjien maksuton aamukahvitilaisuus 18.10.
DESCRIPTION:Tervetuloa maksuttomille aamukahveille Pitoaittaan 18.10.2023 klo 8–10 yritysrahoituksen merkeissä. \nIlmoittautuminen Tapahtuma_Yritysrahoitus  -linkistä
URL:https://www.hirvensalmi.fi/tapahtuma/yrittajien-maksuton-aamukahvitilaisuus-18-10/
LOCATION:Ravintola Puulanaitta\, Hirvensalmentie 21
END:VEVENT
BEGIN:VEVENT
DTSTART;TZID=Europe/Helsinki:20231017T180000
DTEND;TZID=Europe/Helsinki:20231017T193000
DTSTAMP:20260421T111609
CREATED:20231004T065149Z
LAST-MODIFIED:20231004T065202Z
UID:26408-1697565600-1697571000@www.hirvensalmi.fi
SUMMARY:Miestenpiiri luento Mannerheim-ristin ritarit
DESCRIPTION:Mannerheim-risti ritari luento miestenpiirissä Hirvensalmen Seurakuntakodilla \nMannerheim-ristin ritarien säätiön hallituksen lohjalainen jäsen Heikki Lehtonen luennoi tiistaina 17.10. klo 18.00 ritareista Hirvensalmen Seurakuntakodilla\, pääpaino luennossa on hirvensalmelaisen ritarin Pauli Tantun kertomuksessa.\nLuennoija Heikki Lehtonen on julkaissut vuosina 2019 ja 2021 kaksi ritariaiheista kirjaa: Sodassa kuolleet Mannerheim-ristin ritarit 1941–1945 sekä Mannerheim-ristin jääkäriritarit. Kuulijoilla on mahdollisuus ostaa näitä tekijän signeeraamina ennen luentoa ja heti sen jälkeen.\nTunnin verran kestävä luento on maksuton.\nHeikki Lehtonen on mm käynyt ja kuvannut kaikkien Mannerheim-ristin ritarien haudat. \nTervetuloa
URL:https://www.hirvensalmi.fi/tapahtuma/miestenpiiri-luento-mannerheim-ristin-ritarit/
LOCATION:Seurakuntakoti\, Kirkkotie
ATTACH;FMTTYPE=image/jpeg:https://www.hirvensalmi.fi/wp-content/uploads/2023/10/Mannerheim-risti.jpg
END:VEVENT
BEGIN:VEVENT
DTSTART;TZID=Europe/Helsinki:20231017T120000
DTEND;TZID=Europe/Helsinki:20231017T150000
DTSTAMP:20260421T111609
CREATED:20231012T041125Z
LAST-MODIFIED:20231012T041131Z
UID:26441-1697544000-1697554800@www.hirvensalmi.fi
SUMMARY:Karaoketanssit!
DESCRIPTION:Kaikille avoimet karaoke-päivätanssit Seuratalolla\, Pitäjäntie 9\, tiistaina 17.10.2023 klo 12.00. Kahvia voi ostaa 11.30 alkaen hintaan 3 € / hlö. Kahvileipä kuulu hintaan. Halukkaille mahdollisuus laulaa\, ja myös tanssia tai vain nauttia musiikista. Tervetuloa!\nJärjestäjänä Eläkeliiton Hirvensalmen yhdistys ry.
URL:https://www.hirvensalmi.fi/tapahtuma/karaoketanssit/
END:VEVENT
BEGIN:VEVENT
DTSTART;TZID=Europe/Helsinki:20231016T140000
DTEND;TZID=Europe/Helsinki:20231016T163000
DTSTAMP:20260421T111609
CREATED:20230927T090628Z
LAST-MODIFIED:20230927T090641Z
UID:26361-1697464800-1697473800@www.hirvensalmi.fi
SUMMARY:Kirkonkylän marttojen vierailu Liisa Puukolle 16.10.23
DESCRIPTION:Kirkonkylän martat on kutsuttu kylään Liisa Puukolle Mäntyharjulle maanantaina 16.10.2023 klo 14.00.\nMenemme kimppakyydein. Ilmoittautuminen sihteeri Raija Tantulle p. 050 380 70 55 la 14.10.23 mennessä.
URL:https://www.hirvensalmi.fi/tapahtuma/kirkonkylan-marttojen-vierailu-liisa-puukolle-16-10-23/
LOCATION:Mäntyharju
END:VEVENT
BEGIN:VEVENT
DTSTART;TZID=Europe/Helsinki:20231011T093000
DTEND;TZID=Europe/Helsinki:20231011T103000
DTSTAMP:20260421T111609
CREATED:20231003T070634Z
LAST-MODIFIED:20231003T070638Z
UID:26397-1697016600-1697020200@www.hirvensalmi.fi
SUMMARY:Päivähoitoikäisten Hyvän Päivän Makkara- ja mehuhetki
DESCRIPTION:Keskiviikkona 11.10. klo 09.30 – 10.30\nElomaan koulun grillikodalla\nKaikki alle kouluikäiset hoitajineen\nlämpimästi tervetuloa!\nP.S. Erkki Teittinen laulaa ja laulattaa\nLions Club Hirvensalmi
URL:https://www.hirvensalmi.fi/tapahtuma/paivahoitoikaisten-hyvan-paivan-makkara-ja-mehuhetki/
LOCATION:Elomaan koulu\, Koulutie\, 52550 Hirvensalmi\, Hirvensalmi\, 52550
ATTACH;FMTTYPE=image/jpeg:https://www.hirvensalmi.fi/wp-content/uploads/2023/10/Liite-2.jpg
END:VEVENT
BEGIN:VEVENT
DTSTART;TZID=Europe/Helsinki:20231009T140000
DTEND;TZID=Europe/Helsinki:20231009T153000
DTSTAMP:20260421T111609
CREATED:20230825T041648Z
LAST-MODIFIED:20231003T051039Z
UID:26079-1696860000-1696865400@www.hirvensalmi.fi
SUMMARY:Avoin kuntosalivuoro
DESCRIPTION:Kuntalaisille avoimet aikuisten ohjatut kuntosalivuorot jatkuvat syyskaudella 2023.\nKuntosalilla luvassa on opastusta kuntosaliharjoittelun aloittamiseen\, laitteiden käyttöön ja turvalliseen harjoitteluun.\nTervetuloa!
URL:https://www.hirvensalmi.fi/tapahtuma/avoin-kuntosalivuoro-3/
LOCATION:Koulukeskuksen kuntosali\, Koulutie 5\, Hirvensalmi\, 52550\, Suomi
ATTACH;FMTTYPE=image/png:https://www.hirvensalmi.fi/wp-content/uploads/2023/08/kuntosalivuorot-2.png
END:VEVENT
BEGIN:VEVENT
DTSTART;TZID=Europe/Helsinki:20231007T130000
DTEND;TZID=Europe/Helsinki:20231007T140000
DTSTAMP:20260421T111609
CREATED:20230919T083827Z
LAST-MODIFIED:20230919T083831Z
UID:26318-1696683600-1696687200@www.hirvensalmi.fi
SUMMARY:Koirien kynsienleikkuupäivä
DESCRIPTION:Kynsienleikkuupäivä koittaa jälleen\, jolloin pääset tuomaan lemmikkisi kynsienleikkuuseen ilman ajanvarausta! \n• Kynsienleikkuu 10€/koira\n• Tassuhuolto 25€/koira\n(Tassuhuolto sisältää kynsien leikkauksen\, tassukarvojen siistimisen päältä ja anturoiden väleistä\, sekä halutessa tassujen vahauksen) \nTervetuloa kynsienleikkuuseen lauantaina 7.10. klo 13-14! Lemmikit hoidetaan saapumisjärjestyksessä yksi kerrallaan\, joten odotathan vuoroasi trimmaamon oven ulkopuolella. \nKynsienleikkuuseen ovat koirien lisäksi tervetulleita muutkin pieneläimet\, kuten kissat ja kanit. Huomioithan kuitenkin\, että paikalla voi olla muitakin eläimiä.\nOsoite: Koulutie 8 A 6\, Hirvensalmi
URL:https://www.hirvensalmi.fi/tapahtuma/koirien-kynsienleikkuupaiva-5/
LOCATION:Trimmaamo Koiruus\, Koulutie 8 A 6\, Hirvensalmi\, 52550
ATTACH;FMTTYPE=image/png:https://www.hirvensalmi.fi/wp-content/uploads/2023/09/kynsienleikkuupäivä-1.png
END:VEVENT
BEGIN:VEVENT
DTSTART;TZID=Europe/Helsinki:20231005T100000
DTEND;TZID=Europe/Helsinki:20231005T110000
DTSTAMP:20260421T111609
CREATED:20230927T043130Z
LAST-MODIFIED:20230927T043134Z
UID:26357-1696500000-1696503600@www.hirvensalmi.fi
SUMMARY:Vanhustenviikko: Valokuvasuunnistusta porukalla
DESCRIPTION:Vanhustenviikolla teemapäivänä torstaina 5.10. on ulkoilu. Ulkoillaan etsimällä porukalla valokuvasuunnistuksen rasteja. Kokoontuminen Hirvensalmen Seuratalolla (Pitäjäntie 7) klo 10.
URL:https://www.hirvensalmi.fi/tapahtuma/vanhustenviikko-valokuvasuunnistusta-porukalla/
LOCATION:Hirvensalmen Seuratalo\, Pitäjäntie 7\, Hirvensalmi\, 52550
END:VEVENT
BEGIN:VEVENT
DTSTART;TZID=Europe/Helsinki:20231004T100000
DTEND;TZID=Europe/Helsinki:20231004T103000
DTSTAMP:20260421T111609
CREATED:20230904T075604Z
LAST-MODIFIED:20230904T075609Z
UID:26186-1696413600-1696415400@www.hirvensalmi.fi
SUMMARY:Vedet - Vauva- ja taaperoteatteri AEIOU
DESCRIPTION:Soveltuu 6kk-6v.
URL:https://www.hirvensalmi.fi/tapahtuma/vedet-vauva-ja-taaperoteatteri-aeiou/
LOCATION:Hirvensalmen Seuratalo\, Pitäjäntie 7\, Hirvensalmi\, 52550
ATTACH;FMTTYPE=image/jpeg:https://www.hirvensalmi.fi/wp-content/uploads/2023/09/Vedet-mainos-Hirvensalmi.jpg
END:VEVENT
BEGIN:VEVENT
DTSTART;VALUE=DATE:20230929
DTEND;VALUE=DATE:20231010
DTSTAMP:20260421T111609
CREATED:20230824T111712Z
LAST-MODIFIED:20230914T045450Z
UID:26069-1695956400-1696820399@www.hirvensalmi.fi
SUMMARY:Valokuvasuunnistus
DESCRIPTION:Hirvensalmella on jälleen mahdollisuus reippailla tutuksi tulleessa valokuvasuunnistuksessa. \nValokuvasuunnistus järjestetään pe 29.9.-su 8.10. \nSuunnistuksen tarkoituksena on etsiä valokuvavihjeillä osoitetut punavalkoisilla lipuilla merkityt rastipaikat. Rasteja on taajamassa\, liikuntapaikoilla ja ulkoilureiteillä. Rastilla on koodikirjain\, joka merkitään rastin mukaiseen ruutuun. Jokaisella tulee olla oma merkintäkynä mukana. Vihjekuvat ja leimauskortti julkaistaan Hirvensalmelaisessa 14.9. Vihjekuvat ja leimauskortti ovat lehden lisäksi tulostettavissa myös kunnan nettisivuilta tai noudettavissa kunnanvirastolta takaoven vieressä olevasta muovitaskusta. Rastit laitetaan paikoilleen 28.9.2023. Rastien kuvat löytyvät täältä. \n• Kortti palautetaan täytettynä (vähintään 7 rastia) kunnanviraston takaoven vieressä olevaan punaiseen postilaatikkoon ma 9.10. klo 12.00 mennessä.\n• Palkintoina arvotaan osallistuneiden kesken 50 € lahjakortti Sataman Herkkuun\, 6 kk jäsenyys kuntosalille ja muita palkintoja. \nJärj. Hirvensalmen kunnan liikuntapalvelut ja paikallislehti Hirvensalmelainen. \nTervetuloa liikkumaan!
URL:https://www.hirvensalmi.fi/tapahtuma/valokuvasuunnistus-2/
LOCATION:Hirvensalmi
END:VEVENT
BEGIN:VEVENT
DTSTART;TZID=Europe/Helsinki:20230928T120000
DTEND;TZID=Europe/Helsinki:20230928T130000
DTSTAMP:20260421T111609
CREATED:20221228T071029Z
LAST-MODIFIED:20221228T071029Z
UID:24312-1695902400-1695906000@www.hirvensalmi.fi
SUMMARY:Tehdään yhdessä käsitöitä Puulan Manuellissa
DESCRIPTION:Kokoonnumme Puulan Manuellin kudontapajassa joka kuukauden viimeinen torstai klo 12. Vaihtuvia teemoja\, voit ottaa myös oman käsityön mukaan. Kaikki tervetulleita !
URL:https://www.hirvensalmi.fi/tapahtuma/tehdaan-yhdessa-kasitoita-puulan-manuellissa-7/
LOCATION:Käsityöpuoti Puulan Manuelli\, Junnankuja 25\, Hirvensalmi\, 52550
ORGANIZER;CN="Hirvensalmen k%C3%A4sity%C3%B6yhdistys ry":MAILTO:posti@puulanmanuelli.fi
END:VEVENT
BEGIN:VEVENT
DTSTART;TZID=Europe/Helsinki:20230927T090000
DTEND;TZID=Europe/Helsinki:20230927T110000
DTSTAMP:20260421T111609
CREATED:20230911T063909Z
LAST-MODIFIED:20230911T064007Z
UID:26259-1695805200-1695812400@www.hirvensalmi.fi
SUMMARY:Liikkuva ReissuEllu Tuukkalan kylätalolla 27.9.2023
DESCRIPTION:Teemana tasapainon kartoittaminen ja harjoittaminen
URL:https://www.hirvensalmi.fi/tapahtuma/reissuellu-tuukkalan-kylatalolla-27-9-2023/
LOCATION:Tuukkalan koulu\, Joutsantie 1212\, Tuukkala\, 52610\, Suomi
END:VEVENT
BEGIN:VEVENT
DTSTART;TZID=Europe/Helsinki:20230926T120000
DTEND;TZID=Europe/Helsinki:20230926T140000
DTSTAMP:20260421T111609
CREATED:20230911T063041Z
LAST-MODIFIED:20230911T063247Z
UID:26252-1695729600-1695736800@www.hirvensalmi.fi
SUMMARY:Liikkuva ReissuEllu 26.9.2023 Seuratalolla
DESCRIPTION:Teemana tasapainon kartoittaminen ja harjoittaminen.
URL:https://www.hirvensalmi.fi/tapahtuma/liikkuva-reissuellu-26-9-2023-seuratalolla/
LOCATION:Hirvensalmen Seuratalo\, Pitäjäntie 7\, Hirvensalmi\, 52550
END:VEVENT
BEGIN:VEVENT
DTSTART;TZID=Europe/Helsinki:20230925T150000
DTEND;TZID=Europe/Helsinki:20230925T160000
DTSTAMP:20260421T111609
CREATED:20230825T041629Z
LAST-MODIFIED:20230825T041629Z
UID:26076-1695654000-1695657600@www.hirvensalmi.fi
SUMMARY:Avoin kuntosalivuoro
DESCRIPTION:Kuntalaisille avoimet aikuisten ohjatut kuntosalivuorot jatkuvat syyskaudella 2023.\nKuntosalilla luvassa on opastusta kuntosaliharjoittelun aloittamiseen\, laitteiden käyttöön ja turvalliseen harjoitteluun.\nTervetuloa!
URL:https://www.hirvensalmi.fi/tapahtuma/avoin-kuntosalivuoro-2/
LOCATION:Koulukeskuksen kuntosali\, Koulutie 5\, Hirvensalmi\, 52550\, Suomi
ATTACH;FMTTYPE=image/png:https://www.hirvensalmi.fi/wp-content/uploads/2023/08/kuntosalivuorot-1.png
END:VEVENT
BEGIN:VEVENT
DTSTART;TZID=Europe/Helsinki:20230918T170000
DTEND;TZID=Europe/Helsinki:20230918T190000
DTSTAMP:20260421T111609
CREATED:20230904T063955Z
LAST-MODIFIED:20230904T063955Z
UID:26183-1695056400-1695063600@www.hirvensalmi.fi
SUMMARY:Hirvensalmen maastopyöräreitin avajaiset
DESCRIPTION:Tapahtumassa ajetaan Hirvensalmen uusi maastopyöräreitti (12\,3km) jokaiselle sopivalla vauhdilla. Omat pyörät ja kypärät mukaan. Jokainen pyöräilee omalla vastuulla. Lenkin jälkeen kahvi- ja mehutarjoilu Urheilukentällä. Tervetuloa!
URL:https://www.hirvensalmi.fi/tapahtuma/hirvensalmen-maastopyorareitin-avajaiset/
LOCATION:Hirvensalmen urheilukenttä\, Kisatie\, Hirvensalmi\, 52550
ATTACH;FMTTYPE=image/png:https://www.hirvensalmi.fi/wp-content/uploads/2023/09/maastopyorareitin-avajaiset.png
END:VEVENT
BEGIN:VEVENT
DTSTART;TZID=Europe/Helsinki:20230911T150000
DTEND;TZID=Europe/Helsinki:20230911T160000
DTSTAMP:20260421T111609
CREATED:20230825T041612Z
LAST-MODIFIED:20230825T041612Z
UID:26072-1694444400-1694448000@www.hirvensalmi.fi
SUMMARY:Avoin kuntosalivuoro
DESCRIPTION:Kuntalaisille avoimet aikuisten ohjatut kuntosalivuorot jatkuvat syyskaudella 2023.\nKuntosalilla luvassa on opastusta kuntosaliharjoittelun aloittamiseen\, laitteiden käyttöön ja turvalliseen harjoitteluun.\nTervetuloa!
URL:https://www.hirvensalmi.fi/tapahtuma/avoin-kuntosalivuoro/
LOCATION:Koulukeskuksen kuntosali\, Koulutie 5\, Hirvensalmi\, 52550\, Suomi
ATTACH;FMTTYPE=image/png:https://www.hirvensalmi.fi/wp-content/uploads/2023/08/kuntosalivuorot.png
END:VEVENT
BEGIN:VEVENT
DTSTART;TZID=Europe/Helsinki:20230911T140000
DTEND;TZID=Europe/Helsinki:20230911T153000
DTSTAMP:20260421T111609
CREATED:20230830T074843Z
LAST-MODIFIED:20230830T074848Z
UID:26152-1694440800-1694446200@www.hirvensalmi.fi
SUMMARY:Hirvensalmen omaishoitajien vertaistukiryhmä
DESCRIPTION:Tervetuloa mukaan Hirvensalmen omaishoitajien omaan vertaistukiryhmään! \nRyhmä kokoontuu seuratalolla (Pitäjäntie 9)\nma 11.9. klo 14 – 15.30. Tarjolla kahvia ja vertaistuellisia keskusteluja. Paikalla myös Jerry Vuorinen esittelemässä omaishoitajien arkea helpottavia apuvälineitä. \nRyhmässä pääset keskustelemaan arjen kokemuksista luottamuksellisesti muiden omaishoitajien kanssa. Osallistuminen ei vaadi omaishoidon sopimusta tai yhdistyksen jäsenyyttä. \nIlmoittaudu mukaan ryhmään Leenalle p. 044 944 8493 viimeistään tapaamista edeltävänä päivänä.
URL:https://www.hirvensalmi.fi/tapahtuma/hirvensalmen-omaishoitajien-vertaistukiryhma-2/
LOCATION:Hirvensalmen Seuratalo\, Pitäjäntie 7\, Hirvensalmi\, 52550
ATTACH;FMTTYPE=image/png:https://www.hirvensalmi.fi/wp-content/uploads/2023/08/Hirvensalmen-omaishoitajien-vertaistukiryhma-8.png
END:VEVENT
BEGIN:VEVENT
DTSTART;TZID=Europe/Helsinki:20230909T120000
DTEND;TZID=Europe/Helsinki:20230909T170000
DTSTAMP:20260421T111609
CREATED:20230901T040843Z
LAST-MODIFIED:20230901T040848Z
UID:26167-1694260800-1694278800@www.hirvensalmi.fi
SUMMARY:Lähiruokapäivä Hietalan luomutilalla
DESCRIPTION:Lähiruokapäivää vietetään Hietalan luomutilalla pullakahvien merkeissä. Tapahtumassa myynnissä tuore erä luomulihaa ja Ranta-Mikkolan puutarhan herkkuja. Tervetuloa viihtymään! 😊
URL:https://www.hirvensalmi.fi/tapahtuma/lahiruokapaiva-hietalan-luomutilalla/
LOCATION:Hietalan luomutila\, Kilkintie 936\, Hirvensalmi\, 52550
ATTACH;FMTTYPE=image/png:https://www.hirvensalmi.fi/wp-content/uploads/2023/08/inbound1021817396841366097.png
ORGANIZER;CN="Hietalan luomutila":MAILTO:hietalanluomutila@gmail.com
END:VEVENT
BEGIN:VEVENT
DTSTART;TZID=Europe/Helsinki:20230908T190000
DTEND;TZID=Europe/Helsinki:20230908T230000
DTSTAMP:20260421T111609
CREATED:20230817T041609Z
LAST-MODIFIED:20230817T041615Z
UID:26014-1694199600-1694214000@www.hirvensalmi.fi
SUMMARY:Pete Nikulaisen karaoke
DESCRIPTION:Syksyn eka Peten karaoke Sejon Baarissa. Kaikki laulamaan tai muuten vaan mukaan!
URL:https://www.hirvensalmi.fi/tapahtuma/pete-nikulaisen-karaoke/
END:VEVENT
BEGIN:VEVENT
DTSTART;TZID=Europe/Helsinki:20230908T173000
DTEND;TZID=Europe/Helsinki:20230908T183000
DTSTAMP:20260421T111609
CREATED:20230817T041641Z
LAST-MODIFIED:20230817T041645Z
UID:26018-1694194200-1694197800@www.hirvensalmi.fi
SUMMARY:Bingo Sejon Baarissa
DESCRIPTION:Syksyn eka bingo Sejon Baarissa
URL:https://www.hirvensalmi.fi/tapahtuma/bingo-sejon-baarissa/
END:VEVENT
BEGIN:VEVENT
DTSTART;TZID=Europe/Helsinki:20230907T140000
DTEND;TZID=Europe/Helsinki:20230907T153000
DTSTAMP:20260421T111609
CREATED:20230907T110315Z
LAST-MODIFIED:20230907T110320Z
UID:26234-1694095200-1694100600@www.hirvensalmi.fi
SUMMARY:Hirvensalmen omaishoitajien vertaistukiryhmä
DESCRIPTION:Tervetuloa mukaan Hirvensalmen omaishoitajien omaan vertaistukiryhmään! Ryhmässä pääset keskustelemaan arjen kokemuksista luottamuksellisesti muiden omaishoitajien kanssa. Osallistuminen ei vaadi omaishoidon sopimusta tai yhdistyksen jäsenyyttä. Ryhmä järjestetään yhteistyössä Mikkelin seudun Muisti ry:n kanssa. \nRyhmä kokoontuu seuratalolla (Pitäjäntie 9) maanantaisin klo 14 -15.30 \n9.10.\, 13.11. ja 11.12 \nIlmoittaudu mukaan ryhmään Leenalle p. 044 944 8493 viimeistään tapaamista edeltävänä päivänä.
URL:https://www.hirvensalmi.fi/tapahtuma/hirvensalmen-omaishoitajien-vertaistukiryhma-3/
LOCATION:Hirvensalmen Seuratalo\, Pitäjäntie 7\, Hirvensalmi\, 52550
ATTACH;FMTTYPE=image/png:https://www.hirvensalmi.fi/wp-content/uploads/2023/09/Hirvensalmen-omaishoitajien-vertaistukiryhma-8.png
END:VEVENT
BEGIN:VEVENT
DTSTART;TZID=Europe/Helsinki:20230907T130000
DTEND;TZID=Europe/Helsinki:20230907T150000
DTSTAMP:20260421T111609
CREATED:20230821T074816Z
LAST-MODIFIED:20230821T074921Z
UID:26040-1694091600-1694098800@www.hirvensalmi.fi
SUMMARY:Hirvensalmen seurakunta 1-4 luokkalaisille TYTTÖKERHO eli "TYTTIS"
DESCRIPTION:Hirvensalmen seurakunta on järjestänyt usean vuoden ajan 1-4 luokkalaisille tytöille “tyttis” kerhon torstaisin 7.9.2023 alkaen klo 13-15 seurakuntakodin lastenpuolella. Päivän ohjelmaan kuuluu välipala\, jonka jälkeen puuhaamme monenlaista esim. kädentaidot\, pelaaminen\, musiikki\, läksyt ja päätämme yhteiseen pieneen hartaushetkeen. “Tyttis”kerho ja välipala ovat ilmaiset. Toiminnasta vastaa lastenohjaaja Marja-Leena Liukkonen soitellaan 0400 143695.
URL:https://www.hirvensalmi.fi/tapahtuma/hirvensalmen-seurakunta-1-4-luokkalaisille-tyttokerho-eli-tyttis/
LOCATION:Hirvensalmen seurakuntakoti\, Sysmäläntie\, HIRVENSALMI\, 52550
END:VEVENT
BEGIN:VEVENT
DTSTART;TZID=Europe/Helsinki:20230902T130000
DTEND;TZID=Europe/Helsinki:20230902T143000
DTSTAMP:20260421T111609
CREATED:20230601T085617Z
LAST-MODIFIED:20230601T085617Z
UID:25483-1693659600-1693665000@www.hirvensalmi.fi
SUMMARY:Koirien kynsienleikkuupäivä
DESCRIPTION:Laitahan kesän kynsienleikkuupäivät kalenteriin ja tule käymään koirasi kanssa trimmaamolla ilman ajanvarausta. \nKesällä kynsienleikkuupäivät ovat aina kuukauden ensimmäisenä lauantaina klo 13-14:30\, paitsi Tervaleppäjuhlilla 1.7. koko markkinapäivän ajan eli klo 10-16! \n• Kynsienleikkuu 10€/koira\n• Tassuhuolto 20€/koira \nJos kynsienleikkuu on koirallesi erittäin hankala tapahtuma ja koirasi tarvitsee siihen enemmän aikaa ja huomiota\, niin varaathan kynsienleikkuuajan erikseen.
URL:https://www.hirvensalmi.fi/tapahtuma/koirien-kynsienleikkuupaiva-4/
LOCATION:Trimmaamo Koiruus\, Koulutie 8 A 6\, Hirvensalmi\, 52550
ATTACH;FMTTYPE=image/png:https://www.hirvensalmi.fi/wp-content/uploads/2023/06/kesän-kynsienleikkuupäivät-2.png
END:VEVENT
BEGIN:VEVENT
DTSTART;TZID=Europe/Helsinki:20230831T120000
DTEND;TZID=Europe/Helsinki:20230831T130000
DTSTAMP:20260421T111609
CREATED:20221228T071007Z
LAST-MODIFIED:20221228T071007Z
UID:24311-1693483200-1693486800@www.hirvensalmi.fi
SUMMARY:Tehdään yhdessä käsitöitä Puulan Manuellissa
DESCRIPTION:Kokoonnumme Puulan Manuellin kudontapajassa joka kuukauden viimeinen torstai klo 12. Vaihtuvia teemoja\, voit ottaa myös oman käsityön mukaan. Kaikki tervetulleita !
URL:https://www.hirvensalmi.fi/tapahtuma/tehdaan-yhdessa-kasitoita-puulan-manuellissa-6/
LOCATION:Käsityöpuoti Puulan Manuelli\, Junnankuja 25\, Hirvensalmi\, 52550
ORGANIZER;CN="Hirvensalmen k%C3%A4sity%C3%B6yhdistys ry":MAILTO:posti@puulanmanuelli.fi
END:VEVENT
BEGIN:VEVENT
DTSTART;TZID=Europe/Helsinki:20230830T093000
DTEND;TZID=Europe/Helsinki:20230830T110000
DTSTAMP:20260421T111609
CREATED:20230821T072657Z
LAST-MODIFIED:20230821T072657Z
UID:26036-1693387800-1693393200@www.hirvensalmi.fi
SUMMARY:Hirvensalmen seurakunnan lapsi ja perhetoiminta PERHEKERHO
DESCRIPTION:Perhekerho kokoontuu säännöllisesti seurakuntakodilla\, kirkon vieressä joka keskiviikko 30.8 alkaen. Perhekerhon ovet avautuvat klo 9 alkaen virallisesti aloitamme klo 9.30 pienellä aamupalalla. Jatkamme päivän ohjelmalla\, joka näkyy jaettavassa ohjelmassa. Päätämme yhteiseen hartauteen n. 10.45-11.\nPerhekerhoon ovat tervetulleita äidit/isät\, mummit/vaarit\, kummit\, vapaapäiväläiset\, päivähoitajat lapsineen…\nTervetuloa aloittamaan yhteistä syyskautta. Teitä odottaa vakiona lastenohjaaja Marja-Leena Liukkonen 0400 143695. Voi soitella ja kysellä lisää.
URL:https://www.hirvensalmi.fi/tapahtuma/hirvensalmen-seurakunnan-lapsi-ja-perhetoiminta-perhekerho/
LOCATION:Hirvensalmen seurakuntakoti\, Sysmäläntie\, HIRVENSALMI\, 52550
END:VEVENT
BEGIN:VEVENT
DTSTART;TZID=Europe/Helsinki:20230828T130000
DTEND;TZID=Europe/Helsinki:20230828T153000
DTSTAMP:20260421T111609
CREATED:20230821T073713Z
LAST-MODIFIED:20230821T074753Z
UID:26038-1693227600-1693236600@www.hirvensalmi.fi
SUMMARY:Hirvensalmen seurakunta 1-4 luokkalaiset KAAKAOPYHÄKOULU
DESCRIPTION:1-4 luokkalaiset ovat saaneet postissa kirjeen\, jossa heitä kutsutaan “kaakaopyhikseen”. Kaakaopyhis kokoontuu maanantaisin koulun jälkeen klo 13-15.30\nseurakuntakodin lastenpuolella. Ilmoittautuneet saapuvat koulun jälkeen ja voivat tehdä läksyt\, pelata pelejä ja leikkiä kavereiden kanssa niin sisällä kuin ulkona. Yhdessä kokoonnumme pyhäkouluhetkeen\, joka on pieni muotoinen lastenkirkko. Yhdessä pohdimme ja mietimme elämän tärkeitä asioita raamatunkertomusten pohjalta. Hetken hiljentyminen\, kuunteleminen\, laulaminen ja asioista keskusteleminen luo lapselle Pyhän kokemuksen arjen keskellä.\nKaakaopyhiksessä on välipala ja tietysti kaakaota. Kaakaopyhiksen tarkoituksena on tukea lapsen kristillistä kasvua sekä järjestää koululaisille turvallinen tapa viettää maanantai-iltapäivä. Toiminasta vastaa Lastenohjaaja Marja-Leena Liukkonen 0400 143695 voi soitella ja kysellä lisää.
URL:https://www.hirvensalmi.fi/tapahtuma/hirvensalmen-seurakunta-1-4-luokkalaiset-kaakaopyhakoulu/
LOCATION:Hirvensalmen seurakuntakoti\, Sysmäläntie\, HIRVENSALMI\, 52550
END:VEVENT
BEGIN:VEVENT
DTSTART;TZID=Europe/Helsinki:20230826T210000
DTEND;TZID=Europe/Helsinki:20230826T230000
DTSTAMP:20260421T111609
CREATED:20230530T123002Z
LAST-MODIFIED:20230530T123002Z
UID:25409-1693083600-1693090800@www.hirvensalmi.fi
SUMMARY:Movetron Sataman Herkussa
DESCRIPTION:Movetron esiintyy Sataman Herkussa
URL:https://www.hirvensalmi.fi/tapahtuma/movetron-sataman-herkussa/
LOCATION:Ravintola Sataman Herkku\, Hirvensalmentie 22 \, Hirvensalmi\, Finland\, 52550\, Suomi
ORGANIZER;CN="Ravintola Sataman Herkku":MAILTO:marianne@satamanherkku.fi
END:VEVENT
END:VCALENDAR