BEGIN:VCALENDAR
VERSION:2.0
PRODID:-//Hirvensalmi - ECPv6.6.4.2//NONSGML v1.0//EN
CALSCALE:GREGORIAN
METHOD:PUBLISH
X-ORIGINAL-URL:https://www.hirvensalmi.fi
X-WR-CALDESC:Tapahtumat Hirvensalmi
REFRESH-INTERVAL;VALUE=DURATION:PT1H
X-Robots-Tag:noindex
X-PUBLISHED-TTL:PT1H
BEGIN:VTIMEZONE
TZID:Europe/Helsinki
BEGIN:DAYLIGHT
TZOFFSETFROM:+0200
TZOFFSETTO:+0300
TZNAME:EEST
DTSTART:20210328T010000
END:DAYLIGHT
BEGIN:STANDARD
TZOFFSETFROM:+0300
TZOFFSETTO:+0200
TZNAME:EET
DTSTART:20211031T010000
END:STANDARD
BEGIN:DAYLIGHT
TZOFFSETFROM:+0200
TZOFFSETTO:+0300
TZNAME:EEST
DTSTART:20220327T010000
END:DAYLIGHT
BEGIN:STANDARD
TZOFFSETFROM:+0300
TZOFFSETTO:+0200
TZNAME:EET
DTSTART:20221030T010000
END:STANDARD
END:VTIMEZONE
BEGIN:VEVENT
DTSTART;TZID=Europe/Helsinki:20220701T100000
DTEND;TZID=Europe/Helsinki:20220701T170000
DTSTAMP:20260421T174355
CREATED:20220103T060723Z
LAST-MODIFIED:20220103T060726Z
UID:22702-1656669600-1656694800@www.hirvensalmi.fi
SUMMARY:Käsityöyhdistyksen Käsityönäyttely Sininen ja Valkoinen
DESCRIPTION:Hirvensalmen käsityöyhdistyksen käsityömyymälä Manuellin kudontapajassa Tervaleppäjuhla viikonloppuna avautuu käsityönäyttely Sininen ja Valkoinen\, Suomi 105 vuotta ! Kaikki tervetulleita !
URL:https://www.hirvensalmi.fi/tapahtuma/kasityoyhdistyksen-kasityonayttely-sininen-ja-valkoinen/
LOCATION:Junnankuja 25 Hirvensalmi
ORGANIZER;CN="Hirvensalmen k%C3%A4sity%C3%B6yhdistys ry":MAILTO:posti@puulanmanuelli.fi
END:VEVENT
BEGIN:VEVENT
DTSTART;TZID=Europe/Helsinki:20220701T100000
DTEND;TZID=Europe/Helsinki:20220701T170000
DTSTAMP:20260421T174355
CREATED:20220103T060705Z
LAST-MODIFIED:20220103T060710Z
UID:22703-1656669600-1656694800@www.hirvensalmi.fi
SUMMARY:Pelättien äänestys Junnankuja 25
DESCRIPTION:Kaikki tervetulleita äänestämään vuoden 2022 parasta pelättiä. Äänestys käsityöpuoti Manuellin kudontapajassa\, Junnankuja 25 Hirvensalmi
URL:https://www.hirvensalmi.fi/tapahtuma/pelattien-aanestys-junnankuja-25/
LOCATION:Junnankuja 25 Hirvensalmi
ORGANIZER;CN="Hirvensalmen k%C3%A4sity%C3%B6yhdistys ry":MAILTO:posti@puulanmanuelli.fi
END:VEVENT
BEGIN:VEVENT
DTSTART;TZID=Europe/Helsinki:20220701T080000
DTEND;TZID=Europe/Helsinki:20220703T170000
DTSTAMP:20260421T174355
CREATED:20220126T101547Z
LAST-MODIFIED:20220126T101551Z
UID:22829-1656662400-1656867600@www.hirvensalmi.fi
SUMMARY:Tervaleppäjuhlat
DESCRIPTION:49. Tervaleppäjuhlat kuuluu Hirvensalmen kesään. Juhlat pidetään 1.-3.7. ja silloin on tarjolla jokaiselle jotakin: Perinteiset markkinat\, kari Vepsän kirkkokonsertti\, taidenäyttelyt\, kesävieraiden kirkkopyhä ym. oheisohjelmaa. Katso lisää facebookista: Tervaleppayhdistys
URL:https://www.hirvensalmi.fi/tapahtuma/tervaleppajuhlat-5/
LOCATION:Hirvensalmi
ATTACH;FMTTYPE=image/jpeg:https://www.hirvensalmi.fi/wp-content/uploads/2022/01/004.jpg
END:VEVENT
BEGIN:VEVENT
DTSTART;TZID=Europe/Helsinki:20220627T130000
DTEND;TZID=Europe/Helsinki:20220627T150000
DTSTAMP:20260421T174355
CREATED:20220103T060739Z
LAST-MODIFIED:20220103T060742Z
UID:22701-1656334800-1656342000@www.hirvensalmi.fi
SUMMARY:Tehdään yhdessä
DESCRIPTION:Kaikki tervetulleita Hirvensalmen käsityöyhdistyksen järjestämiin Tehdään yhdessä käsitöitä/askarteluja päiviin. Kokoonnumme käsityöpuoti Manuellin kudontapajaan\, Junnankuja 25 Hirvensalmi joka kuukauden viimeinen maanantai klo 13
URL:https://www.hirvensalmi.fi/tapahtuma/tehdaan-yhdessa-15/
LOCATION:Junnankuja 25 Hirvensalmi
ORGANIZER;CN="Hirvensalmen k%C3%A4sity%C3%B6yhdistys ry":MAILTO:posti@puulanmanuelli.fi
END:VEVENT
BEGIN:VEVENT
DTSTART;TZID=Europe/Helsinki:20220621T180000
DTEND;TZID=Europe/Helsinki:20220621T210000
DTSTAMP:20260421T174355
CREATED:20220513T040348Z
LAST-MODIFIED:20220513T040353Z
UID:23333-1655834400-1655845200@www.hirvensalmi.fi
SUMMARY:Kesäteatterimatka Naisvuorelle
DESCRIPTION:Kirkonkylän marttojen kesäteatterimatka “Mitä kuuluu Marjaleena” -musiikkikomedian esitykseen Naisvuorelle tiistaina 21.6.2022 klo 18.00.\nMenemme kimppakyydein.\nSitovat ilmoittautumiset Raija Tantulle perjantaihin 20.5.2022 mennessä puh. 050 380 70 55.
URL:https://www.hirvensalmi.fi/tapahtuma/kesateatterimatka-naisvuorelle/
LOCATION:Naisvuoren kesäteatteri\, Mikkeli\, Mikkeli\, Suomi
END:VEVENT
BEGIN:VEVENT
DTSTART;TZID=Europe/Helsinki:20220620T100000
DTEND;TZID=Europe/Helsinki:20220622T170000
DTSTAMP:20260421T174355
CREATED:20220103T060750Z
LAST-MODIFIED:20220103T060753Z
UID:22700-1655719200-1655917200@www.hirvensalmi.fi
SUMMARY:Pelättikisaan ilmoittautuminen vko 25
DESCRIPTION:Kaikki tervetulleita osallistumaan Hirvensalmen käsityöyhdistyksen järjestämään vuoden 2022 variksenpelätti kisaan. Lisätietoja Käsityöpuoti/ kudontapaja Manuellista\, Junnankuja 25 Hirvensalmi. Arkisin klo 10 – 17 ja lauantaisin klo 10 – 14
URL:https://www.hirvensalmi.fi/tapahtuma/pelattikisaan-ilmoittautuminen-vko-25/
LOCATION:Junnankuja 25 Hirvensalmi
ORGANIZER;CN="Hirvensalmen k%C3%A4sity%C3%B6yhdistys ry":MAILTO:posti@puulanmanuelli.fi
END:VEVENT
BEGIN:VEVENT
DTSTART;TZID=Europe/Helsinki:20220611T110000
DTEND;TZID=Europe/Helsinki:20220611T160000
DTSTAMP:20260421T174355
CREATED:20220422T105343Z
LAST-MODIFIED:20220422T105346Z
UID:23179-1654945200-1654963200@www.hirvensalmi.fi
SUMMARY:Avoimet kylät-tapahtuma ja Kesäpuodin avajaiset Tuukkalassa
DESCRIPTION:Kesäpuodin avajaiset\, musiikkia\, arvontaa\, muurinpohjalettuja\, valokuvanäyttely.
URL:https://www.hirvensalmi.fi/tapahtuma/avoimet-kylat-tapahtuma-ja-kesapuodin-avajaiset-tuukkalassa/
LOCATION:Tuukkalan koulu\, Joutsantie 1212\, Tuukkala\, 52610\, Suomi
ATTACH;FMTTYPE=image/jpeg:https://www.hirvensalmi.fi/wp-content/uploads/2022/04/2017.-kylätapahtuma.jpg
END:VEVENT
BEGIN:VEVENT
DTSTART;TZID=Europe/Helsinki:20220530T130000
DTEND;TZID=Europe/Helsinki:20220530T150000
DTSTAMP:20260421T174355
CREATED:20220103T060802Z
LAST-MODIFIED:20220103T060805Z
UID:22699-1653915600-1653922800@www.hirvensalmi.fi
SUMMARY:Tehdään yhdessä
DESCRIPTION:Kaikki tervetulleita Hirvensalmen käsityöyhdistyksen järjestämiin Tehdään yhdessä käsitöitä/askarteluja päiviin. Kokoonnumme Käsityöpuoti Manuellin kudontapajassa\, Junnankuja 25 Hirvensalmi joka kuukauden viimeinen maanantai klo 13
URL:https://www.hirvensalmi.fi/tapahtuma/tehdaan-yhdessa-16/
LOCATION:Junnankuja 25 Hirvensalmi
ORGANIZER;CN="Hirvensalmen k%C3%A4sity%C3%B6yhdistys ry":MAILTO:posti@puulanmanuelli.fi
END:VEVENT
BEGIN:VEVENT
DTSTART;TZID=Europe/Helsinki:20220528T110000
DTEND;TZID=Europe/Helsinki:20220528T130000
DTSTAMP:20260421T174355
CREATED:20220103T060444Z
LAST-MODIFIED:20220103T060444Z
UID:22714-1653735600-1653742800@www.hirvensalmi.fi
SUMMARY:Tervetuloa kesä! -kahvit Junnankuja 25
DESCRIPTION:Toivotetaan kesä tervetulleeksi käsityöpuoti/kudontapaja Manuellin pihapiirissä\, Junnankuja 25 Hirvensalmi. Kaikki tervetulleita kahville klo 11 – 13. Myymälä avoinna klo 10 -14 Järjestäjänä Hirvensalmen käsityöyhdistys ry
URL:https://www.hirvensalmi.fi/tapahtuma/tervetuloa-kesa-kahvit-junnankuja-25/
LOCATION:Junnankuja 25 Hirvensalmi
ORGANIZER;CN="Hirvensalmen k%C3%A4sity%C3%B6yhdistys ry":MAILTO:posti@puulanmanuelli.fi
END:VEVENT
BEGIN:VEVENT
DTSTART;TZID=Europe/Helsinki:20220512T130000
DTEND;TZID=Europe/Helsinki:20220512T143000
DTSTAMP:20260421T174355
CREATED:20220510T040055Z
LAST-MODIFIED:20220510T040055Z
UID:23263-1652360400-1652365800@www.hirvensalmi.fi
SUMMARY:Paperikukkien taittelukurssi 12.5.2022
DESCRIPTION:Kirkonkylän Marttojen paperikukkien taittelukurssi torstaina 12.5.2022 klo 13 Puulan Manuellissa. Lahjakurssi\, ei kurssimaksua. Tervetuloa!
URL:https://www.hirvensalmi.fi/tapahtuma/paperikukkien-taittelukurssi-12-5-2022/
LOCATION:Käsityöpuoti Puulan Manuelli\, Junnankuja 25\, Hirvensalmi\, 52550
END:VEVENT
BEGIN:VEVENT
DTSTART;TZID=Europe/Helsinki:20220504T180000
DTEND;TZID=Europe/Helsinki:20220504T200000
DTSTAMP:20260421T174355
CREATED:20220421T040634Z
LAST-MODIFIED:20220421T040637Z
UID:23176-1651687200-1651694400@www.hirvensalmi.fi
SUMMARY:Ruusunpäiväkävely ke 4.5.2022
DESCRIPTION:Perinteinen Ruusunpäiväkävely keskiviikkona 4.5.2022 seurantalon pihasta klo 18:00. Tervetuloa!
URL:https://www.hirvensalmi.fi/tapahtuma/ruusunpaivakavely-ke-4-5-2022/
LOCATION:Seurantalo\, kirkonkylä\, Kirkonkylä\, Hirvensalmi
END:VEVENT
BEGIN:VEVENT
DTSTART;TZID=Europe/Helsinki:20220427T180000
DTEND;TZID=Europe/Helsinki:20220427T200000
DTSTAMP:20260421T174355
CREATED:20220420T070838Z
LAST-MODIFIED:20220420T070840Z
UID:23169-1651082400-1651089600@www.hirvensalmi.fi
SUMMARY:Kirkonkylän Martat ry marttailta 27.4.2022
DESCRIPTION:Kirkonkylän Marttojen marttailta keskiviikkona 27.4.2022 klo 18.00 seurantalolla.\nAiheena kesätapahtumien suunnittelu ym. Tervetuloa!
URL:https://www.hirvensalmi.fi/tapahtuma/kirkonkylan-martat-ry-marttailta-27-4-2022/
LOCATION:Seurantalo\, kirkonkylä\, Kirkonkylä\, Hirvensalmi
END:VEVENT
BEGIN:VEVENT
DTSTART;TZID=Europe/Helsinki:20220425T130000
DTEND;TZID=Europe/Helsinki:20220425T150000
DTSTAMP:20260421T174355
CREATED:20220103T060814Z
LAST-MODIFIED:20220103T060818Z
UID:22698-1650891600-1650898800@www.hirvensalmi.fi
SUMMARY:Tehdään yhdessä
DESCRIPTION:Kaikki tervetulleita Hirvensalmen käsityöyhdistyksen järjestämään tehdään yhdessä käsitöitä/askarteluja päiviin. Kokoonnumme Käsityöpuoti Manuellin kudontapajaan\, Junnankuja 25 Hirvensalmi joka kuukauden viimeinen maanantai klo 13
URL:https://www.hirvensalmi.fi/tapahtuma/tehdaan-yhdessa-17/
LOCATION:Junnankuja 25 Hirvensalmi
ORGANIZER;CN="Hirvensalmen k%C3%A4sity%C3%B6yhdistys ry":MAILTO:posti@puulanmanuelli.fi
END:VEVENT
BEGIN:VEVENT
DTSTART;TZID=Europe/Helsinki:20220420T160000
DTEND;TZID=Europe/Helsinki:20220420T180000
DTSTAMP:20260421T174355
CREATED:20220331T115002Z
LAST-MODIFIED:20220331T115006Z
UID:23119-1650470400-1650477600@www.hirvensalmi.fi
SUMMARY:Marttailtapäivä kirjastossa ke 20.4.22 klo 16-18
DESCRIPTION:Marttailtapäivä kirjastossa ke 20.4.22 klo 16-18.\nTutustutaan kirjaston toimintaan kirjastonhoitajan opastuksella. Omat mukit mukaan tarjoilua varten!\nTervetuloa joukolla mukaan
URL:https://www.hirvensalmi.fi/tapahtuma/marttailtapaiva-kirjastossa-ke-20-4-22-klo-16-18/
LOCATION:Hirvensalmen kirjasto\, Koulutie 7\, Hirvensalmi\, Etelä-Savo\, 52550\, Suomi
END:VEVENT
BEGIN:VEVENT
DTSTART;TZID=Europe/Helsinki:20220419T130000
DTEND;TZID=Europe/Helsinki:20220419T150000
DTSTAMP:20260421T174355
CREATED:20220103T060830Z
LAST-MODIFIED:20220103T060834Z
UID:22697-1650373200-1650380400@www.hirvensalmi.fi
SUMMARY:Vko 16 Villiä Vappua kädentaidon kurssit
DESCRIPTION:Viikolla 16 alkavat Villiä Vappua kädentaidon kurssit. Kokoonnumme käsityöpuoti Manuellin kudontapajassa\, Junnankuja 25 Hirvensalmi. Kaikki tervetulleita kursseille.
URL:https://www.hirvensalmi.fi/tapahtuma/vko-16-villia-vappua-kadentaidon-kurssit/
LOCATION:Junnankuja 25 Hirvensalmi
ORGANIZER;CN="Hirvensalmen k%C3%A4sity%C3%B6yhdistys ry":MAILTO:posti@puulanmanuelli.fi
END:VEVENT
BEGIN:VEVENT
DTSTART;TZID=Europe/Helsinki:20220413T110000
DTEND;TZID=Europe/Helsinki:20220413T150000
DTSTAMP:20260421T174355
CREATED:20220412T050325Z
LAST-MODIFIED:20220412T050329Z
UID:23155-1649847600-1649862000@www.hirvensalmi.fi
SUMMARY:Pääsiäismyyjäiset Puulan Manuellissa
DESCRIPTION:Tervetuloa Hirvensalmen käsityöyhdistyksen pääsiäismyyjäisiin käsityöpuoti/kudontapaja Puulan Manuelliin\, Junnankuja 25\, Hirvensalmi. Myyjäiset klo.11-15\nMyymälä avoinna klo.10-17
URL:https://www.hirvensalmi.fi/tapahtuma/paasiaismyyjaiset-puulan-manuellissa-3/
LOCATION:Junnankuja 25 Hirvensalmi
ORGANIZER;CN="Hirvensalmen k%C3%A4sity%C3%B6yhdistys ry":MAILTO:posti@puulanmanuelli.fi
END:VEVENT
BEGIN:VEVENT
DTSTART;TZID=Europe/Helsinki:20220330T163000
DTEND;TZID=Europe/Helsinki:20220330T170000
DTSTAMP:20260421T174355
CREATED:20220322T054033Z
LAST-MODIFIED:20220322T085512Z
UID:23068-1648657800-1648659600@www.hirvensalmi.fi
SUMMARY:Hirvensalmen Kokoomus ry:n kevätkokous
DESCRIPTION:Yhdistyksen sääntömääräinen kevätkokous\, käsitellään sääntöjen määräämät asiat sekä sääntömuutos asia.\nLämpimästi tervetuloa!
URL:https://www.hirvensalmi.fi/tapahtuma/hirvensalmen-kokoomus-ryn-kevatkokous/
LOCATION:Hirvensalmen kunnanvirasto valtuustosali
ATTACH;FMTTYPE=image/png:https://www.hirvensalmi.fi/wp-content/uploads/2022/03/sydan_png.png
ORGANIZER;CN="Hirvensalmen Kokoomus":MAILTO:pirkko.luntta@pp.inet.fi
END:VEVENT
BEGIN:VEVENT
DTSTART;TZID=Europe/Helsinki:20220328T130000
DTEND;TZID=Europe/Helsinki:20220328T150000
DTSTAMP:20260421T174355
CREATED:20220103T060846Z
LAST-MODIFIED:20220103T060849Z
UID:22696-1648472400-1648479600@www.hirvensalmi.fi
SUMMARY:Tehdään yhdessä
DESCRIPTION:Kaikki tervetulleita Hirvensalmen käsityöyhdistyksen järjestämille Tehdään yhdessä käsitöitä/askarteluja päiviin. Kokoonnumme Käsityöpuoti Manuellin kudontapajassa\, Junnankuja 25 Hirvensalmi joka kuukauden viimeinen maanantai klo 13
URL:https://www.hirvensalmi.fi/tapahtuma/tehdaan-yhdessa-18/
LOCATION:Junnankuja 25 Hirvensalmi
ORGANIZER;CN="Hirvensalmen k%C3%A4sity%C3%B6yhdistys ry":MAILTO:posti@puulanmanuelli.fi
END:VEVENT
BEGIN:VEVENT
DTSTART;TZID=Europe/Helsinki:20220326T100000
DTEND;TZID=Europe/Helsinki:20220326T143000
DTSTAMP:20260421T174355
CREATED:20220314T053246Z
LAST-MODIFIED:20220314T053250Z
UID:23026-1648288800-1648305000@www.hirvensalmi.fi
SUMMARY:Pilkkikilpailut Väisälänsaaressa Lutakonlahdella
DESCRIPTION:Pilkkilpailupaikka os.Lutakontie Laivalaituri\, kilpailusarjat miehet os\,maksu 10 \,naisten sarja\nos\,maksu 10 \,lasten sarja os\,maksu 5 €\,joukkuekilpalu kiertopalkinnosta 3 hengen joukkue\,\n3 parasta palkitaan joka sarjassa\, suurin kala palkitaan\,akkukairan käyttö sallittu\,\nkisakansliassa Marttakahvio\,grillitulet makkranpaistoa varten\, kilpailuaika 4 tuntia.\njäejestäjä Väisälän Kyläyhdistys ry.
URL:https://www.hirvensalmi.fi/tapahtuma/pilkkikilpailut-vaisalansaaressa-lutakonlahdella/
ORGANIZER;CN="V%C3%A4is%C3%A4l%C3%A4n Kyl%C3%A4yhdistys ry":MAILTO:jouko.turunen@ssvpk.net
END:VEVENT
BEGIN:VEVENT
DTSTART;TZID=Europe/Helsinki:20220323T180000
DTEND;TZID=Europe/Helsinki:20220323T200000
DTSTAMP:20260421T174355
CREATED:20220307T114749Z
LAST-MODIFIED:20220307T114755Z
UID:23009-1648058400-1648065600@www.hirvensalmi.fi
SUMMARY:Kirkonkylän Martat ry:n kevätkokous ke 23.3.2022
DESCRIPTION:Hirvensalmen Kirkonkylän Martat ry:n kevätkokous keskiviikkona 23.3.2022 klo 18.00 seurojentalolla. Asiana kevätkousasiat. \nTervetuloa mukaan
URL:https://www.hirvensalmi.fi/tapahtuma/kirkonkylan-martat-ryn-kevatkokous-ke-23-3-2022/
LOCATION:Seurantalo\, kirkonkylä\, Kirkonkylä\, Hirvensalmi
END:VEVENT
BEGIN:VEVENT
DTSTART;TZID=Europe/Helsinki:20220314T130000
DTEND;TZID=Europe/Helsinki:20220314T150000
DTSTAMP:20260421T174355
CREATED:20220103T060902Z
LAST-MODIFIED:20220103T060904Z
UID:22695-1647262800-1647270000@www.hirvensalmi.fi
SUMMARY:Kevättä ilmassa-kädentaidon kurssit
DESCRIPTION:Hirvensalmen käsityöyhdistyksen kädentaidon kurssit alkavat viikolla 11 Käsityöpuoti Manuellin kudontapajassa\, Junnankuja 25 Hirvensalmi. Kursseille ovat kaikki tervetulleita !
URL:https://www.hirvensalmi.fi/tapahtuma/kevatta-ilmassa-kadentaidon-kurssit/
LOCATION:Junnankuja 25 Hirvensalmi
ORGANIZER;CN="Hirvensalmen k%C3%A4sity%C3%B6yhdistys ry":MAILTO:posti@puulanmanuelli.fi
END:VEVENT
BEGIN:VEVENT
DTSTART;TZID=Europe/Helsinki:20220301T120000
DTEND;TZID=Europe/Helsinki:20220301T150000
DTSTAMP:20260421T174355
CREATED:20220218T070151Z
LAST-MODIFIED:20220218T070240Z
UID:22929-1646136000-1646146800@www.hirvensalmi.fi
SUMMARY:#ulkonakuinlumiukko
DESCRIPTION:Tule mukaan rakentamaan ja askartelemaan lumesta Hirvensalmelle omaa lumiukko kylää!
URL:https://www.hirvensalmi.fi/tapahtuma/ulkonakuinlumiukko/
LOCATION:Seurantalo\, kirkonkylä\, Kirkonkylä\, Hirvensalmi
ATTACH;FMTTYPE=image/png:https://www.hirvensalmi.fi/wp-content/uploads/2022/02/ulkonakuinlumiukko-uusi.png
END:VEVENT
BEGIN:VEVENT
DTSTART;TZID=Europe/Helsinki:20220228T130000
DTEND;TZID=Europe/Helsinki:20220228T150000
DTSTAMP:20260421T174355
CREATED:20220103T060912Z
LAST-MODIFIED:20220103T060916Z
UID:22694-1646053200-1646060400@www.hirvensalmi.fi
SUMMARY:Tehdään yhdessä
DESCRIPTION:Kaikki tervetulleita Hirvensalmen käsityöyhdistyksen järjestämiin Tehdään yhdessä käsitöitä/askarteluja päiviin. Kokoonnumme käsityöpuoti Manuellin kudontapajassa\, Junnankuja 25 Hirvensalmi joka kuukauden viimeinen maanantai klo 13
URL:https://www.hirvensalmi.fi/tapahtuma/tehdaan-yhdessa-19/
LOCATION:Junnankuja 25 Hirvensalmi
ORGANIZER;CN="Hirvensalmen k%C3%A4sity%C3%B6yhdistys ry":MAILTO:posti@puulanmanuelli.fi
END:VEVENT
BEGIN:VEVENT
DTSTART;TZID=Europe/Helsinki:20220216T130000
DTEND;TZID=Europe/Helsinki:20220216T153000
DTSTAMP:20260421T174355
CREATED:20220210T052330Z
LAST-MODIFIED:20220210T052335Z
UID:22888-1645016400-1645025400@www.hirvensalmi.fi
SUMMARY:Kirkonkylän marttojen ulkoilupäivä ke 16.2.2022
DESCRIPTION:Tervetuloa viettämään ulkoilupäivää ystävänpäivän merkeissä keskiviikkona 16.2.2022 klo 13. Kokoonnumme Puulan aitan pihaan\, Kangastie 2. Tule hiihtäen\, kävellen tai muulla pelillä ja ota ystäväsi mukaan. Arvomme jotain osallistujien kesken.\nTervetuloa!
URL:https://www.hirvensalmi.fi/tapahtuma/kirkonkylan-marttojen-ulkoilupaiva-ke-16-2-2022/
LOCATION:Puulan Aitan piha\, Kangastie\, Kangastie 2\, Hirvensalmi
END:VEVENT
BEGIN:VEVENT
DTSTART;TZID=Europe/Helsinki:20220214T100000
DTEND;TZID=Europe/Helsinki:20220214T170000
DTSTAMP:20260421T174355
CREATED:20220103T060927Z
LAST-MODIFIED:20220103T060930Z
UID:22693-1644832800-1644858000@www.hirvensalmi.fi
SUMMARY:Ystävänpäivä yhdessä
DESCRIPTION:Kaikki tervetulleita viettämään ystävänpäivää käsityöpuoti Manuellin kudontapajaan\, Junnankuja 25 Hirvensalmi
URL:https://www.hirvensalmi.fi/tapahtuma/ystavanpaiva-yhdessa/
LOCATION:Junnankuja 25 Hirvensalmi
ORGANIZER;CN="Hirvensalmen k%C3%A4sity%C3%B6yhdistys ry":MAILTO:posti@puulanmanuelli.fi
END:VEVENT
BEGIN:VEVENT
DTSTART;TZID=Europe/Helsinki:20220213T130000
DTEND;TZID=Europe/Helsinki:20220213T160000
DTSTAMP:20260421T174355
CREATED:20220204T051318Z
LAST-MODIFIED:20220204T051328Z
UID:22860-1644757200-1644768000@www.hirvensalmi.fi
SUMMARY:Ulkoilutapatuma ystävänpäivän aattona
DESCRIPTION:Ystävänpäivän aattona mahdollisuus hiihtää porukalla peltolatuja ( n.5 km verkostoa)\, testata ystävien kanssa tandemhiihtoa ja vaikka osallistua kilpailuun! Lisäksi tarjolla mölkkypeli ja kanttiinista saatavilla tikkupullaa\, makkaraa\, mehua ja nuotiopannukahvia a 1 eur/kpl. Tervetuloa ulkoilemaan porukalla! Tilaisuus on järjestetty yhteistyössä Pyörnilän Martat ja Tuukkalan Tempaus.
URL:https://www.hirvensalmi.fi/tapahtuma/ulkoilutapatuma-ystavanpaivan-aattona/
LOCATION:Pehemäentie 165\, Tuukkala\, Pehemäentie 165\, Tuukkala\, Hirvensalmi\, 52610\, Suomi
ATTACH;FMTTYPE=image/jpeg:https://www.hirvensalmi.fi/wp-content/uploads/2022/02/1302_ulkoilutapahtuma.jpg
END:VEVENT
BEGIN:VEVENT
DTSTART;TZID=Europe/Helsinki:20220131T130000
DTEND;TZID=Europe/Helsinki:20220131T150000
DTSTAMP:20260421T174355
CREATED:20220103T060940Z
LAST-MODIFIED:20220103T060943Z
UID:22692-1643634000-1643641200@www.hirvensalmi.fi
SUMMARY:Tehdään yhdessä
DESCRIPTION:Kaikki tervetulleita Hirvensalmen käsityöyhdistyksen järjestämiin Tehdään yhdessä käsitöitä/askarteluja päiviin. Kokoonnumme käsityöpuoti Manuellin kudontapajaan\, Junnankuja 25 Hirvensalmi joka kuukauden viimeinen maanantai klo. 13
URL:https://www.hirvensalmi.fi/tapahtuma/tehdaan-yhdessa-20/
LOCATION:Junnankuja 25 Hirvensalmi
ORGANIZER;CN="Hirvensalmen k%C3%A4sity%C3%B6yhdistys ry":MAILTO:posti@puulanmanuelli.fi
END:VEVENT
BEGIN:VEVENT
DTSTART;TZID=Europe/Helsinki:20211230T130000
DTEND;TZID=Europe/Helsinki:20211230T150000
DTSTAMP:20260421T174355
CREATED:20220103T060603Z
LAST-MODIFIED:20220103T060603Z
UID:22708-1640869200-1640876400@www.hirvensalmi.fi
SUMMARY:Tehdään yhdessä
DESCRIPTION:Kaikki tervetulleita Hirvensalmen käsityöyhdistyksen järjestämille tehdään yhdessä käsitöitä /askarteluja päiviin. Kokoonnumme käsityöpuoti Manuellin kudontapajassa\, Junnankuja 25 Hirvensalmi joka kuukauden viimeinen maanantai klo 13
URL:https://www.hirvensalmi.fi/tapahtuma/tehdaan-yhdessa-12/
LOCATION:Junnankuja 25 Hirvensalmi
ORGANIZER;CN="Hirvensalmen k%C3%A4sity%C3%B6yhdistys ry":MAILTO:posti@puulanmanuelli.fi
END:VEVENT
BEGIN:VEVENT
DTSTART;TZID=Europe/Helsinki:20211218T120000
DTEND;TZID=Europe/Helsinki:20211218T170000
DTSTAMP:20260421T174355
CREATED:20211123T054638Z
LAST-MODIFIED:20211123T054638Z
UID:22486-1639828800-1639846800@www.hirvensalmi.fi
SUMMARY:Pyörnilän Marttojen Joulumyyjäiset
DESCRIPTION:Pyörnilän Martat järjestävät joulumyyjäiset la 18. joulukuuta Tuukkalan wanhalla koululla klo 12-15.\nMyynnissä monipuolisia joululahjoja\, arpajaiset ja Ruskakuoron joululauluja. \nRiisipuuro\, torttu ja glögi/kahvi yht. 5€ \nTervetuloa!
URL:https://www.hirvensalmi.fi/tapahtuma/pyornilan-marttojen-joulumyyjaiset/
LOCATION:Tuukkalan koulu\, Joutsantie 1212\, Tuukkala\, 52610\, Suomi
ATTACH;FMTTYPE=image/jpeg:https://www.hirvensalmi.fi/wp-content/uploads/2021/11/screenshot_20211122_131336.jpg
END:VEVENT
BEGIN:VEVENT
DTSTART;TZID=Europe/Helsinki:20211214T140000
DTEND;TZID=Europe/Helsinki:20211214T163000
DTSTAMP:20260421T174355
CREATED:20211209T052727Z
LAST-MODIFIED:20211209T052727Z
UID:22565-1639490400-1639499400@www.hirvensalmi.fi
SUMMARY:Kirkonkylän marttojen iltapäivä Mäntyharjulla
DESCRIPTION:Marttailtapäivä Liisa Puukon vieraana Mäntyharjulla ti 14.12.2021 klo 14:00 alkaen. Osoite Työväentie 35 A. Kokoontuminen kimppakyytejä varten kunnanviraston takapihalle klo 13:30. Ennakkoilmoittautuminen 10.12.21 mennessä Raija Tantulle puh. 050 380 7055 (tarjoilua varten).
URL:https://www.hirvensalmi.fi/tapahtuma/kirkonkylan-marttojen-iltapaiva-mantyharjulla/
LOCATION:Mäntyharju
END:VEVENT
END:VCALENDAR