BEGIN:VCALENDAR
VERSION:2.0
PRODID:-//Hirvensalmi - ECPv6.6.4.2//NONSGML v1.0//EN
CALSCALE:GREGORIAN
METHOD:PUBLISH
X-WR-CALNAME:Hirvensalmi
X-ORIGINAL-URL:https://www.hirvensalmi.fi
X-WR-CALDESC:Tapahtumat Hirvensalmi
REFRESH-INTERVAL;VALUE=DURATION:PT1H
X-Robots-Tag:noindex
X-PUBLISHED-TTL:PT1H
BEGIN:VTIMEZONE
TZID:Europe/Helsinki
BEGIN:DAYLIGHT
TZOFFSETFROM:+0200
TZOFFSETTO:+0300
TZNAME:EEST
DTSTART:20200329T010000
END:DAYLIGHT
BEGIN:STANDARD
TZOFFSETFROM:+0300
TZOFFSETTO:+0200
TZNAME:EET
DTSTART:20201025T010000
END:STANDARD
BEGIN:DAYLIGHT
TZOFFSETFROM:+0200
TZOFFSETTO:+0300
TZNAME:EEST
DTSTART:20210328T010000
END:DAYLIGHT
BEGIN:STANDARD
TZOFFSETFROM:+0300
TZOFFSETTO:+0200
TZNAME:EET
DTSTART:20211031T010000
END:STANDARD
END:VTIMEZONE
BEGIN:VEVENT
DTSTART;TZID=Europe/Helsinki:20210723T150000
DTEND;TZID=Europe/Helsinki:20210726T150000
DTSTAMP:20260421T211233
CREATED:20210215T064649Z
LAST-MODIFIED:20210215T064702Z
UID:21213-1627052400-1627311600@www.hirvensalmi.fi
SUMMARY:Verkkorannan jooga retriitti
DESCRIPTION:Retriitille otetaan jo ilmoittautumisia ja tiedusteluja.\nInfo@verkkoranta.fi\nTerhi.talvela@gmail.com
URL:https://www.hirvensalmi.fi/tapahtuma/verkkorannan-jooga-retriitti/
LOCATION:Verkkoranta\, Kalkkerovuorentie 141\, Hirvensalmi
END:VEVENT
BEGIN:VEVENT
DTSTART;TZID=Europe/Helsinki:20210717T190000
DTEND;TZID=Europe/Helsinki:20210717T230000
DTSTAMP:20260421T211233
CREATED:20210708T081234Z
LAST-MODIFIED:20210708T081234Z
UID:21975-1626548400-1626562800@www.hirvensalmi.fi
SUMMARY:Iltamat koko perheelle
DESCRIPTION:Iltamat koko perheelle\, tapahtuma kestää 17.7 klo19.00-23.00.\nTansimusiikista huolehtii “LOISTO DUO”\nKilpailuja \,arpajaiset\, pingo ja tilaisuuteen on vapaa pääsy\,ei pääsymaksua.
URL:https://www.hirvensalmi.fi/tapahtuma/iltamat-koko-perheelle/
LOCATION:Sillanposki Karhupaviljongi\, Väisälänsaarentie 912\, Hirvansalmi\, 52550
ORGANIZER;CN="V%C3%A4is%C3%A4l%C3%A4n Kyl%C3%A4yhdistys ry":MAILTO:jouko.turunen@ssvpk.net
END:VEVENT
BEGIN:VEVENT
DTSTART;TZID=Europe/Helsinki:20210707T110000
DTEND;TZID=Europe/Helsinki:20210707T110000
DTSTAMP:20260421T211233
CREATED:20201106T152317Z
LAST-MODIFIED:20201106T152317Z
UID:20842-1625655600-1625655600@www.hirvensalmi.fi
SUMMARY:Luontokirkko Sampan mäellä.
DESCRIPTION:Luontokirkko Sampan mäellä Sampantie 136 52510 Hietanen. Seurakunnan kanssa yhteistyöllä. Ruokailumahdollisuus 10 euroa annos sis. ruoka ja kahvit.
URL:https://www.hirvensalmi.fi/tapahtuma/luontokirkko-sampan-maella/
LOCATION:Sampan vintti\, Sampantie 136\, Hietanen\, 52510
ORGANIZER;CN="Lahnaniemen urheilu-ja kyl%C3%A4seura Niver%C3%A4 Ry.":MAILTO:lahnaniemenkylatoimikunta@gmail.com
END:VEVENT
BEGIN:VEVENT
DTSTART;TZID=Europe/Helsinki:20210704T120000
DTEND;TZID=Europe/Helsinki:20210704T140000
DTSTAMP:20260421T211233
CREATED:20210222T070327Z
LAST-MODIFIED:20210222T070330Z
UID:21266-1625400000-1625407200@www.hirvensalmi.fi
SUMMARY:Käsityönäyttely ja pelättien äänestys
DESCRIPTION:Hirvensalmen käsityöyhdistyksen käsityönäyttely ja pelättien äänestys käsityöpuoti/kudontapaja Manuellissa. Su 4.7. klo. 12-14. Näyttely jatkuu heinäkuun ajan.
URL:https://www.hirvensalmi.fi/tapahtuma/kasityonayttely-ja-pelattien-aanestys-3/
LOCATION:Junnankuja 25 Hirvensalmi
ORGANIZER;CN="Hirvensalmen k%C3%A4sity%C3%B6yhdistys ry":MAILTO:posti@puulanmanuelli.fi
END:VEVENT
BEGIN:VEVENT
DTSTART;TZID=Europe/Helsinki:20210703T100000
DTEND;TZID=Europe/Helsinki:20210703T140000
DTSTAMP:20260421T211233
CREATED:20210222T070312Z
LAST-MODIFIED:20210303T101553Z
UID:21265-1625306400-1625320800@www.hirvensalmi.fi
SUMMARY:Käsityönäyttely ja pelättien äänestys
DESCRIPTION:Hirvensalmen käsityöyhdistyksen käsityönäyttely ja pelättien äänestys pe 2.7. klo. 10-17\, la 3.7. klo. 10-14. Näyttely jatkuu heinäkuun ajan.
URL:https://www.hirvensalmi.fi/tapahtuma/kasityonayttely-ja-pelattien-aanestys-2/
LOCATION:Junnankuja 25 Hirvensalmi
ORGANIZER;CN="Hirvensalmen k%C3%A4sity%C3%B6yhdistys ry":MAILTO:posti@puulanmanuelli.fi
END:VEVENT
BEGIN:VEVENT
DTSTART;TZID=Europe/Helsinki:20210702T100000
DTEND;TZID=Europe/Helsinki:20210702T170000
DTSTAMP:20260421T211233
CREATED:20210222T070255Z
LAST-MODIFIED:20210222T070259Z
UID:21264-1625220000-1625245200@www.hirvensalmi.fi
SUMMARY:Käsityönäyttely ja pelättien äänestys
DESCRIPTION:Hirvensalmen käsityöyhdistyksen käsityönäyttely käsityöpuoti/kudontapaja Manuellissa\, Junnankuja 25 Hirvensalmi. Näyttely ja pelättien äänestys pe 2.7. klo. 10 -17 la 3.7. klo. 10-14 ja su 4.7. klo. 12-14. Näyttely jatkuu heinäkuun ajan.
URL:https://www.hirvensalmi.fi/tapahtuma/kasityonayttely-ja-pelattien-aanestys/
LOCATION:Junnankuja 25 Hirvensalmi
ORGANIZER;CN="Hirvensalmen k%C3%A4sity%C3%B6yhdistys ry":MAILTO:posti@puulanmanuelli.fi
END:VEVENT
BEGIN:VEVENT
DTSTART;VALUE=DATE:20210702
DTEND;VALUE=DATE:20210803
DTSTAMP:20260421T211233
CREATED:20210702T103038Z
LAST-MODIFIED:20210702T103038Z
UID:21964-1625194800-1627873199@www.hirvensalmi.fi
SUMMARY:Lepola museo
DESCRIPTION:LEPOLA MUSEO\nJoutsantie 1729\, 52550 Hirvensalmi\navoinna 30.6.-1.8. ke – su klo 12 – 16\, ma-ti suljettu\nLepola esittelee valtiomies Ahti Karjalaisen lapsuudenkotia ja Kuitulan kylän elämää menneinä vuosikymmeninä. Tila on entisöity 1950-lukulaiseen asuunsa.\nVanhemmalle polvelle nostalgisia elämyksiä ja nuoremmalle uusia kokemuksia.\nVapaa pääsy!\nTervetuloa!
URL:https://www.hirvensalmi.fi/tapahtuma/lepola-museo/
LOCATION:Lepola\, Joutsantie\, 52610
END:VEVENT
BEGIN:VEVENT
DTSTART;TZID=Europe/Helsinki:20210701T100000
DTEND;TZID=Europe/Helsinki:20210801T150000
DTSTAMP:20260421T211233
CREATED:20210319T130121Z
LAST-MODIFIED:20210322T055508Z
UID:21472-1625133600-1627830000@www.hirvensalmi.fi
SUMMARY:Valokuvanäyttely Elämää eläimen kanssa
DESCRIPTION:Valokuvanäyttely Elämää eläimen kanssa Tuukkalan kesäpuodilla 1.7.-1.8.2021. Kesäpuodin aukioloaikana. Näyttelyyn tutustujat voivat äänestää parhaan kuvan. Kolme eniten ääniä saanutta kuvaa palkitaan.\nLisätietoja tuukkalankesapuoti@outlook.com.
URL:https://www.hirvensalmi.fi/tapahtuma/valokuvanayttely-elamaa-elaimen-kanssa/
LOCATION:Tuukkalan koulu\, Joutsantie 1212\, Tuukkala\, 52610\, Suomi
END:VEVENT
BEGIN:VEVENT
DTSTART;TZID=Europe/Helsinki:20210629T100000
DTEND;TZID=Europe/Helsinki:20210629T160000
DTSTAMP:20260421T211233
CREATED:20210222T070201Z
LAST-MODIFIED:20210222T070205Z
UID:21263-1624960800-1624982400@www.hirvensalmi.fi
SUMMARY:Ilmoittautuminen variksenpelätti kisaan
DESCRIPTION:Kaikki tervetulleita Hirvensalmen käsityöyhdistyksen järjestämään perinteiseen leikkimieliseen variksenpelätti kisaan. Ilmottaudu mukaan viimeistään 29.6.2021 mennessä !
URL:https://www.hirvensalmi.fi/tapahtuma/ilmoittautuminen-variksenpelatti-kisaan/
LOCATION:Junnankuja 25 Hirvensalmi
ORGANIZER;CN="Hirvensalmen k%C3%A4sity%C3%B6yhdistys ry":MAILTO:posti@puulanmanuelli.fi
END:VEVENT
BEGIN:VEVENT
DTSTART;TZID=Europe/Helsinki:20210628T130000
DTEND;TZID=Europe/Helsinki:20210628T150000
DTSTAMP:20260421T211233
CREATED:20210222T070133Z
LAST-MODIFIED:20210222T070152Z
UID:21262-1624885200-1624892400@www.hirvensalmi.fi
SUMMARY:Tehdään yhdessä
DESCRIPTION:Kaikki tervetulleita Tehdään yhdessä-päivään. Vuoden 2021 käsityöteemana parsiminen ja paikkaus. Koronatilanne huomioon ottaen.
URL:https://www.hirvensalmi.fi/tapahtuma/tehdaan-yhdessa-4/
LOCATION:Junnankuja 25 Hirvensalmi
ORGANIZER;CN="Hirvensalmen k%C3%A4sity%C3%B6yhdistys ry":MAILTO:posti@puulanmanuelli.fi
END:VEVENT
BEGIN:VEVENT
DTSTART;TZID=Europe/Helsinki:20210609T120000
DTEND;TZID=Europe/Helsinki:20210609T140000
DTSTAMP:20260421T211233
CREATED:20210222T065539Z
LAST-MODIFIED:20210222T070111Z
UID:21261-1623240000-1623247200@www.hirvensalmi.fi
SUMMARY:Koristellaan kiviä-kurssi
DESCRIPTION:Koristellaan kiviä mosaiikein ja maalein. Säävaraus ja koronatilanne huomioon ottaen.
URL:https://www.hirvensalmi.fi/tapahtuma/koristellaan-kivia-kurssi/
LOCATION:Junnankuja 25 Hirvensalmi
ORGANIZER;CN="Hirvensalmen k%C3%A4sity%C3%B6yhdistys ry":MAILTO:posti@puulanmanuelli.fi
END:VEVENT
BEGIN:VEVENT
DTSTART;TZID=Europe/Helsinki:20210531T080000
DTEND;TZID=Europe/Helsinki:20210531T170000
DTSTAMP:20260421T211233
CREATED:20210222T065320Z
LAST-MODIFIED:20210222T065521Z
UID:21260-1622448000-1622480400@www.hirvensalmi.fi
SUMMARY:Tehdään yhdessä
DESCRIPTION:Kaikki tervetulleita Tehdään yhdessä-päivään !
URL:https://www.hirvensalmi.fi/tapahtuma/tehdaan-yhdessa-3/
LOCATION:Junnankuja 25 Hirvensalmi
ORGANIZER;CN="Hirvensalmen k%C3%A4sity%C3%B6yhdistys ry":MAILTO:posti@puulanmanuelli.fi
END:VEVENT
BEGIN:VEVENT
DTSTART;TZID=Europe/Helsinki:20210529T110000
DTEND;TZID=Europe/Helsinki:20210529T140000
DTSTAMP:20260421T211233
CREATED:20210222T065117Z
LAST-MODIFIED:20210303T102003Z
UID:21259-1622286000-1622296800@www.hirvensalmi.fi
SUMMARY:Yhteiset syntymäpäivät !
DESCRIPTION:Kaikki tervetulleita Hirvensalmen Kirkonkylän Marttojen 60 v. ja Hirvensalmen Käsityöyhdistyksen 20 v. yhteisille syntymäpäiville Käsityöpuoti/kudontapaja Manuellin pihapiiriin. Tapahtuma järjestetään koronatilanne huomioon ottaen !
URL:https://www.hirvensalmi.fi/tapahtuma/yhteiset-syntymapaivat/
LOCATION:Junnankuja 25 Hirvensalmi
ORGANIZER;CN="Hirvensalmen k%C3%A4sity%C3%B6yhdistys ry":MAILTO:posti@puulanmanuelli.fi
END:VEVENT
BEGIN:VEVENT
DTSTART;TZID=Europe/Helsinki:20210519T120000
DTEND;TZID=Europe/Helsinki:20210519T140000
DTSTAMP:20260421T211233
CREATED:20210222T065249Z
LAST-MODIFIED:20210222T065255Z
UID:21258-1621425600-1621432800@www.hirvensalmi.fi
SUMMARY:Betonikukkaruukkukurssi
DESCRIPTION:Kurssilla teemme kukkaruukkuja betonista ja pyyhkeistä. Sää-ja korona-varaus !
URL:https://www.hirvensalmi.fi/tapahtuma/betonikukkaruukkukurssi/
LOCATION:Junnankuja 25 Hirvensalmi
ORGANIZER;CN="Hirvensalmen k%C3%A4sity%C3%B6yhdistys ry":MAILTO:posti@puulanmanuelli.fi
END:VEVENT
BEGIN:VEVENT
DTSTART;TZID=Europe/Helsinki:20210506T100500
DTEND;TZID=Europe/Helsinki:20210506T105000
DTSTAMP:20260421T211233
CREATED:20210308T065411Z
LAST-MODIFIED:20210308T065411Z
UID:21371-1620295500-1620298200@www.hirvensalmi.fi
SUMMARY:Satutuokio
DESCRIPTION:Kaikille avoimet satutuokiot on suunnattu n. 3-8-vuotiaille ja heidän aikuisseuralaisilleen.\nSatujen lomassa\, tarinoidaan\, taiteillaan ja touhutaan yhdessä! \nSatutuokiot Hirvensalmen kirjastossa torstaina:\n8.4. klo 9.10-9.55 ja 10.05-10.50\n6.5. klo 9.10-9.55 ja 10.05-10.50\nSaman päivän peräkkäiset tuokiot ovat samansisältöisiä. \nPidätämme oikeudet muutoksiin. Koronatilanteesta riippuen tuokiot voidaan esim. siirtää ulkotiloihin tai perua.
URL:https://www.hirvensalmi.fi/tapahtuma/satutuokio-3/
LOCATION:Hirvensalmen kirjasto\, Koulutie 7\, Hirvensalmi\, Etelä-Savo\, 52550\, Suomi
ATTACH;FMTTYPE=image/jpeg:https://www.hirvensalmi.fi/wp-content/uploads/2021/03/banneri-satutuokiot-2021-kevät1-3.jpg
ORGANIZER;CN="Lastenkulttuurikeskus Verso":MAILTO:julia.vatanen@soisalo-opisto.fi
END:VEVENT
BEGIN:VEVENT
DTSTART;TZID=Europe/Helsinki:20210504T180000
DTEND;TZID=Europe/Helsinki:20210504T200000
DTSTAMP:20260421T211233
CREATED:20210426T064125Z
LAST-MODIFIED:20210426T064129Z
UID:21626-1620151200-1620158400@www.hirvensalmi.fi
SUMMARY:RUUSUKÄVELY tiistaina 4.5.2021
DESCRIPTION:Ruusukävely tiistaina 4.5.2021 klo 18.00 kirkonkylän seurantalon pihalta. Alussa verryttely. Kävelyn päätteeksi mehut ja ruusu. Tervetuloa!
URL:https://www.hirvensalmi.fi/tapahtuma/ruusukavely-tiistaina-4-5-2021/
LOCATION:Seurantalo\, kirkonkylä\, Kirkonkylä\, Hirvensalmi
END:VEVENT
BEGIN:VEVENT
DTSTART;TZID=Europe/Helsinki:20210426T130000
DTEND;TZID=Europe/Helsinki:20210426T150000
DTSTAMP:20260421T211233
CREATED:20210222T065231Z
LAST-MODIFIED:20210222T065236Z
UID:21257-1619442000-1619449200@www.hirvensalmi.fi
SUMMARY:Tehdään yhdessä
DESCRIPTION:Kaikki tervetulleita Tehdään yhdessä-päivään joka kuukauden viimeinen maanantai. Vuoden 2021 teemana parsiminen ja paikkaus. Kokoontuminen koronatilanne huomioon ottaen !
URL:https://www.hirvensalmi.fi/tapahtuma/tehdaan-yhdessa-2/
LOCATION:Junnankuja 25 Hirvensalmi
ORGANIZER;CN="Hirvensalmen k%C3%A4sity%C3%B6yhdistys ry":MAILTO:posti@puulanmanuelli.fi
END:VEVENT
BEGIN:VEVENT
DTSTART;TZID=Europe/Helsinki:20210414T130000
DTEND;TZID=Europe/Helsinki:20210414T150000
DTSTAMP:20260421T211233
CREATED:20210222T065135Z
LAST-MODIFIED:20210222T065139Z
UID:21256-1618405200-1618412400@www.hirvensalmi.fi
SUMMARY:Trikookukkakurssi
DESCRIPTION:Kurssilla teemme trikookuteesta kukkasen. Kurssi sopii kaikenikäisille. Kurssi järjestetään koronatilanne huomioon ottaen !
URL:https://www.hirvensalmi.fi/tapahtuma/trikookukkakurssi/
LOCATION:Junnankuja 25 Hirvensalmi
ORGANIZER;CN="Hirvensalmen k%C3%A4sity%C3%B6yhdistys ry":MAILTO:posti@puulanmanuelli.fi
END:VEVENT
BEGIN:VEVENT
DTSTART;TZID=Europe/Helsinki:20210408T100500
DTEND;TZID=Europe/Helsinki:20210408T105000
DTSTAMP:20260421T211233
CREATED:20210308T065356Z
LAST-MODIFIED:20210308T065356Z
UID:21367-1617876300-1617879000@www.hirvensalmi.fi
SUMMARY:Satutuokio
DESCRIPTION:Kaikille avoimet satutuokiot on suunnattu n. 3-8-vuotiaille ja heidän aikuisseuralaisilleen.\nSatujen lomassa\, tarinoidaan\, taiteillaan ja touhutaan yhdessä! \nSatutuokiot Hirvensalmen kirjastossa torstaina:\n8.4. klo 9.10-9.55 ja 10.05-10.50\n6.5. klo 9.10-9.55 ja 10.05-10.50\nSaman päivän peräkkäiset tuokiot ovat samansisältöisiä. \nPidätämme oikeudet muutoksiin. Koronatilanteesta riippuen tuokiot voidaan esim. siirtää ulkotiloihin tai perua.
URL:https://www.hirvensalmi.fi/tapahtuma/satutuokio-2/
LOCATION:Hirvensalmen kirjasto\, Koulutie 7\, Hirvensalmi\, Etelä-Savo\, 52550\, Suomi
ATTACH;FMTTYPE=image/jpeg:https://www.hirvensalmi.fi/wp-content/uploads/2021/03/banneri-satutuokiot-2021-kevät1-1.jpg
ORGANIZER;CN="Lastenkulttuurikeskus Verso":MAILTO:julia.vatanen@soisalo-opisto.fi
END:VEVENT
BEGIN:VEVENT
DTSTART;TZID=Europe/Helsinki:20210329T130000
DTEND;TZID=Europe/Helsinki:20210329T150000
DTSTAMP:20260421T211233
CREATED:20210222T065208Z
LAST-MODIFIED:20210222T065212Z
UID:21255-1617022800-1617030000@www.hirvensalmi.fi
SUMMARY:Tehdään yhdessä !
DESCRIPTION:Joka kuukauden viimeisenä maanantaina Tehdään yhdessä-päivä. Vuoden 2021 käsityöteemana parsiminen ja paikkaus. 29.3 ihastellaan yhdessä parsintatteja\, voit tuoda myös omasi\, pidämme kevään aikana pienen parsintattinäyttelyn. Kaikki tervetulleita ! Tehdään yhdessä-päiviin voi tulla muutoksia/peruuntumisia koronatilanne huomioon ottaen.
URL:https://www.hirvensalmi.fi/tapahtuma/tehdaan-yhdessa/
LOCATION:Junnankuja 25 Hirvensalmi
ORGANIZER;CN="Hirvensalmen k%C3%A4sity%C3%B6yhdistys ry":MAILTO:posti@puulanmanuelli.fi
END:VEVENT
BEGIN:VEVENT
DTSTART;TZID=Europe/Helsinki:20210324T170000
DTEND;TZID=Europe/Helsinki:20210324T190000
DTSTAMP:20260421T211233
CREATED:20210317T065756Z
LAST-MODIFIED:20210317T065859Z
UID:21451-1616605200-1616612400@www.hirvensalmi.fi
SUMMARY:Kirkonkylän Marttojen kevätkokous
DESCRIPTION:Kirkonkylän Martat ry:n kevätkokous keskiviikkona 24.3.2021 klo 17:00 Puulan Manuellissa.\nKoronarajoitukset huomioidaan.\nMaskin käyttö.\nEi tarjoilua.
URL:https://www.hirvensalmi.fi/tapahtuma/kirkonkylan-marttojen-kevatkokous-2/
LOCATION:Puulan Manuelli
END:VEVENT
BEGIN:VEVENT
DTSTART;TZID=Europe/Helsinki:20210319T080000
DTEND;TZID=Europe/Helsinki:20210319T170000
DTSTAMP:20260421T211233
CREATED:20210319T130039Z
LAST-MODIFIED:20210319T130039Z
UID:21471-1616140800-1616173200@www.hirvensalmi.fi
SUMMARY:Osallistu valokuvanäyttelyyn Elämää eläimen kanssa
DESCRIPTION:Osallistu valokuvanäyttelyymme ja -kisaan Elämää eläimen kanssa!\nEläimet voivat olla tärkeitä elämän sisällön tuojia elämäämme. Ne voivat olla lemmikkejä\, työkavereita\, tuotantoeläimiä\, lohduttajia\, liikuttajia ym. Kuvalla voi tuoda esille eläimen roolista elämään joko nykypäivänä tai vuosien takaa. Kuvan koko tulee olla 20*30 cm. Kuvat tulee esille Tuukkalan kesäpuodin valokuvanäyttelyyn 1.7.-1.8.2021. Näyttelyyn tutustujat voivat äänestää parhaan kuvan. Kolme eniten ääniä saanutta kuvaa palkitaan sekä arvotaan kaikkien osallistuneiden kesken Kesäpuodin tuotepalkinnot (arvo 50-20 euroa).\nKisaan osallistujalla tulee olla tekijän oikeudet kuvan esille laittamiseen (kuvan henkilöt). Näyttelyyn ja kisaan osallistumalla sallit näyttelyn järjestäjälle täydet oikeudet kuvan käyttämiseen. Liitä kuvalle nimi ja mahdollinen lyhyt tarina. Kilpailuun voi osallistua useammalla kuin yhdellä kuvalla. Toimita kuvasi 20.6. mennessä Tuukkalan kesäpuoti\, Joutsantie 1212\, Tuukkala. Lisätietoja tuukkalankesapuoti (Korvaa miuku-merkillä) outlook (Korvaa pisteellä) com tai puh. 0442034062/ Outi.
URL:https://www.hirvensalmi.fi/tapahtuma/osallistu-valokuvanayttelyyn-elamaa-elaimen-kanssa/
LOCATION:Tuukkalan koulu\, Joutsantie 1212\, Tuukkala\, 52610\, Suomi
END:VEVENT
BEGIN:VEVENT
DTSTART;TZID=Europe/Helsinki:20210305T080000
DTEND;TZID=Europe/Helsinki:20210305T170000
DTSTAMP:20260421T211233
CREATED:20210308T065331Z
LAST-MODIFIED:20210308T065331Z
UID:21365-1614931200-1614963600@www.hirvensalmi.fi
SUMMARY:Satutuokio
DESCRIPTION:Kaikille avoimet satutuokiot on suunnattu n. 3-8-vuotiaille ja heidän aikuisseuralaisilleen.\nSatujen lomassa\, tarinoidaan\, taiteillaan ja touhutaan yhdessä! \nSatutuokiot Hirvensalmen kirjastossa torstaina:\n8.4. klo 9.10-9.55 ja 10.05-10.50\n6.5. klo 9.10-9.55 ja 10.05-10.50\nSaman päivän peräkkäiset tuokiot ovat samansisältöisiä. \nPidätämme oikeudet muutoksiin. Koronatilanteesta riippuen tuokiot voidaan esim. siirtää ulkotiloihin tai perua.
URL:https://www.hirvensalmi.fi/tapahtuma/satutuokio/
LOCATION:Hirvensalmen kirjasto\, Koulutie 7
ATTACH;FMTTYPE=image/jpeg:https://www.hirvensalmi.fi/wp-content/uploads/2021/03/banneri-satutuokiot-2021-kevät1.jpg
ORGANIZER;CN="Lastenkulttuurikeskus Verso":MAILTO:julia.vatanen@soisalo-opisto.fi
END:VEVENT
BEGIN:VEVENT
DTSTART;VALUE=DATE:20210214
DTEND;VALUE=DATE:20210217
DTSTAMP:20260421T211233
CREATED:20210208T103526Z
LAST-MODIFIED:20210208T103526Z
UID:21190-1613271600-1613444399@www.hirvensalmi.fi
SUMMARY:Ystävänpäivä ulkoilun merkeissä 14.-15.2.21
DESCRIPTION:Ystävänpäivä ulkoilun merkeissä sunnuntaina ja maanantaina 14.-15.2.2021 \nKutsu ystäväsi lenkille\, hiihtämään tai muuten vain ulkoilemaan. Valitse aika\, paikka ja kesto haluamallasi tavalla. Ilmoita suoritus sihteerille\npuh. 050 380 7055 ulkoilijoiden kesken arvottavaa palkintoa varten.\nMuistakaa ulkona koronaohjeet – turvaväli!\nHyvää ystävänpäivää :)
URL:https://www.hirvensalmi.fi/tapahtuma/ystavanpaiva-ulkoilun-merkeissa-14-15-2-21/
LOCATION:Oma valinta
END:VEVENT
BEGIN:VEVENT
DTSTART;TZID=Europe/Helsinki:20201206T130000
DTEND;TZID=Europe/Helsinki:20201206T153000
DTSTAMP:20260421T211233
CREATED:20201123T071457Z
LAST-MODIFIED:20201123T071457Z
UID:20897-1607259600-1607268600@www.hirvensalmi.fi
SUMMARY:Kinkkubingo
DESCRIPTION:Vietetään itsenäisyyspäivä pelaten bingoa muutama kierros. Monenlaisia palkintoja ja lopuksi kisataan kinkusta. Kahvitarjoilu. Tervetuloa!
URL:https://www.hirvensalmi.fi/tapahtuma/kinkkubingo/
LOCATION:Tuukkalan koulu\, Joutsantie 1212\, Tuukkala\, 52610\, Suomi
ATTACH;FMTTYPE=image/png:https://www.hirvensalmi.fi/wp-content/uploads/2020/11/bingolappu.png
END:VEVENT
BEGIN:VEVENT
DTSTART;TZID=Europe/Helsinki:20201206T110000
DTEND;TZID=Europe/Helsinki:20201206T113000
DTSTAMP:20260421T211233
CREATED:20201103T100828Z
LAST-MODIFIED:20201103T101633Z
UID:20795-1607252400-1607254200@www.hirvensalmi.fi
SUMMARY:Seppeleen lasku
DESCRIPTION:Leijonat laskevat seppeleen Vapaussoturien muistomerkille muun seppeleen laskun yhteydessä kirkonmenojen jälkeen.
URL:https://www.hirvensalmi.fi/tapahtuma/seppeleen-lasku/
LOCATION:Sankarihautausmaa\, Hirvensalmi
END:VEVENT
BEGIN:VEVENT
DTSTART;TZID=Europe/Helsinki:20201206T090000
DTEND;TZID=Europe/Helsinki:20201206T093000
DTSTAMP:20260421T211233
CREATED:20201103T100758Z
LAST-MODIFIED:20201103T100807Z
UID:20793-1607245200-1607247000@www.hirvensalmi.fi
SUMMARY:Kynttilöiden sytytys
DESCRIPTION:Muistokynttilöiden sytytys sankarivainajien ja edesmenneiden leijonien haudoille sekä muistomerkeille ja Mannerheim-ristin ritari Pauli Tantun haudalle.
URL:https://www.hirvensalmi.fi/tapahtuma/kynttiloiden-sytytys/
LOCATION:Sankarihautausmaa\, Kirkkotie\, Hirvensalmi\, Suomi
END:VEVENT
BEGIN:VEVENT
DTSTART;TZID=Europe/Helsinki:20201202T160000
DTEND;TZID=Europe/Helsinki:20201202T180000
DTSTAMP:20260421T211233
CREATED:20201124T111657Z
LAST-MODIFIED:20201124T111657Z
UID:20906-1606924800-1606932000@www.hirvensalmi.fi
SUMMARY:Kranssi-kurssi
DESCRIPTION:Tervetuloa kranssi-kurssille. Ilmoitathan ennakkoon osallistumisestasi.
URL:https://www.hirvensalmi.fi/tapahtuma/kranssi-kurssi/
LOCATION:Junnankuja 25 Hirvensalmi
ATTACH;FMTTYPE=image/jpeg:https://www.hirvensalmi.fi/wp-content/uploads/2020/11/2020-11-23-22.59.00-1.jpg
ORGANIZER;CN="Hirvensalmen k%C3%A4sity%C3%B6yhdistys ry":MAILTO:posti@puulanmanuelli.fi
END:VEVENT
BEGIN:VEVENT
DTSTART;TZID=Europe/Helsinki:20201201T180000
DTEND;TZID=Europe/Helsinki:20201201T193000
DTSTAMP:20260421T211233
CREATED:20201104T101807Z
LAST-MODIFIED:20201104T101810Z
UID:20816-1606845600-1606851000@www.hirvensalmi.fi
SUMMARY:Hallaamaan jalanjäljillä Mikkelissä ja muuallakin\, radiotiedustelua.
DESCRIPTION:Hallamaan jalanjäljillä Mikkelissä ja muuallakin\, ltn Tauno Kylmänojan kuvitettu sotilasmuistio Päämajan radiopataljoonan radiotiedustelusta.
URL:https://www.hirvensalmi.fi/tapahtuma/hallaamaan-jalanjaljilla-mikkelissa-ja-muuallakin-radiotiedustelua/
LOCATION:Seurakuntakoti\, Kirkkotie
ATTACH;FMTTYPE=image/jpeg:https://www.hirvensalmi.fi/wp-content/uploads/2020/11/esitelmä-radiokuuntelu.jpg
END:VEVENT
BEGIN:VEVENT
DTSTART;TZID=Europe/Helsinki:20201130T160000
DTEND;TZID=Europe/Helsinki:20201130T180000
DTSTAMP:20260421T211233
CREATED:20201124T111714Z
LAST-MODIFIED:20201124T111714Z
UID:20904-1606752000-1606759200@www.hirvensalmi.fi
SUMMARY:Hiiri-kurssi
DESCRIPTION:Tervetuloa hiiri-kurssille. Ilmoitathan ennakkoon osallistumisestasi.
URL:https://www.hirvensalmi.fi/tapahtuma/hiiri-kurssi/
LOCATION:Junnankuja 25 Hirvensalmi
ATTACH;FMTTYPE=image/jpeg:https://www.hirvensalmi.fi/wp-content/uploads/2020/11/2020-11-23-22.59.00.jpg
ORGANIZER;CN="Hirvensalmen k%C3%A4sity%C3%B6yhdistys ry":MAILTO:posti@puulanmanuelli.fi
END:VEVENT
END:VCALENDAR