BEGIN:VCALENDAR
VERSION:2.0
PRODID:-//Hirvensalmi - ECPv6.6.4.2//NONSGML v1.0//EN
CALSCALE:GREGORIAN
METHOD:PUBLISH
X-ORIGINAL-URL:https://www.hirvensalmi.fi
X-WR-CALDESC:Tapahtumat Hirvensalmi
REFRESH-INTERVAL;VALUE=DURATION:PT1H
X-Robots-Tag:noindex
X-PUBLISHED-TTL:PT1H
BEGIN:VTIMEZONE
TZID:Europe/Helsinki
BEGIN:DAYLIGHT
TZOFFSETFROM:+0200
TZOFFSETTO:+0300
TZNAME:EEST
DTSTART:20190331T010000
END:DAYLIGHT
BEGIN:STANDARD
TZOFFSETFROM:+0300
TZOFFSETTO:+0200
TZNAME:EET
DTSTART:20191027T010000
END:STANDARD
BEGIN:DAYLIGHT
TZOFFSETFROM:+0200
TZOFFSETTO:+0300
TZNAME:EEST
DTSTART:20200329T010000
END:DAYLIGHT
BEGIN:STANDARD
TZOFFSETFROM:+0300
TZOFFSETTO:+0200
TZNAME:EET
DTSTART:20201025T010000
END:STANDARD
END:VTIMEZONE
BEGIN:VEVENT
DTSTART;TZID=Europe/Helsinki:20200620T210000
DTEND;TZID=Europe/Helsinki:20200620T210000
DTSTAMP:20260422T010328
CREATED:20200217T060746Z
LAST-MODIFIED:20200217T063209Z
UID:19686-1592686800-1592686800@www.hirvensalmi.fi
SUMMARY:Sataman herkussa lauantaina 20.6. juhannustanssit  orkesteri rallabé
DESCRIPTION:Perinteiset Juhannustanssit.
URL:https://www.hirvensalmi.fi/tapahtuma/sataman-herkussa-lauantaina-20-6-juhannustanssit-orkesteri-rallabe/
LOCATION:Ravintola Sataman Herkku\, Hirvensalmentie 22 \, Hirvensalmi\, Finland\, 52550\, Suomi
ORGANIZER;CN="Ravintola Sataman Herkku":MAILTO:marianne@satamanherkku.fi
END:VEVENT
BEGIN:VEVENT
DTSTART;TZID=Europe/Helsinki:20200616T120000
DTEND;TZID=Europe/Helsinki:20200616T170000
DTSTAMP:20260422T010328
CREATED:20200609T120744Z
LAST-MODIFIED:20200609T120744Z
UID:20280-1592308800-1592326800@www.hirvensalmi.fi
SUMMARY:Kaikille avointa toimintaa
DESCRIPTION:Kaikille avointa toimintaa Hirvensalmella
URL:https://www.hirvensalmi.fi/tapahtuma/kaikille-avointa-toimintaa-2/
LOCATION:Heikinniemen Muistola\, Heikinniementie \, Hirvensalmi\, 52550\, Suomi
END:VEVENT
BEGIN:VEVENT
DTSTART;TZID=Europe/Helsinki:20200616T100000
DTEND;TZID=Europe/Helsinki:20200801T160000
DTSTAMP:20260422T010328
CREATED:20200616T062640Z
LAST-MODIFIED:20200616T062959Z
UID:20306-1592301600-1596297600@www.hirvensalmi.fi
SUMMARY:Kissakosken sähkönäyttely avoinna pe-la 26.6. – 1.8.2020
DESCRIPTION:Lumme Energia tarjoaa tänäkin kesänä mahdollisuuden tutustua historialliseen tehdasmiljööseen luonnonkauniin Puulaveden rannalla Hirvensalmella. Kissakosken sähkönäyttely avautuu perjantaina 26.6.2020 ja on auki perjantaisin ja lauantaisin 1.8. asti. Perjantaisin museo on avoinna klo 10 – 16 ja lauantaisin klo 12 – 16. \nKissakosken voimalaitoksen sähkömuseo kertoo\, kuinka sähkö aikoinaan saapui maaseudulle. Museon pihalla on nähtävissä vuonna 1948 rakennettu ja vuoteen 1990 asti toiminut puukoppimuuntamo Ristiinan Pökkäästä. Paikalla ovat aurinkosähkön ja sähkönmyynnin kesätyöntekijämme. Voit siis halutessasi keskustella kanssamme aurinkosähköjärjestelmistä sekä sähkösopimuksista. \nTapahtumapaikka: Kissakosken tehdas\, Vahvamäentie 42\, Hirvensalmi
URL:https://www.hirvensalmi.fi/tapahtuma/kissakosken-sahkonayttely-avoinna-pe-la-26-6-1-8-2020/
LOCATION:Kissakosken tehdas\, Vahvamäentie 42
ATTACH;FMTTYPE=image/jpeg:https://www.hirvensalmi.fi/wp-content/uploads/2020/06/kissakoski-kesalla-1140.jpg
ORGANIZER;CN="Lumme Energia Oy":MAILTO:viestinta@lumme-energia.fi
END:VEVENT
BEGIN:VEVENT
DTSTART;TZID=Europe/Helsinki:20200613T210000
DTEND;TZID=Europe/Helsinki:20200613T230000
DTSTAMP:20260422T010328
CREATED:20200217T060728Z
LAST-MODIFIED:20200217T063057Z
UID:19685-1592082000-1592089200@www.hirvensalmi.fi
SUMMARY:Kake Randelin SATAMAN HERKUSSA LAUANTAINA 13.6.2020 KLO 21:00
DESCRIPTION:Kake aloittaa herkun keikkakesän rautaisella otteella.
URL:https://www.hirvensalmi.fi/tapahtuma/kake-randelin-sataman-herkussa-lauantaina-13-6-2020-klo-2100/
LOCATION:Ravintola Sataman Herkku\, Hirvensalmentie 22 \, Hirvensalmi\, Finland\, 52550\, Suomi
ORGANIZER;CN="Ravintola Sataman Herkku":MAILTO:marianne@satamanherkku.fi
END:VEVENT
BEGIN:VEVENT
DTSTART;VALUE=DATE:20200613
DTEND;VALUE=DATE:20200616
DTSTAMP:20260422T010328
CREATED:20200106T193105Z
LAST-MODIFIED:20200106T193105Z
UID:19379-1592017200-1592189999@www.hirvensalmi.fi
SUMMARY:Hevoshenkinen Hyvinvointiviikonloppu Tuukkalassa
DESCRIPTION:Hevoshenkinen Hyvinvointiviikonloppu Tuukkalassa \nMiltä tuntuisi liikkua niin\, että mieli ja liike ovat yhtä?\nMiltä tuntuisi liikkua ilman liiallista yrittämistä ja ponnistelua?\nMiltä tuntuisi olla ja elää kevyemmin\, pehmeämmin ja vapaammin?\nMiltä tämä kaikki tuntuisi hevosen kanssa? \nMentastics- liikunta on yhdysvaltalaisen lääkäri Milton Tragerin menetelmä\, jossa liike syventää tietoisuutta ja läsnäoloa hetkessä. Hyvinvointiviikonloppu koostuu ohjatuista kehotietoisuus-hetkistä\, ratsastuksesta ja/tai maastakäsin tapahtuvasta toiminnasta hevosen kanssa\, jossa tutkimme ja sovellamme mentastics-tuokioiden antamia oivalluksia\, yksinkertaisesta\, mutta hyvästä kasvispainotteisesta kotiruuasta sekä riittävästä määrästä aikaa ”vain olla”.\nHinta 340 € sis. Majoituksen\, ruokailut\, ohjatun ”leiriohjelman”.\nKatso lisätiedot ja ilmoittautumisohjeet fb-sivuiltamme.\nHierontaa sekä energia- ja tragerhoitoja varattavissa erikseen!\nHyvinvointiviikonloput 2020 Toukokuu 16.- 17.5. Kesäkuu 13. -14.6. Elokuu 15. -16.8.
URL:https://www.hirvensalmi.fi/tapahtuma/hevoshenkinen-hyvinvointiviikonloppu-tuukkalassa-2/
LOCATION:Juurimäen Talli\, Joutsantie 1494\, Kuitula\, 52620
ORGANIZER;CN="Team Juurim%C3%A4ki ja Hoitohuone Tallissa":MAILTO:saara.tukiainen@luukku.com
END:VEVENT
BEGIN:VEVENT
DTSTART;TZID=Europe/Helsinki:20200601T100000
DTEND;TZID=Europe/Helsinki:20200815T170000
DTSTAMP:20260422T010328
CREATED:20200220T111556Z
LAST-MODIFIED:20200306T084512Z
UID:19714-1591005600-1597510800@www.hirvensalmi.fi
SUMMARY:Kukkivia Lintuja näyttely Cafe Rantamakasiinissa
DESCRIPTION:Isa suojarinteen riemastuttava väri iloittelu näyttely kukkivista linnuista ilahduttaa meitä tänä kesänä.
URL:https://www.hirvensalmi.fi/tapahtuma/kukkivia-lintuja-nayttely-cafe-rantamakasiinissa/
LOCATION:Cafe Rantamakasiini\, Hirvensalmentie 10\, Hirvensalmi\, 52550
END:VEVENT
BEGIN:VEVENT
DTSTART;TZID=Europe/Helsinki:20200517T120000
DTEND;TZID=Europe/Helsinki:20200517T123000
DTSTAMP:20260422T010328
CREATED:20200511T044414Z
LAST-MODIFIED:20200511T044423Z
UID:20076-1589716800-1589718600@www.hirvensalmi.fi
SUMMARY:Kaatuneitten muistopäivän seppeleenlasku
DESCRIPTION:Kaatuneitten muistopäivän kunniaksi seppeleenlasku sankaripatsaalle Hirvensalmen Sotaveteraanit yhdessä Hirvensalmen kunnan ja Hirvensalmen seurakunnan kanssa. Tilaisuudessa noudatetaan valtiovallan antamia ohjeita.
URL:https://www.hirvensalmi.fi/tapahtuma/kaatuneitten-muistopaivan-seppeleenlasku/
LOCATION:Sankarihautausmaa\, Hirvensalmi
ORGANIZER;CN="Hirvensalmen sotaveteraanit ry":MAILTO:pirjo.lehtinen@surffi.fi
END:VEVENT
BEGIN:VEVENT
DTSTART;TZID=Europe/Helsinki:20200516T093000
DTEND;TZID=Europe/Helsinki:20200516T150000
DTSTAMP:20260422T010328
CREATED:20200106T192738Z
LAST-MODIFIED:20200106T192738Z
UID:19369-1589621400-1589641200@www.hirvensalmi.fi
SUMMARY:Retki Adi Kompan aittamuseolle ja Monikkalan entiselle koululle
DESCRIPTION:Tutustumme Adi Kompan aikoinaan keräämiin esineisiin talon aittoihin sekä saman suvun omistamaan entiseen Monikkalan kansakouluun (Erkki Komppa jatkoi isänsä keräystyötä)
URL:https://www.hirvensalmi.fi/tapahtuma/retki-adi-kompan-aittamuseolle-ja-monikkalan-entiselle-koululle/
LOCATION:Adi Kompan aittamuseo\, Kompantie 15\, Monikkalan kylä\, 52510
ORGANIZER;CN="Hirvensalmi-seura":MAILTO:raija.tanttu@gmail.com
END:VEVENT
BEGIN:VEVENT
DTSTART;VALUE=DATE:20200516
DTEND;VALUE=DATE:20200519
DTSTAMP:20260422T010328
CREATED:20200106T193012Z
LAST-MODIFIED:20200106T193012Z
UID:19375-1589598000-1589770799@www.hirvensalmi.fi
SUMMARY:Hevoshenkinen Hyvinvointiviikonloppu Tuukkalassa
DESCRIPTION:Hevoshenkinen Hyvinvointiviikonloppu Tuukkalassa \nMiltä tuntuisi liikkua niin\, että mieli ja liike ovat yhtä?\nMiltä tuntuisi liikkua ilman liiallista yrittämistä ja ponnistelua?\nMiltä tuntuisi olla ja elää kevyemmin\, pehmeämmin ja vapaammin?\nMiltä tämä kaikki tuntuisi hevosen kanssa? \nMentastics- liikunta on yhdysvaltalaisen lääkäri Milton Tragerin menetelmä\, jossa liike syventää tietoisuutta ja läsnäoloa hetkessä. Hyvinvointiviikonloppu koostuu ohjatuista kehotietoisuus-hetkistä\, ratsastuksesta ja/tai maastakäsin tapahtuvasta toiminnasta hevosen kanssa\, jossa tutkimme ja sovellamme mentastics-tuokioiden antamia oivalluksia\, yksinkertaisesta\, mutta hyvästä kasvispainotteisesta kotiruuasta sekä riittävästä määrästä aikaa ”vain olla”.\nHinta 340 € sis. Majoituksen\, ruokailut\, ohjatun ”leiriohjelman”.\nHierontaa sekä energia- ja tragerhoitoja varattavissa erikseen!\nHyvinvointiviikonloput 2020 Toukokuu 16.- 17.5. Kesäkuu 13. -14.6. Elokuu 15. -16.8. \nKatso lisätiedot ja ilmoittautumisohjeet fb-sivuiltamme tai kysy rohkeasti soittamalla/sähköpostilla.
URL:https://www.hirvensalmi.fi/tapahtuma/hevoshenkinen-hyvinvointiviikonloppu-tuukkalassa/
LOCATION:Juurimäen Talli\, Joutsantie 1494\, Kuitula\, 52620
ATTACH;FMTTYPE=image/jpeg:https://www.hirvensalmi.fi/wp-content/uploads/2020/01/20191230_123505.jpg
ORGANIZER;CN="Team Juurim%C3%A4ki ja Hoitohuone Tallissa":MAILTO:saara.tukiainen@luukku.com
END:VEVENT
BEGIN:VEVENT
DTSTART;TZID=Europe/Helsinki:20200513T080000
DTEND;TZID=Europe/Helsinki:20200605T170000
DTSTAMP:20260422T010328
CREATED:20200513T042004Z
LAST-MODIFIED:20200513T042004Z
UID:20080-1589356800-1591376400@www.hirvensalmi.fi
SUMMARY:Kuvasuunnistus 13.5.-5.6.2020
DESCRIPTION:Kevätrastit 2020
URL:https://www.hirvensalmi.fi/tapahtuma/kuvasuunnistus-13-5-5-6-2020/
LOCATION:Etelä-Savo
END:VEVENT
BEGIN:VEVENT
DTSTART;TZID=Europe/Helsinki:20200504T180000
DTEND;TZID=Europe/Helsinki:20200504T200000
DTSTAMP:20260422T010328
CREATED:20200211T130735Z
LAST-MODIFIED:20200420T044040Z
UID:19669-1588615200-1588622400@www.hirvensalmi.fi
SUMMARY:PERUTTU: Ruusukävely
DESCRIPTION:Ruusukävely ma 4.5.2020 klo 18.00 seurantalolla. Lenkin jälkeen tarjolla mehua ja osallistuneille ruusu. Tapahtuma kaikille avoin. Tervetuloa mukaan ulkoilemaan!
URL:https://www.hirvensalmi.fi/tapahtuma/ruusukavely/
LOCATION:Seurantalo\, kirkonkylä\, Kirkonkylä\, Hirvensalmi
ORGANIZER;CN="Kirkonkyl%C3%A4n martat":MAILTO:R.kaasinen@hotmail.fi
END:VEVENT
BEGIN:VEVENT
DTSTART;VALUE=DATE:20200502
DTEND;VALUE=DATE:20200505
DTSTAMP:20260422T010328
CREATED:20200106T193425Z
LAST-MODIFIED:20200106T193425Z
UID:19392-1588388400-1588561199@www.hirvensalmi.fi
SUMMARY:Vapaudu stressistä -hyvinvointiviikonloppu
DESCRIPTION:Viikonlopun aikana teemme erilaisia kehollisia harjoituksia\, jotka auttavat vapauttamaan kehossa olevaa stressiä ja joiden avulla voit jatkossa ehkäistä stressin kertymistä. Perustan muodostavat TRE-stressinhallintamenetelmä sekä Hoitava Hengitys -menetelmä. Lisäksi käytämme myös muita matkani varrella mukaan tarttuneita kehotietoisuusharjoitteita mm. mindfulness- ja Trager-lähestymistavoista. Lisätiedot ja hinnat nettisivuilta eheasydan.com. Lämpimästi tervetuloa!
URL:https://www.hirvensalmi.fi/tapahtuma/vapaudu-stressista-hyvinvointiviikonloppu-2/
LOCATION:Tuukkala\, 52610\, Suomi
ORGANIZER;CN="Ehe%C3%A4 Syd%C3%A4n":MAILTO:ehea.sydan@gmail.com
END:VEVENT
BEGIN:VEVENT
DTSTART;TZID=Europe/Helsinki:20200420T180000
DTEND;TZID=Europe/Helsinki:20200420T200000
DTSTAMP:20260422T010328
CREATED:20200211T124903Z
LAST-MODIFIED:20200320T141629Z
UID:19667-1587405600-1587412800@www.hirvensalmi.fi
SUMMARY:PERUTTU Kirkonkylän marttojen marttailta
DESCRIPTION:PERUTTU \nKirkonkylän martat kutsuvat Sydänkerholaiset kylään ma 20.4.2020 klo 18.00\nkunnanviraston takkahuoneelle. Aiheena : “Näin löydän oman kehon voimavarat”\, Lydia Sommermark. Tervetuloa mukaan!
URL:https://www.hirvensalmi.fi/tapahtuma/kirkonkylan-marttojen-marttailta-4/
LOCATION:Kunnanviraston takkahuone
ORGANIZER;CN="Kirkonkyl%C3%A4n martat":MAILTO:R.kaasinen@hotmail.fi
END:VEVENT
BEGIN:VEVENT
DTSTART;TZID=Europe/Helsinki:20200407T170000
DTEND;TZID=Europe/Helsinki:20200407T200000
DTSTAMP:20260422T010328
CREATED:20200211T123718Z
LAST-MODIFIED:20200323T050459Z
UID:19664-1586278800-1586289600@www.hirvensalmi.fi
SUMMARY:PERUTTU Savon Marttojen Vieraslaji/ViekasLife-luento
DESCRIPTION:Savon Marttojen Vieraslaji/ViekasLife-luento tiistaina 7.4.2020 kunnanviraston\nvaltuustosalissa klo 17.00-20.00. Ilmainen. Kaikki Martat tervetuloa!
URL:https://www.hirvensalmi.fi/tapahtuma/savon-marttojen-vieraslajiviekaslife-luento/
LOCATION:Hirvensalmen kunnanvirasto valtuustosali
END:VEVENT
BEGIN:VEVENT
DTSTART;TZID=Europe/Helsinki:20200331T130000
DTEND;TZID=Europe/Helsinki:20200331T150000
DTSTAMP:20260422T010328
CREATED:20200302T062133Z
LAST-MODIFIED:20200330T040917Z
UID:19735-1585659600-1585666800@www.hirvensalmi.fi
SUMMARY:PERUTTU  Tehdään yhdessä käsitöitä
DESCRIPTION:Tehdään yhdessä käsitöitä\, voit tuoda mukaasi oman käsityön. Kaikki tervetulleita !
URL:https://www.hirvensalmi.fi/tapahtuma/tehdaan-yhdessa-kasitoita-27/
LOCATION:Junnankuja 25 Hirvensalmi
ORGANIZER;CN="Hirvensalmen k%C3%A4sity%C3%B6yhdistys ry":MAILTO:posti@puulanmanuelli.fi
END:VEVENT
BEGIN:VEVENT
DTSTART;TZID=Europe/Helsinki:20200328T083000
DTEND;TZID=Europe/Helsinki:20200328T180000
DTSTAMP:20260422T010328
CREATED:20200302T062113Z
LAST-MODIFIED:20200317T061338Z
UID:19734-1585384200-1585418400@www.hirvensalmi.fi
SUMMARY:PERUTTU Siirto uuteen ajankohtaan ->Matka Jyväskylän Kädentaito-\, Hyvinvointi-\, ja Antiikkimessuille.
DESCRIPTION:Hirvensalmen käsityöyhdistys järjestää matkan Jyväskylän kädentaitomessuille. Lähtö kunnanvirastolta klo. 8.30 Linja-auto tulee Mäntyharjulta\, kyytiin pääsee matkan varrelta. Matkan hinta 35€/jäsen\, 40 €/ei jäsen\, sisältää matkan ja pääsylipun. Tulomatkalla käydään Viherlandiassa. Ilmoittaudu 20.3.2020 mennessä Manuelliin puh. 015-652627 ma – pe 10 – 17 ja la 10 – 13 Tervetuloa !
URL:https://www.hirvensalmi.fi/tapahtuma/matka-jyvaskylan-kadentaito-hyvinvointi-ja-antiikkimessuille-2/
LOCATION:Junnankuja 25 Hirvensalmi
ORGANIZER;CN="Hirvensalmen k%C3%A4sity%C3%B6yhdistys ry":MAILTO:posti@puulanmanuelli.fi
END:VEVENT
BEGIN:VEVENT
DTSTART;TZID=Europe/Helsinki:20200313T130000
DTEND;TZID=Europe/Helsinki:20200313T160000
DTSTAMP:20260422T010328
CREATED:20200210T061026Z
LAST-MODIFIED:20200210T061026Z
UID:19643-1584104400-1584115200@www.hirvensalmi.fi
SUMMARY:Talvisodan päättymisen 80-vuotisjuhla
DESCRIPTION:Klo 13.00 seppeleenlasku Viimeisten sotiemme ja Karjalaan jääneiden patsaille. Kirkkoherra Sepperi pitää hartaustilaisuuden.\nNoin klo 13.30 päiväkahvitilaisuus Sataman Herkussa. Juhlapuhujana maakuntaneuvos Juhani Alanen ja Ruskakuoro laulaa.
URL:https://www.hirvensalmi.fi/tapahtuma/talvisodan-paattymisen-80-vuotisjuhla/
LOCATION:Etelä-Savo
ORGANIZER;CN="Hirvensalmen sotaveteraanit ry":MAILTO:pirjo.lehtinen@surffi.fi
END:VEVENT
BEGIN:VEVENT
DTSTART;TZID=Europe/Helsinki:20200307T120000
DTEND;TZID=Europe/Helsinki:20200307T140000
DTSTAMP:20260422T010328
CREATED:20200206T121906Z
LAST-MODIFIED:20200206T121906Z
UID:19640-1583582400-1583589600@www.hirvensalmi.fi
SUMMARY:Talvitapahtuma
DESCRIPTION:Hirvensalmen_talvitapahtuma  7.3. klo 12.00-14.00 Urheilukentän maastossa.
URL:https://www.hirvensalmi.fi/tapahtuma/talvitapahtuma-3/
LOCATION:Urheilukenttä\, Kisatie 3\, Hirvensalmi\, Suomi
END:VEVENT
BEGIN:VEVENT
DTSTART;TZID=Europe/Helsinki:20200302T180000
DTEND;TZID=Europe/Helsinki:20200302T200000
DTSTAMP:20260422T010328
CREATED:20200211T123059Z
LAST-MODIFIED:20200211T123119Z
UID:19662-1583172000-1583179200@www.hirvensalmi.fi
SUMMARY:Kirkonkylän marttojen kevätkokous
DESCRIPTION:Kirkonkylän marttojen kevätkokous ma 2.3.2020 klo 18.00 kunnanviraston\ntakkahuoneella. Käsitellään yhdistyksen sääntöjen muutos. Lopuksi\nvaihdamme siemeniä ja pistokkaita\, ota mukaan. Tervetuloa!
URL:https://www.hirvensalmi.fi/tapahtuma/kirkonkylan-marttojen-kevatkokous/
LOCATION:Kunnanviraston takkahuone
ORGANIZER;CN="Kirkonkyl%C3%A4n martat":MAILTO:R.kaasinen@hotmail.fi
END:VEVENT
BEGIN:VEVENT
DTSTART;TZID=Europe/Helsinki:20200223T120000
DTEND;TZID=Europe/Helsinki:20200223T150000
DTSTAMP:20260422T010328
CREATED:20200130T062210Z
LAST-MODIFIED:20200218T103742Z
UID:19586-1582459200-1582470000@www.hirvensalmi.fi
SUMMARY:Laskiaisrieha karting hallilla
DESCRIPTION:Laskiaisrieha Kartinghallilla \nMukavaa tekemistä piha-alueella lapsille kuin vanhemmillekin.\nTarjolla nuotiomakkaraa ja lämpöistä juomaa !\nKarting halli avoinna normaaliin tapaan.
URL:https://www.hirvensalmi.fi/tapahtuma/laskiaisrieha-karting-hallilla/
LOCATION:Haukarting\, Otavantie 229\, Hirvensalmi\, 52550
ORGANIZER;CN="Hirvensalmen Autourheilijat":MAILTO:e-mail:info@haukarting.fi
END:VEVENT
BEGIN:VEVENT
DTSTART;TZID=Europe/Helsinki:20200222T100000
DTEND;TZID=Europe/Helsinki:20200222T100000
DTSTAMP:20260422T010328
CREATED:20200106T193216Z
LAST-MODIFIED:20200106T193216Z
UID:19385-1582365600-1582365600@www.hirvensalmi.fi
SUMMARY:MinD & Trager Äitiryhmä alkaa
DESCRIPTION:Aloitamme äideille suunnatun voimaantumisryhmän Juurimäen tallilla\, Joutsantie 1494 Kuitula.\nRyhmä kokoontuu kevään aikana 8 kertaa joka toinen lauantai klo 10.00 -12.00.\nTapaamisissa olennaista on vertaistuki ja turvallinen\,luottamuksellinen ilmapiiri.\nKokoontumiset tapahtuvat talliympäristössä hevosen/tallin toimiessa voimauttavana tekijänä. Aikaisempaa hevoskokemusta ei tarvita\, myöskään hevospelko ei ole esteenä ryhmässä toimimiselle. Jokainen voi olla niin lähellä tai kaukana hevosta kuin sillä hetkellä itsestä tuntuu hyvältä.\nMeitä ohjaajia on kaksi. Ohjaustapamme koostuu MinD-ryhmänohjausmenetelmästä sekä Trager-Mentastics -liikeistä\, jotka auttavat kehoa ja mieltä tietoiseen läsnäolon tilaan. Ohjaajien tehtävä ryhmässä ei ole sanella tiukasti mitä tehdään tai mistä keskustellaan\, vaan johdatella kulloiseenkin teemaan ja luoda tapaamisille joustava runko. \nHinta 480 € (mahdollista maksaa kahdessa erässä)\nSitovat ilmoittautumiset 7.2.2020 mennessä \n040-716 8080/ Anu\n050 – 5433 820 /Saara
URL:https://www.hirvensalmi.fi/tapahtuma/mind-trager-aitiryhma-alkaa/
LOCATION:Juurimäen Talli\, Joutsantie 1494\, Kuitula\, 52620
ATTACH;FMTTYPE=image/jpeg:https://www.hirvensalmi.fi/wp-content/uploads/2020/01/20200101_115337.jpg
ORGANIZER;CN="Team Juurim%C3%A4ki ja Hoitohuone Tallissa":MAILTO:a.amalian@hotmail.com
END:VEVENT
BEGIN:VEVENT
DTSTART;TZID=Europe/Helsinki:20200217T180000
DTEND;TZID=Europe/Helsinki:20200217T200000
DTSTAMP:20260422T010328
CREATED:20200211T122237Z
LAST-MODIFIED:20200211T122349Z
UID:19659-1581962400-1581969600@www.hirvensalmi.fi
SUMMARY:Kirkonkylän marttojen marttailta
DESCRIPTION:Kalailta seurantalon keittiössä ma 17.2.2020 klo 18.00. Pertti Ruhanen on luvannut tulla kertomaan kalan käsittelystä ja valmistetaan jotain helppoa kalasta ja maistelemme niitä. Jälkiruokakahvit. Lämpimästi tervetuloa!
URL:https://www.hirvensalmi.fi/tapahtuma/kirkonkylan-marttojen-marttailta-3/
LOCATION:Seurantalo\, kirkonkylä\, Kirkonkylä\, Hirvensalmi
ORGANIZER;CN="Kirkonkyl%C3%A4n martat":MAILTO:R.kaasinen@hotmail.fi
END:VEVENT
BEGIN:VEVENT
DTSTART;TZID=Europe/Helsinki:20200214T110000
DTEND;TZID=Europe/Helsinki:20200214T150000
DTSTAMP:20260422T010328
CREATED:20200211T060856Z
LAST-MODIFIED:20200211T060902Z
UID:19648-1581678000-1581692400@www.hirvensalmi.fi
SUMMARY:Ystävänpäivän kahvitarjoilu !
DESCRIPTION:Vietetään yhdessä ystävänpäivää ! Myymälässä kahvitarjoilu klo. 11 – 15 Tervetuloa yksin tai yhdessä ystävän kanssa !
URL:https://www.hirvensalmi.fi/tapahtuma/ystavanpaivan-kahvitarjoilu-2/
LOCATION:Junnankuja 25 Hirvensalmi
ORGANIZER;CN="Hirvensalmen k%C3%A4sity%C3%B6yhdistys ry":MAILTO:posti@puulanmanuelli.fi
END:VEVENT
BEGIN:VEVENT
DTSTART;TZID=Europe/Helsinki:20200128T130000
DTEND;TZID=Europe/Helsinki:20200128T150000
DTSTAMP:20260422T010328
CREATED:20200106T192633Z
LAST-MODIFIED:20200106T192633Z
UID:19355-1580216400-1580223600@www.hirvensalmi.fi
SUMMARY:Tehdään yhdessä käsitöitä
DESCRIPTION:Kaikki tervetulleita !
URL:https://www.hirvensalmi.fi/tapahtuma/tehdaan-yhdessa-kasitoita-26/
LOCATION:Junnankuja 25 Hirvensalmi
ORGANIZER;CN="Hirvensalmen k%C3%A4sity%C3%B6yhdistys ry":MAILTO:posti@puulanmanuelli.fi
END:VEVENT
BEGIN:VEVENT
DTSTART;TZID=Europe/Helsinki:20200127T183000
DTEND;TZID=Europe/Helsinki:20200127T203000
DTSTAMP:20260422T010328
CREATED:20200120T115946Z
LAST-MODIFIED:20200120T115946Z
UID:19526-1580149800-1580157000@www.hirvensalmi.fi
SUMMARY:Kirkonkylän marttojen marttailta
DESCRIPTION:Aloitamme uuden vuoden kakkukahvein ma 27.1.2020 klo 18:30 (huom. aika) kunnanviraston takkahuoneella.\nVuoden ensimmäisen illan teemana on TURHAKE\, mikä se on? Jos sinulla on jokin turhalta vaikuttava esine\, ota se mukaasi\, pohdimme ja ihmettelemme sitä yhdessä.\nLämpimästi tervetuloa
URL:https://www.hirvensalmi.fi/tapahtuma/kirkonkylan-marttojen-marttailta-2/
LOCATION:Kunnanviraston takkahuone
ORGANIZER;CN="Kirkonkyl%C3%A4n martat":MAILTO:R.kaasinen@hotmail.fi
END:VEVENT
BEGIN:VEVENT
DTSTART;TZID=Europe/Helsinki:20191219T110000
DTEND;TZID=Europe/Helsinki:20191219T140000
DTSTAMP:20260422T010328
CREATED:20191216T060957Z
LAST-MODIFIED:20191216T060957Z
UID:19315-1576753200-1576764000@www.hirvensalmi.fi
SUMMARY:Käsityöyhdistyksen joulupuuro ja myyjäiset klo. 11 - 14
DESCRIPTION:Kaikki tervetulleita joulupuurolle ! Myyjäisissä kotileivonnaisia jouluun !
URL:https://www.hirvensalmi.fi/tapahtuma/kasityoyhdistyksen-joulupuuro-ja-myyjaiset-klo-11-14/
LOCATION:Junnankuja 25 Hirvensalmi
ORGANIZER;CN="Hirvensalmen k%C3%A4sity%C3%B6yhdistys ry":MAILTO:posti@puulanmanuelli.fi
END:VEVENT
BEGIN:VEVENT
DTSTART;TZID=Europe/Helsinki:20191214T090000
DTEND;TZID=Europe/Helsinki:20191214T120000
DTSTAMP:20260422T010328
CREATED:20191022T124201Z
LAST-MODIFIED:20191022T124207Z
UID:18973-1576314000-1576324800@www.hirvensalmi.fi
SUMMARY:Joulupuuroa
DESCRIPTION:Ilmainen Joulupuurotarjoilu\, niin kauan kun puuroa riittää…
URL:https://www.hirvensalmi.fi/tapahtuma/joulupuuroa/
LOCATION:S-Market Hirvensalmi\, Hirvensalmentie\, Hirvensalmi\, 52550
END:VEVENT
BEGIN:VEVENT
DTSTART;TZID=Europe/Helsinki:20191210T113000
DTEND;TZID=Europe/Helsinki:20191210T143000
DTSTAMP:20260422T010328
CREATED:20191125T115107Z
LAST-MODIFIED:20191125T115107Z
UID:19219-1575977400-1575988200@www.hirvensalmi.fi
SUMMARY:Eläkeliiton Hirvensalmen yhdistyksen pikkujoulu !
DESCRIPTION:Tervetuloa yhdistyksen joulujuhlaan Seurojentalolle. Tarjolla joululounas hintaan 15€/hlö. Jouluista ohjelmaa\, laulua ja arpajaiset.\nIlmoittautumiset sihteerille puh. 0400162792
URL:https://www.hirvensalmi.fi/tapahtuma/elakeliiton-hirvensalmen-yhdistyksen-pikkujoulu/
LOCATION:Seuratalo\, Pitäjäntie 9\, Hirvensalmi\, 52550
END:VEVENT
BEGIN:VEVENT
DTSTART;TZID=Europe/Helsinki:20191206T113000
DTEND;TZID=Europe/Helsinki:20191206T140000
DTSTAMP:20260422T010328
CREATED:20191125T115049Z
LAST-MODIFIED:20191125T115049Z
UID:19218-1575631800-1575640800@www.hirvensalmi.fi
SUMMARY:Itsenäisyyspäivän kahvitilaisuus !
DESCRIPTION:Tervetuloa kaikille avoimeen Itsenäisyyspäivän juhlavaan kahvitilaisuuteen. Tarjolla kakkukahvit sekä ohjelmassa kuoroesityksiä ja lausuntaa. Katsomme myös Itsenäisyyspäivän paraatin suorana lähetyksenä.
URL:https://www.hirvensalmi.fi/tapahtuma/itsenaisyyspaivan-kahvitilaisuus-2/
LOCATION:Seuratalo\, Pitäjäntie 9\, Hirvensalmi\, 52550
ORGANIZER;CN="El%C3%A4keliiton Hirvensalmen yhdistys":MAILTO:hirvonen.esko.ilmari@gmail.com
END:VEVENT
BEGIN:VEVENT
DTSTART;TZID=Europe/Helsinki:20191206T090000
DTEND;TZID=Europe/Helsinki:20191206T090000
DTSTAMP:20260422T010328
CREATED:20191023T115644Z
LAST-MODIFIED:20191023T115651Z
UID:18994-1575622800-1575622800@www.hirvensalmi.fi
SUMMARY:Sankarivainajien haudoille kynttilät
DESCRIPTION:Sankarivainajien haudoille\, muistomerkeille\, edesmenneiden leijonien ja Mannerheim ristiritarin haudalle sytytettään kynttilät.
URL:https://www.hirvensalmi.fi/tapahtuma/sankarivainajien-haudoille-kynttilat/
LOCATION:Sankarihautaysmaa\, Kirkkotie\, Hirvensalmi
ATTACH;FMTTYPE=image/jpeg:https://www.hirvensalmi.fi/wp-content/uploads/2019/10/sankarihaudat.jpg
END:VEVENT
END:VCALENDAR