BEGIN:VCALENDAR
VERSION:2.0
PRODID:-//Hirvensalmi - ECPv6.6.4.2//NONSGML v1.0//EN
CALSCALE:GREGORIAN
METHOD:PUBLISH
X-ORIGINAL-URL:https://www.hirvensalmi.fi
X-WR-CALDESC:Tapahtumat Hirvensalmi
REFRESH-INTERVAL;VALUE=DURATION:PT1H
X-Robots-Tag:noindex
X-PUBLISHED-TTL:PT1H
BEGIN:VTIMEZONE
TZID:Europe/Helsinki
BEGIN:DAYLIGHT
TZOFFSETFROM:+0200
TZOFFSETTO:+0300
TZNAME:EEST
DTSTART:20190331T010000
END:DAYLIGHT
BEGIN:STANDARD
TZOFFSETFROM:+0300
TZOFFSETTO:+0200
TZNAME:EET
DTSTART:20191027T010000
END:STANDARD
END:VTIMEZONE
BEGIN:VEVENT
DTSTART;VALUE=DATE:20190725
DTEND;VALUE=DATE:20190727
DTSTAMP:20260422T043933
CREATED:20190103T121346Z
LAST-MODIFIED:20190103T121346Z
UID:8334-1564023600-1564109999@www.hirvensalmi.fi
SUMMARY:Käsityöyhdistyksen kesäretki !
DESCRIPTION:Hirvensalmen käsityöyhdistyksen kesäretki 25.7.2019 Kotkan-Haminan seudulle ! Vierailemme mm. Miehikkälän käsityöläisten ylläpitämässä käsityöpuodissa. Tarkempia tietoja aikataulusta ja hinnoista lähempänä retken ajankohtaa. Retkelle ovat kaikki tervetulleita !
URL:https://www.hirvensalmi.fi/tapahtuma/kasityoyhdistyksen-kesaretki-2/
LOCATION:Junnankuja 25 Hirvensalmi
ORGANIZER;CN="Hirvensalmen k%C3%A4sity%C3%B6yhdistys ry":MAILTO:posti@puulanmanuelli.fi
END:VEVENT
BEGIN:VEVENT
DTSTART;TZID=Europe/Helsinki:20190723T180000
DTEND;TZID=Europe/Helsinki:20190723T200000
DTSTAMP:20260422T043933
CREATED:20190103T053103Z
LAST-MODIFIED:20190103T053103Z
UID:8320-1563904800-1563912000@www.hirvensalmi.fi
SUMMARY:HiU:n seurakisat
DESCRIPTION:Sarjat 3 – 15-vuotiaille
URL:https://www.hirvensalmi.fi/tapahtuma/hiun-seurakisat-2/
LOCATION:Hirvensalmen urheilukenttä\, Kisatie\, Hirvensalmi\, 52550
ORGANIZER;CN="Hirvensalmen urheilijat":MAILTO:hirvensalmenurheilijat@gmail.com
END:VEVENT
BEGIN:VEVENT
DTSTART;TZID=Europe/Helsinki:20190719T193000
DTEND;TZID=Europe/Helsinki:20190719T223000
DTSTAMP:20260422T043933
CREATED:20190104T110327Z
LAST-MODIFIED:20190104T110327Z
UID:8355-1563564600-1563575400@www.hirvensalmi.fi
SUMMARY:Vanhanajan iltamat
DESCRIPTION:Suositut vanhanajan iltamat Tuukkalassa. Sketsejä\, näytelmiä\, yhteislaulua ja kahvitarjoilu.
URL:https://www.hirvensalmi.fi/tapahtuma/vanhanajan-iltamat/
LOCATION:Tuukkalan koulu\, Joutsantie 1212\, Tuukkala\, 52610\, Suomi
END:VEVENT
BEGIN:VEVENT
DTSTART;TZID=Europe/Helsinki:20190719T190000
DTEND;TZID=Europe/Helsinki:20190719T233000
DTSTAMP:20260422T043933
CREATED:20190701T063922Z
LAST-MODIFIED:20190701T063926Z
UID:18616-1563562800-1563579000@www.hirvensalmi.fi
SUMMARY:Karaoketanssit - Kellokallion päätöstanssit
DESCRIPTION:Kellokallion päätöstanssit tanssitaan poikkeuksellisesti jo 19.7.\nYleisön pyynnöstä tanssit ovat karaoketanssit – voit loistaa illan aikana halutessasi lavan molemmin puolin! \nLiput 10e sis. arvontalipun \nTervetuloa!
URL:https://www.hirvensalmi.fi/tapahtuma/karaoketanssit-kellokallion-paatostanssit/
LOCATION:Kellokallion tanssilava
ATTACH;FMTTYPE=image/jpeg:https://www.hirvensalmi.fi/wp-content/uploads/2019/07/fb_img_1561963021605.jpg
ORGANIZER;CN="Studio Kuoppala":MAILTO:kellokallio@hotmail.com
END:VEVENT
BEGIN:VEVENT
DTSTART;TZID=Europe/Helsinki:20190716T110000
DTEND;TZID=Europe/Helsinki:20190716T160000
DTSTAMP:20260422T043933
CREATED:20190527T085359Z
LAST-MODIFIED:20190527T085359Z
UID:14970-1563274800-1563292800@www.hirvensalmi.fi
SUMMARY:Palettiveitsimaalaus-kurssi
DESCRIPTION:Tuukkalan Taidetuvalla\, Hirvensalmella \nJoutsantie 1244\, Hirvensalmi \nKurssimaksu: 25€/henkilö (sis. tarvikkeet\, opetus\, ruoka ja kahvi) \nTule rohkeasti kokeilemaan ja ihastumaan maalaamisen saloihin maalaismaisemaan Hirvensalmella. Aikaisempaa kokemusta maalaamisesta ei vaadita.\nKurssiin sisältyy talon tarjoama lounas. Hauskaa yhdessä touhuamista ja oloa! \nOpettajina toimivat Sirkka Lindroos ja Ritva Montonen Mikkelangelot Ry:stä. Tervetuloa! \nIlmoittautumiset ja mahdolliset ruoka-allergiat viikkoa aikaisemmin: \nPuh. 040 4860466/ Jere Luntta tai sähköposti: jere.luntta@gmail.com
URL:https://www.hirvensalmi.fi/tapahtuma/palettiveitsimaalaus-kurssi/
LOCATION:Tuukkalan taidetupa\, Joutsantie 1244\, Tuukkala\, 52610
ORGANIZER;CN="Tuukkalan Taidetupa":MAILTO:pirkko.luntta@pp.inet.fi
END:VEVENT
BEGIN:VEVENT
DTSTART;TZID=Europe/Helsinki:20190715T100000
DTEND;TZID=Europe/Helsinki:20190715T170000
DTSTAMP:20260422T043933
CREATED:20190102T060124Z
LAST-MODIFIED:20190102T060124Z
UID:8279-1563184800-1563210000@www.hirvensalmi.fi
SUMMARY:Kesäasukkaiden tutustumispäivä !
DESCRIPTION:Tervetuloa tutustumaan yhdistyksemme\, myymälämme ja kudontapajamme toimintaan !
URL:https://www.hirvensalmi.fi/tapahtuma/kesaasukkaiden-tutustumispaiva/
LOCATION:Junnankuja 25 Hirvensalmi
ORGANIZER;CN="Hirvensalmen k%C3%A4sity%C3%B6yhdistys ry":MAILTO:posti@puulanmanuelli.fi
END:VEVENT
BEGIN:VEVENT
DTSTART;TZID=Europe/Helsinki:20190714T150000
DTEND;TZID=Europe/Helsinki:20190714T170000
DTSTAMP:20260422T043933
CREATED:20190517T051849Z
LAST-MODIFIED:20190522T060851Z
UID:10170-1563116400-1563123600@www.hirvensalmi.fi
SUMMARY:Svengiä kesään!
DESCRIPTION:Vauhdikas viihdekuoro Swing It! ja bändi Lahdesta svengaavat ilolla ja sydämellä eri vuosikymmenten hittibiisejä. \nOhjelmassa on mm: Luona Vanhan veräjän\, Muistatko Monrepos´n\, Laiskotellen\, You´re my heart\, you´re my soul\, Juhannustanssit\, Marilyn ja Wanha Swingi. Esimerkkinä uudemmista lauluista mainittakoon Aki Sirkessalon Mustankipee\, Ultra Bran Savanni nukahtaa ja Matti Mikkolan Hetken tie on kevyt. Ohjelmasta tarkemmin kuoron kotisivuilla. \nKonsertin johtaa Hirvensalmella kesiään viettävä musiikin maisteri Tuisku Marttinen. \nOhjelmassa kuullaan sekä kuoro- että sooloesityksiä. Konsertissa on väliaika. \nLiput tuntia ennen ovelta tai varaus sähköpostitse s.tuulia.hokkanen@gmail.com
URL:https://www.hirvensalmi.fi/tapahtuma/svengia-kesaan/
LOCATION:Seurantalo\, kirkonkylä\, Kirkonkylä\, Hirvensalmi
ATTACH;FMTTYPE=image/jpeg:https://www.hirvensalmi.fi/wp-content/uploads/2019/05/nusk6627.jpg
ORGANIZER;CN="Swing It! -viihdekuoro":MAILTO:s.tuulia.hokkanen@gmail.com
END:VEVENT
BEGIN:VEVENT
DTSTART;TZID=Europe/Helsinki:20190713T200000
DTEND;TZID=Europe/Helsinki:20190714T003000
DTSTAMP:20260422T043933
CREATED:20190701T063516Z
LAST-MODIFIED:20190701T063551Z
UID:18612-1563048000-1563064200@www.hirvensalmi.fi
SUMMARY:Perinteiset Lavatanssit Kellokalliolla
DESCRIPTION:Perinteiset lavatanssit – tanssittaa Pete Nikulainen ja Veli Muttilainen \nLiput 15e sis. arvontalipun \nTervetuloa!
URL:https://www.hirvensalmi.fi/tapahtuma/perinteiset-lavatanssit-kellokalliolla/
LOCATION:Kellokallion tanssilava
ATTACH;FMTTYPE=image/jpeg:https://www.hirvensalmi.fi/wp-content/uploads/2019/07/fb_img_1561962561572.jpg
ORGANIZER;CN="Studio Kuoppala":MAILTO:kellokallio@hotmail.com
END:VEVENT
BEGIN:VEVENT
DTSTART;TZID=Europe/Helsinki:20190713T190000
DTEND;TZID=Europe/Helsinki:20190713T190000
DTSTAMP:20260422T043933
CREATED:20190102T055948Z
LAST-MODIFIED:20190102T055948Z
UID:8273-1563044400-1563044400@www.hirvensalmi.fi
SUMMARY:Tanssit Väisälänsaaren Sillanposken Karhupaviljongissa
DESCRIPTION:Tapahtuman teema iltamat koko perheelle\, ohjelmassa tanssimusiikkia\,kilpailuja\, puhvetti\, arpajaiset\,pingo\, paistettuja lettuja\, muikkuja ja makkaragrilli.\nEi pääsymaksua\, tapahtuman kesto 4 tuntia (klo.19-23)
URL:https://www.hirvensalmi.fi/tapahtuma/tanssit-vaisalansaaren-sillanposken-karhupaviljongissa/
LOCATION:Sillanposki Karhupaviljongi\, Väisälänsaarentie 912\, Hirvansalmi\, 52550
ORGANIZER;CN="V%C3%A4is%C3%A4l%C3%A4n Kyl%C3%A4yhdistys ry":MAILTO:jouko.turunen@ssvpk.net
END:VEVENT
BEGIN:VEVENT
DTSTART;TZID=Europe/Helsinki:20190712T210000
DTEND;TZID=Europe/Helsinki:20190712T233000
DTSTAMP:20260422T043933
CREATED:20190328T060840Z
LAST-MODIFIED:20190328T060840Z
UID:8664-1562965200-1562974200@www.hirvensalmi.fi
SUMMARY:Virve Rosti\, Freeman ja Menneisyyden vangit
DESCRIPTION:Nyt päästään joraamaan oikein kunnolla Herkun terassilla tuttujen kappaleiden tahdittamana.
URL:https://www.hirvensalmi.fi/tapahtuma/virve-rosti-freeman-ja-menneisyyden-vangit-2/
LOCATION:Ravintola Sataman Herkku\, Hirvensalmentie 22 \, Hirvensalmi\, Finland\, 52550\, Suomi
ATTACH;FMTTYPE=image/jpeg:https://www.hirvensalmi.fi/wp-content/uploads/2019/03/menneisyydenvangit_0-1.jpg
ORGANIZER;CN="Ravintola Sataman Herkku":MAILTO:marianne@satamanherkku.fi
END:VEVENT
BEGIN:VEVENT
DTSTART;TZID=Europe/Helsinki:20190712T200000
DTEND;TZID=Europe/Helsinki:20190713T003000
DTSTAMP:20260422T043933
CREATED:20190701T063438Z
LAST-MODIFIED:20190701T063446Z
UID:18608-1562961600-1562977800@www.hirvensalmi.fi
SUMMARY:Lavatanssit Kellokalliolla - Moonrise
DESCRIPTION:Lavatanssit kuopiolaisen Moonrise – tanssiyhtyeen tahtiin. \nLiput 15e sis. arvontalipun \nTervetuloa!
URL:https://www.hirvensalmi.fi/tapahtuma/lavatanssit-kellokalliolla-moonrise/
LOCATION:Kellokallion tanssilava
ATTACH;FMTTYPE=image/jpeg:https://www.hirvensalmi.fi/wp-content/uploads/2019/07/fb_img_1561962341160.jpg
ORGANIZER;CN="Studio Kuoppala":MAILTO:kellokallio@hotmail.com
END:VEVENT
BEGIN:VEVENT
DTSTART;TZID=Europe/Helsinki:20190709T110000
DTEND;TZID=Europe/Helsinki:20190709T170000
DTSTAMP:20260422T043933
CREATED:20190613T035741Z
LAST-MODIFIED:20190613T035844Z
UID:18509-1562670000-1562691600@www.hirvensalmi.fi
SUMMARY:Taidepäivä
DESCRIPTION:Markkinahumu levittäytyy Taidetuvan pihapiiriin. Paikalla mm. saviruukkujen maalauspajaa\, Sisko Hottolan harmonikkaesitys\, Sampolan takomon keskiaikainen takomisesitys\, hunajaa ja kahvio muuttuu pop up-ravintolaksi! \nTervetuloa!
URL:https://www.hirvensalmi.fi/tapahtuma/taidepaiva-2/
LOCATION:Tuukkalan taidetupa\, Joutsantie 1244\, Tuukkala\, 52610
ORGANIZER;CN="Tuukkalan Taidetupa":MAILTO:pirkko.luntta@pp.inet.fi
END:VEVENT
BEGIN:VEVENT
DTSTART;TZID=Europe/Helsinki:20190707T110000
DTEND;TZID=Europe/Helsinki:20190707T150000
DTSTAMP:20260422T043933
CREATED:20190102T060054Z
LAST-MODIFIED:20190102T060054Z
UID:8277-1562497200-1562511600@www.hirvensalmi.fi
SUMMARY:Tervaleppäjuhlien käsityönäyttely ja variksenpelätinkisan äänestys !
DESCRIPTION:Tervetuloa tervaleppäjuhlien käsityönäyttelyymme ja äänestämään vuoden 2019 parasta pelättiä !
URL:https://www.hirvensalmi.fi/tapahtuma/tervaleppajuhlien-kasityonayttely-ja-variksenpelatinkisan-aanestys-3/
LOCATION:Junnankuja 25 Hirvensalmi
ORGANIZER;CN="Hirvensalmen k%C3%A4sity%C3%B6yhdistys ry":MAILTO:posti@puulanmanuelli.fi
END:VEVENT
BEGIN:VEVENT
DTSTART;TZID=Europe/Helsinki:20190706T200000
DTEND;TZID=Europe/Helsinki:20190707T003000
DTSTAMP:20260422T043933
CREATED:20190701T063340Z
LAST-MODIFIED:20190701T063350Z
UID:18606-1562443200-1562459400@www.hirvensalmi.fi
SUMMARY:Kellokallion lavatanssit - avajaiset Tähtiartisti trio
DESCRIPTION:Kellokallion avajaistanssit Tähtiartisti Trion johdolla\, samalla vietetään Hirvensalmella Tervaleppä-juhlia!\nVäliajoilla teitä tanssittaa Pertunmaan Harmonikat Juha Saarisen johdolla! \nLiput 15e sis.arvontalipun \nTervetuloa!
URL:https://www.hirvensalmi.fi/tapahtuma/kellokallion-lavatanssit-avajaiset-tahtiartisti-trio/
LOCATION:Kellokallion lava
ATTACH;FMTTYPE=image/jpeg:https://www.hirvensalmi.fi/wp-content/uploads/2019/06/fb_img_1561730925870.jpg
ORGANIZER;CN="Studio Kuoppala":MAILTO:kellokallio@hotmail.com
END:VEVENT
BEGIN:VEVENT
DTSTART;TZID=Europe/Helsinki:20190706T100000
DTEND;TZID=Europe/Helsinki:20190706T150000
DTSTAMP:20260422T043933
CREATED:20190102T060036Z
LAST-MODIFIED:20190102T060036Z
UID:8276-1562407200-1562425200@www.hirvensalmi.fi
SUMMARY:Tervaleppäjuhlien käsityönäyttely ja variksenpelätinkisan äänestys !
DESCRIPTION:Tervetuloa tervaleppäjuhlien käsityönäyttelyymme ja äänestämään vuoden 2019 parasta pelättiä !
URL:https://www.hirvensalmi.fi/tapahtuma/tervaleppajuhlien-kasityonayttely-ja-variksenpelatinkisan-aanestys-2/
LOCATION:Junnankuja 25 Hirvensalmi
ORGANIZER;CN="Hirvensalmen k%C3%A4sity%C3%B6yhdistys ry":MAILTO:posti@puulanmanuelli.fi
END:VEVENT
BEGIN:VEVENT
DTSTART;TZID=Europe/Helsinki:20190705T190000
DTEND;TZID=Europe/Helsinki:20190705T233000
DTSTAMP:20260422T043933
CREATED:20190104T052224Z
LAST-MODIFIED:20190104T052224Z
UID:8336-1562353200-1562369400@www.hirvensalmi.fi
SUMMARY:Iltamat
DESCRIPTION:Pertunmaan nuorisoseuran näytelmä Akka-agentti. Lopuksi tanssit Arto Kivekkään tahdittamana.
URL:https://www.hirvensalmi.fi/tapahtuma/iltamat/
LOCATION:Sampan vintti\, Sampantie 136\, Hietanen\, 52510
ORGANIZER;CN="Virpi ja Pasi Outinen":MAILTO:pasi.outinen@jippii.fi
END:VEVENT
BEGIN:VEVENT
DTSTART;TZID=Europe/Helsinki:20190705T100000
DTEND;TZID=Europe/Helsinki:20190705T170000
DTSTAMP:20260422T043933
CREATED:20190102T060008Z
LAST-MODIFIED:20190102T060008Z
UID:8275-1562320800-1562346000@www.hirvensalmi.fi
SUMMARY:Tervaleppäjuhlien käsityönäyttely ja variksenpelätinkisan äänestys !
DESCRIPTION:Tervetuloa tervaleppäjuhlien käsityönäyttelyymme ja äänestämään vuoden 2019 parasta pelättiä !
URL:https://www.hirvensalmi.fi/tapahtuma/tervaleppajuhlien-kasityonayttely-ja-variksenpelatinkisan-aanestys/
LOCATION:Junnankuja 25 Hirvensalmi
ORGANIZER;CN="Hirvensalmen k%C3%A4sity%C3%B6yhdistys ry":MAILTO:posti@puulanmanuelli.fi
END:VEVENT
BEGIN:VEVENT
DTSTART;VALUE=DATE:20190705
DTEND;VALUE=DATE:20190709
DTSTAMP:20260422T043933
CREATED:20181101T081600Z
LAST-MODIFIED:20190603T073753Z
UID:8014-1562295600-1562554799@www.hirvensalmi.fi
SUMMARY:Tervaleppäjuhlat
DESCRIPTION:OHJELMA \nPerjantai 5.7.\nklo 8.- 16.00 TERVALEPPÄMARKKINAT torialueella\, paikkojen myynti p. 050- 5964781\, kuuluttajana Juhani Manninen \nklo 10.00 “Ruskakuoro” esiintyy\nJUHLIEN AVAUS Maritta Mynttinen\nMÖKKIRAUHAN JULISTUS \nklo 10.-13.00 Lasten kulttuurikeskus Verson taidepaja “Outoja Otuksia” Seuratalolla yläkerran nuorisotiloissa.\nPoniajelua. \nklo 10.-17.00 TAIDENÄYTTELY Seuratalolla\, Maire Pietarinen-Luukan töitä\, Erja Honkasen maalauksia\,\nKk:n Marttojen keittolounas klo 10.-14.00 \nklo 10.-17.00 TAIDENÄYTTELY Kissakosken Galleriassa\, Risto Eskelisen retrospektiivinen näyttely\, maalauksia ja grafiikkaa \nklo 10.-17.00 Museot avoinna\,\nAhti Karjalaisen elämäntyömuseo Pitäjäntuvalla\, kotiseutumuseon näyttely “Luonnon kauneus ainainen” ja syntymäkotimuseo Lepola Kuitulassa\, vapaa pääsy \nklo 10.-15.00 Käsityönäyttely Puulan Manuellissä. “Pitsit ja patalaput ” ja variksenpelätinkisan äänestys \nklo 10.-17.00 Avoimet ovet Haukartingilla. Katso www.haukarting.fi \nklo 12.00 Puulan sointu esiintyy markkinalavalla\, yhteislaulua \nklo 13.00-15.00 Fish Up! Lapsiperheille suunnattu kalastuskisa Suur-Savon rannassa \nklo 17.00-18.00 Nuorten musiikkitapahtuma Roosin rannassa. Bändinä Dalia\, Kai\, Roosa ja Iiris Ahvenranta. Vapaa pääsy. \nklo 19.00 KIRKKOKONSERTTI\, Joel Hallikainen esiintyy\, pääsylippu 20 € \nklo 20.00 – Kapa Montonen esiintyy Sataman Herkussa \nLauantai 6.7. \nklo  9.00-15.00 TERVALEPPÄMARKKINAT jatkuu\, Tervaleppäkirppis\, paikkavaraukset 3.7. menn. p. 050-5964781 \nklo 10.00-15.00 TAIDENÄYTTELY Seuratalolla\, Maire Pietarinen-Luukan töitä\, Erja Honkasen maalauksia\,\nKk:n marttojen keittolounas klo 1o.-14.00 \nklo 10.00-17.00 Käsityönäyttely Puulan Manuellissä\, “Pitsit ja patalaput” ja variksenpelätinkisan äänestys \nklo 10.00-15.00 Museot avoinna\, Ahti Karjalaisen elämäntyömuseo Pitäjäntuvalla\, kotiseutumuseon näyttely “Luonnon kauneus ainainen” ja syntymäkotimuseo Lepola Kuitulassa\, vapaa pääsy \nklo 11.30 Pertunmaan tanssiryhmän esitys\, ohjaus Anni-Sirkku Askola \nklo 12.-16.00 TAIDENÄYTTELY Kissakosken Galleriassa\, Risto Eskelisen retropektiivinen näyttely\, maalauksia ja grafiikkaa \nklo 12.00 Taikuri Puijon paroni esiintyy lapsille markkinalavalla \nklo 12.30-14.30 Karaokea ja katutanssit markkinalavalla. \nklo 18.00 Jalkapallo-ottelu paikalliset – kesävieraat\, urheilukentällä \nklo 20.00-00.30 Tanssit Kellokalliolla\, Trio Tähtiartistit \nSunnuntai 7.7. \nKlo 9.30 KESÄLOMALAISTEN KIRKKOPYHÄ\nKokoontuminen Suur-Savon rantaan\, kirkkovene saapuu\nklo 10.00 messu kirkossa\, saarnaa pastori Päivi Liukkonen\, kirkkokahvit seurakuntakodilla. Yhteislaulutilaisuus kirkon takana heti kahvien jälkeen\, sateen sattuessa kirkossa. \nklo 11.00-15.00 TAIDENÄYTTELY jatkuu Seuratalolla. Maire Pietarinen-Luukan töitä\, Erja Honkasen maalauksia \nklo 11.00-15.00 Käsityönäyttely Puulan Manuellissä. “Pitsit ja patalaput” ja variksenpelätinkisan äänestys \nklo 11.00-15.00 Museot avoinna. \nklo 12.00-16.00 TAIDENÄYTTELY Kissakosken Galleriassa\, Risto Eskelisen retrospektiivinen näyttely\, maalauksia ja grafiikkaa.
URL:https://www.hirvensalmi.fi/tapahtuma/tervaleppajuhlat-3/
LOCATION:Hirvensalmi kk\, Keskustie 2\, Hirvensalmi\, 52550
END:VEVENT
BEGIN:VEVENT
DTSTART;TZID=Europe/Helsinki:20190704T140000
DTEND;TZID=Europe/Helsinki:20190704T150000
DTSTAMP:20260422T043933
CREATED:20190626T064226Z
LAST-MODIFIED:20190626T064226Z
UID:18591-1562248800-1562252400@www.hirvensalmi.fi
SUMMARY:Arjen järjestelyjä Salpalinjan työmailla -yleisöluento Hirvensalmen kirjastossa
DESCRIPTION:Fil.tri Virpi Launonen kertoo huollon ja harrastustoiminnan järjestelyistä Salpalinjan rakennustyömailla Etelä-Savossa ja Pohjois-Karjalassa linjan rakennusvaiheessa  Hirvensalmen kirjastossa to 4.7.2019 klo 14-15. \nVapaa pääsy. Tervetuloa !
URL:https://www.hirvensalmi.fi/tapahtuma/arjen-jarjestelyja-salpalinjan-tyomailla-yleisoluento-hirvensalmen-kirjastossa/
LOCATION:Hirvensalmen kirjasto\, Koulutie 7
END:VEVENT
BEGIN:VEVENT
DTSTART;TZID=Europe/Helsinki:20190703T100000
DTEND;TZID=Europe/Helsinki:20190707T170000
DTSTAMP:20260422T043933
CREATED:20190627T050920Z
LAST-MODIFIED:20190627T050920Z
UID:18599-1562148000-1562518800@www.hirvensalmi.fi
SUMMARY:Kissakosken sähkönäyttely avoinna 3.-7.7.2019
DESCRIPTION:Lumme Energia sai mahdollisuuden pitkästä aikaa avata Kissakosken sähkönäyttelyn ovet. Tämä ainutlaatuinen tilaisuus on 3.-7.7.2019. Aukioloajat ovat ke-pe klo 10-17 ja la-su klo 11-17. Paikalla ovat aurinkosähkön ja sähkönmyynnin kesätyöntekijämme. Voit siis halutessasi keskustella kanssamme aurinkosähköjärjestelmistä sekä sähkösopimuksista \nKissakosken voimalaitoksen sähkömuseo kertoo\, kuinka sähkö aikoinaan saapui maaseudulle. Museon pihalla on nähtävissä vuonna 1948 rakennettu ja vuoteen 1990 asti toiminut puukoppimuuntamo Ristiinan Pökkäästä. Paikalla ovat aurinkosähkön ja sähkönmyynnin kesätyöntekijämme. Voit siis halutessasi keskustella kanssamme aurinkosähköjärjestelmistä sekä sähkösopimuksista
URL:https://www.hirvensalmi.fi/tapahtuma/kissakosken-sahkonayttely-avoinna-3-7-7-2019/
LOCATION:Kissakosken tehdas\, Vahvamäentie 42
ATTACH;FMTTYPE=image/jpeg:https://www.hirvensalmi.fi/wp-content/uploads/2019/06/kissakoski-kesalla-200.jpg
ORGANIZER;CN="Lumme Energia Oy":MAILTO:viestinta@lumme-energia.fi
END:VEVENT
BEGIN:VEVENT
DTSTART;TZID=Europe/Helsinki:20190630T140000
DTEND;TZID=Europe/Helsinki:20190630T190000
DTSTAMP:20260422T043933
CREATED:20190102T060409Z
LAST-MODIFIED:20190102T060409Z
UID:8289-1561903200-1561921200@www.hirvensalmi.fi
SUMMARY:Taidetuvan avajaiset
DESCRIPTION:Taidetuvan kuudes kesä pyöräistään taasen käyntiin! Mukana mielenkiintoisia uutuuksia. Tervetuloa!
URL:https://www.hirvensalmi.fi/tapahtuma/taidetuvan-avajaiset-2/
LOCATION:Tuukkalan taidetupa\, Joutsantie 1244\, Tuukkala\, 52610
ORGANIZER;CN="Tuukkalan Taidetupa":MAILTO:pirkko.luntta@pp.inet.fi
END:VEVENT
BEGIN:VEVENT
DTSTART;VALUE=DATE:20190626
DTEND;VALUE=DATE:20190628
DTSTAMP:20260422T043933
CREATED:20190614T114636Z
LAST-MODIFIED:20190617T071936Z
UID:18524-1561518000-1561604399@www.hirvensalmi.fi
SUMMARY:Hyvän Mielen Liikuntapäivä
DESCRIPTION:Tule\, Näe ja Koe ympäri Hirvensalmea:\nKirkonkylällä\, Tuukkalassa\, Pöyryssä\, Lahnaniemellä\, Ripatissa\, Väisälänsaaressa\ntapahtuu! \n  \nEsite tapahtumista löytyy tästä!
URL:https://www.hirvensalmi.fi/tapahtuma/hyvan-mielen-liikuntapaiva/
LOCATION:Finland
END:VEVENT
BEGIN:VEVENT
DTSTART;VALUE=DATE:20190624
DTEND;VALUE=DATE:20190626
DTSTAMP:20260422T043933
CREATED:20190103T053028Z
LAST-MODIFIED:20190103T053028Z
UID:8318-1561345200-1561431599@www.hirvensalmi.fi
SUMMARY:Variksenpelätinkisaan ilmoittautuminen vko 26
DESCRIPTION:Hirvensalmen käsityöyhdistys kutsuu kaikki mukaan vuoden 2019 leikkimieliseen variksenpelätinkisaan. Pelättien pystytys myymälän pihalle ( Junnankuja 25 ) viimeistään torstaina 4.7. Kaikki ovat tervetulleita äänestämään parasta pelättiä tervaleppäjuhlien ajan. Paras pelätti palkitaan 3.8. Kansallispukujen tuuletuspiknik päivänä ! Ilmoittauduthan kisaan viimeistään viikolla 26.
URL:https://www.hirvensalmi.fi/tapahtuma/variksenpelatinkisaan-ilmoittautuminen-vko-26/
LOCATION:Junnankuja 25 Hirvensalmi
ORGANIZER;CN="Hirvensalmen k%C3%A4sity%C3%B6yhdistys ry":MAILTO:posti@puulanmanuelli.fi
END:VEVENT
BEGIN:VEVENT
DTSTART;TZID=Europe/Helsinki:20190621T200000
DTEND;TZID=Europe/Helsinki:20190621T233000
DTSTAMP:20260422T043933
CREATED:20190104T110153Z
LAST-MODIFIED:20190620T120250Z
UID:8351-1561147200-1561159800@www.hirvensalmi.fi
SUMMARY:Juhannuskokko
DESCRIPTION:JUHANNUSKOKKO PERUTTU !!\nJuhannuskokko Tuukkalan rannassa. Kokko sytytetään klo 21 (säävaraus). \nJuhannus tapahtuma Tuukkalan vanhalla koululla\, Joutsantie 1212
URL:https://www.hirvensalmi.fi/tapahtuma/juhannuskokko-4/
LOCATION:Tuukkalan ranta
END:VEVENT
BEGIN:VEVENT
DTSTART;TZID=Europe/Helsinki:20190618T180000
DTEND;TZID=Europe/Helsinki:20190618T200000
DTSTAMP:20260422T043933
CREATED:20190103T053048Z
LAST-MODIFIED:20190103T053048Z
UID:8319-1560880800-1560888000@www.hirvensalmi.fi
SUMMARY:HiU:n seurakisat
DESCRIPTION:Sarjat 3 – 15-vuotiaille.
URL:https://www.hirvensalmi.fi/tapahtuma/hiun-seurakisat/
LOCATION:Hirvensalmen urheilukenttä\, Kisatie\, Hirvensalmi\, 52550
ORGANIZER;CN="Hirvensalmen urheilijat":MAILTO:hirvensalmenurheilijat@gmail.com
END:VEVENT
BEGIN:VEVENT
DTSTART;TZID=Europe/Helsinki:20190618T180000
DTEND;TZID=Europe/Helsinki:20190618T193000
DTSTAMP:20260422T043933
CREATED:20190107T052002Z
LAST-MODIFIED:20190516T051104Z
UID:8363-1560880800-1560886200@www.hirvensalmi.fi
SUMMARY:Rakuunasoittokunnan konsertti
DESCRIPTION:Rakuunasoittokunta soittaa Sataman Herkussa 18.6.19 klo 18.00-19.30.
URL:https://www.hirvensalmi.fi/tapahtuma/konsertti/
LOCATION:Sataman herkku\, Hirvensalmentie 22A\, Hirvensalmi\, 52550
ORGANIZER;CN="Hirvensalmen sotaveteraanit ry":MAILTO:pirjo.lehtinen@surffi.fi
END:VEVENT
BEGIN:VEVENT
DTSTART;VALUE=DATE:20190618
DTEND;VALUE=DATE:20190730
DTSTAMP:20260422T043933
CREATED:20190506T050429Z
LAST-MODIFIED:20190506T050429Z
UID:8847-1560826800-1564369199@www.hirvensalmi.fi
SUMMARY:Aistit avoinna -taidenäyttely
DESCRIPTION:AISTIT AVOINNA – Risto Eskelisen 80-vuotisjuhlanäyttely\nGalleria Kissakoski 18.6.-28.7.2019 \nKuvataitelija Risto Eskelinen avaa 80-vuotissyntymäpäivänsä yhteydessä retrospektiivisen taidenäyttelyn Galleria Kissakoskessa sunnuntaina 16.6. Yleisölle näyttely aukeaa tiistaina 18.6. Näyttelyyn on koottu läpileikkaus taiteilijan keskeisestä tuotannosta usean vuosikymmenen ajalta. \nEsillä on maalauksia\, grafiikkaa\, akvarelleja ja krokii-piirroksia sekä käsintehtyjä puukkoja. Näyttelyssä on myös hirvensalmelaisille tuttuja maisemia\, sillä Eskelinen on viihtynyt kesäasukkaana Kissakoskella jo 50 vuoden ajan ja hänen kesäateljeensa sijaitsee vastapäätä Kissakosken tehdasta. \nKuopiolaislähtöinen Risto Eskelinen teki työuransa Helsingissä graafikkona ja on tehnyt taidetta aina kouluajoistaan saakka. Hänen töitään on nähty lukuisissa yhteis- ja yksityisnäyttelyissä eri puolella Suomea ja niitä on myös mm. Vantaan kaupungin ja Kuopion kulttuurihistoriallisen museon kokoelmissa. Hirvensalmen kesäjuhlien taiteilija hän oli 1986\, Kissakoskella hänellä onkin ollut useita näyttelyitä vuodesta 1998 alkaen. \nEskelinen toimi parikymmentä vuotta helsinkiläisen työ- ja näyttelytila Grafiikanpaja Pommarin vetäjänä. Hän on toiminut aktiivisesti grafiikan kurssien järjestäjänä sekä mm. Mäntyharjun kuvataitelijat ry:n grafiikan opettajana. \nEskelinen on Vantaan Taideseuran jäsen ja vietti elokuun 2015 Reykjavikissa taitelijaresidenssissä. Hän tekee edelleen aktiivisesti taidetta ja keskiviikkoiltaisin hänet on nähty elävänmallin piirustuspuuhissa jo 30 vuoden ajan Helsingissä. Hän harrastaa myös käsitöitä\, kuten puutöitä\, entisöintiä ja verhoilua sekä puukkojen taontaa ja valmistusta. \nNäyttelyssä on myynnissä paljon erilaista taidetta\, kuten edullisia grafiikanlehtiä ja krokiipiirroksia kotiin tai lahjaksi. \nLisätietoja näyttelystä antaa Risto Eskelinen\, p. 0400879359\, risto39e@gmail.com \nAISTIT AVOINNA – Risto Eskelisen 80-vuotisjuhlanäyttely\nGalleria Kissakoski\nKissakosken tehdas\nVahvamäentie 42\, 52550 Hirvensalmi\nAvoinna 18.6.-28.7. ti-pe 10-17\, su 12-16
URL:https://www.hirvensalmi.fi/tapahtuma/aistit-avoinna-taidenayttely/
LOCATION:Kissakosken tehdas\, Vahvamäentie 42
ATTACH;FMTTYPE=image/jpeg:https://www.hirvensalmi.fi/wp-content/uploads/2019/05/eskelinen.jpg
END:VEVENT
BEGIN:VEVENT
DTSTART;TZID=Europe/Helsinki:20190615T210000
DTEND;TZID=Europe/Helsinki:20190615T230000
DTSTAMP:20260422T043933
CREATED:20190328T060756Z
LAST-MODIFIED:20190328T060756Z
UID:8661-1560632400-1560639600@www.hirvensalmi.fi
SUMMARY:Kake Randelin
DESCRIPTION:Mitä olisi Herkun kesä ilman Kakea!\nTulkaahan joukolla joraamaan.
URL:https://www.hirvensalmi.fi/tapahtuma/kake-randelin-3/
LOCATION:Ravintola Sataman Herkku\, Hirvensalmentie 22 \, Hirvensalmi\, Finland\, 52550\, Suomi
ATTACH;FMTTYPE=image/jpeg:https://www.hirvensalmi.fi/wp-content/uploads/2019/03/kake.jpg
ORGANIZER;CN="Ravintola Sataman Herkku":MAILTO:marianne@satamanherkku.fi
END:VEVENT
BEGIN:VEVENT
DTSTART;TZID=Europe/Helsinki:20190615T110000
DTEND;TZID=Europe/Helsinki:20190615T140000
DTSTAMP:20260422T043933
CREATED:20190514T051252Z
LAST-MODIFIED:20190514T124114Z
UID:8959-1560596400-1560607200@www.hirvensalmi.fi
SUMMARY:Pop Up-ravintolapäivä
DESCRIPTION:Tervetuloa ruokailemaan ja kahvittelemaan\, noutopöytä klo 11-14. Käteismaksu.\nLapsille pomppulinna!\nArpajaiset ym.\nVietetään mukava hetki yhdessä\, tavataan tutut ja tuntemattomat ja iloitaan kesästä!
URL:https://www.hirvensalmi.fi/tapahtuma/pop-up-ravintolapaiva-3/
LOCATION:Erävainio (ent. Väisälän koulu)\, Väisälänsaarentie\, Hirvensalmi\, 52550
ORGANIZER;CN="V%C3%A4is%C3%A4l%C3%A4nsaaren Martat ry":MAILTO:paula.manninen@hirvensalmi.fi
END:VEVENT
BEGIN:VEVENT
DTSTART;TZID=Europe/Helsinki:20190610T130000
DTEND;TZID=Europe/Helsinki:20190610T150000
DTSTAMP:20260422T043933
CREATED:20190102T055929Z
LAST-MODIFIED:20190102T055929Z
UID:8272-1560171600-1560178800@www.hirvensalmi.fi
SUMMARY:Tehdään yhdessä käsitöitä !
DESCRIPTION:Tehdään yhdessä käsitöitä-päivinä vaihtuvia teemoja. Voit ottaa myös oman käsityön mukaan. Kaikki tervetulleita !
URL:https://www.hirvensalmi.fi/tapahtuma/tehdaan-yhdessa-kasitoita-23/
LOCATION:Junnankuja 25 Hirvensalmi
ORGANIZER;CN="Hirvensalmen k%C3%A4sity%C3%B6yhdistys ry":MAILTO:posti@puulanmanuelli.fi
END:VEVENT
END:VCALENDAR