BEGIN:VCALENDAR
VERSION:2.0
PRODID:-//Hirvensalmi - ECPv6.6.4.2//NONSGML v1.0//EN
CALSCALE:GREGORIAN
METHOD:PUBLISH
X-WR-CALNAME:Hirvensalmi
X-ORIGINAL-URL:https://www.hirvensalmi.fi
X-WR-CALDESC:Tapahtumat Hirvensalmi
REFRESH-INTERVAL;VALUE=DURATION:PT1H
X-Robots-Tag:noindex
X-PUBLISHED-TTL:PT1H
BEGIN:VTIMEZONE
TZID:Europe/Helsinki
BEGIN:DAYLIGHT
TZOFFSETFROM:+0200
TZOFFSETTO:+0300
TZNAME:EEST
DTSTART:20180325T010000
END:DAYLIGHT
BEGIN:STANDARD
TZOFFSETFROM:+0300
TZOFFSETTO:+0200
TZNAME:EET
DTSTART:20181028T010000
END:STANDARD
BEGIN:DAYLIGHT
TZOFFSETFROM:+0200
TZOFFSETTO:+0300
TZNAME:EEST
DTSTART:20190331T010000
END:DAYLIGHT
BEGIN:STANDARD
TZOFFSETFROM:+0300
TZOFFSETTO:+0200
TZNAME:EET
DTSTART:20191027T010000
END:STANDARD
END:VTIMEZONE
BEGIN:VEVENT
DTSTART;TZID=Europe/Helsinki:20190608T110000
DTEND;TZID=Europe/Helsinki:20190608T150000
DTSTAMP:20260422T062141
CREATED:20190104T105419Z
LAST-MODIFIED:20190104T105419Z
UID:8348-1559991600-1560006000@www.hirvensalmi.fi
SUMMARY:Avoimet kylät -päivä ja Kesäpuodin avajaiset
DESCRIPTION:Kesäpuodin kesäkauden avajaiset Tuukkalan koululla. Kahvio\, puoti ja kirppis avoinna.
URL:https://www.hirvensalmi.fi/tapahtuma/avoimet-kylat-paiva-ja-kesapuodin-avajaiset/
LOCATION:Tuukkalan koulu\, Joutsantie 1212\, Tuukkala\, 52610\, Suomi
END:VEVENT
BEGIN:VEVENT
DTSTART;VALUE=DATE:20190601
DTEND;VALUE=DATE:20190902
DTSTAMP:20260422T062141
CREATED:20190306T120558Z
LAST-MODIFIED:20190328T061014Z
UID:8600-1559358000-1567306799@www.hirvensalmi.fi
SUMMARY:Sydämet sykkivät puulan rannalla kesällä 2019!
DESCRIPTION:Sydämet sykkivät Puulan rannalla\, toivottaen vierailijat tervetulleiksi 1.6 – 31.8.2019. Sydämiä löytyy niin aallonmurtajalta kuin Sataman Herkun viereisestä rantapuistosta. Sydänpuiston ovat toteuttaneet Tuula Suojarinne ja Tuula Ranta. Näyttelyn löydät osoitteesta Hirvensalmentie 22\, 52550 Hirvensalmi\, Tervetuloa.
URL:https://www.hirvensalmi.fi/tapahtuma/sydammet-sykkivat-puulan-rannalla-kesalla-2019/
ATTACH;FMTTYPE=image/jpeg:https://www.hirvensalmi.fi/wp-content/uploads/2019/03/sydän-2.jpg
END:VEVENT
BEGIN:VEVENT
DTSTART;VALUE=DATE:20190601
DTEND;VALUE=DATE:20190819
DTSTAMP:20260422T062141
CREATED:20190328T060925Z
LAST-MODIFIED:20190328T060925Z
UID:8669-1559358000-1566097199@www.hirvensalmi.fi
SUMMARY:Pronssisia veistoksia esillä Makasiinissä kesällä 2019!
DESCRIPTION:Tuula Suojarinteen veistoksia esillä kesällä 2019 makasiinissa. Näyttelyyn vapaa pääsy.
URL:https://www.hirvensalmi.fi/tapahtuma/pronssisia-veistoksia-esilla-makasiinissa-kesalla-2019/
LOCATION:Cafe Rantamakasiini\, Hirvensalmentie 10\, Hirvensalmi\, 52550
ATTACH;FMTTYPE=image/jpeg:https://www.hirvensalmi.fi/wp-content/uploads/2019/03/sydän3.jpg
END:VEVENT
BEGIN:VEVENT
DTSTART;TZID=Europe/Helsinki:20190525T110000
DTEND;TZID=Europe/Helsinki:20190525T130000
DTSTAMP:20260422T062141
CREATED:20190416T051715Z
LAST-MODIFIED:20190416T051715Z
UID:8780-1558782000-1558789200@www.hirvensalmi.fi
SUMMARY:Suonne Symposium
DESCRIPTION:Puheenvuorot Suonnetta koskien eri aihepiireistä\, mm. kalastuksesta\, vapaa-ajan vietosta.\nKeskustelu Suonteen tuomista mahdollisuuksista vapaa-aikaa\, virkistyskäyttöä\, elinkeinoja ja kunnan tunnettavuutta ajatellen.
URL:https://www.hirvensalmi.fi/tapahtuma/suonne-symposium/
LOCATION:Tuukkalan taidetupa\, Joutsantie 1244\, Tuukkala\, 52610
END:VEVENT
BEGIN:VEVENT
DTSTART;TZID=Europe/Helsinki:20190514T180000
DTEND;TZID=Europe/Helsinki:20190514T190000
DTSTAMP:20260422T062141
CREATED:20190116T105403Z
LAST-MODIFIED:20190116T105403Z
UID:8442-1557856800-1557860400@www.hirvensalmi.fi
SUMMARY:Maastojuoksu Cup
DESCRIPTION:Sarjat 5-15 vuotiaille
URL:https://www.hirvensalmi.fi/tapahtuma/maastojuoksu-cup-10/
LOCATION:Hirvensalmen urheilukenttä\, Kisatie\, Hirvensalmi\, 52550
ORGANIZER;CN="Hirvensalmen urheilijat":MAILTO:hirvensalmenurheilijat@gmail.com
END:VEVENT
BEGIN:VEVENT
DTSTART;TZID=Europe/Helsinki:20190507T180000
DTEND;TZID=Europe/Helsinki:20190507T190000
DTSTAMP:20260422T062141
CREATED:20190116T105351Z
LAST-MODIFIED:20190116T105351Z
UID:8441-1557252000-1557255600@www.hirvensalmi.fi
SUMMARY:Maastojuoksu Cup
DESCRIPTION:Sarjat 5-15 vuotiaille
URL:https://www.hirvensalmi.fi/tapahtuma/maastojuoksu-cup-9/
LOCATION:Hirvensalmen urheilukenttä\, Kisatie\, Hirvensalmi\, 52550
ORGANIZER;CN="Hirvensalmen urheilijat":MAILTO:hirvensalmenurheilijat@gmail.com
END:VEVENT
BEGIN:VEVENT
DTSTART;TZID=Europe/Helsinki:20190506T180000
DTEND;TZID=Europe/Helsinki:20190506T200000
DTSTAMP:20260422T062141
CREATED:20190429T051124Z
LAST-MODIFIED:20190429T051124Z
UID:8817-1557165600-1557172800@www.hirvensalmi.fi
SUMMARY:Ruusukävely ma 6.5.2019
DESCRIPTION:Alkulämmittely ennen lenkkiä ja mehutarjoilu ja ruusut osallistujille.\nTervetuloa!
URL:https://www.hirvensalmi.fi/tapahtuma/ruusukavely-ma-6-5-2019/
LOCATION:Seurantalo\, kirkonkylä\, Kirkonkylä\, Hirvensalmi
ORGANIZER;CN="Kirkonkyl%C3%A4n martat":MAILTO:R.kaasinen@hotmail.fi
END:VEVENT
BEGIN:VEVENT
DTSTART;TZID=Europe/Helsinki:20190502T180000
DTEND;TZID=Europe/Helsinki:20190502T190000
DTSTAMP:20260422T062141
CREATED:20190116T105335Z
LAST-MODIFIED:20190116T105335Z
UID:8440-1556820000-1556823600@www.hirvensalmi.fi
SUMMARY:Maastojuoksu Cup
DESCRIPTION:Sarjat 5-15 vuotiaille
URL:https://www.hirvensalmi.fi/tapahtuma/maastojuoksu-cup-8/
LOCATION:Hirvensalmen urheilukenttä\, Kisatie\, Hirvensalmi\, 52550
ORGANIZER;CN="Hirvensalmen urheilijat":MAILTO:hirvensalmenurheilijat@gmail.com
END:VEVENT
BEGIN:VEVENT
DTSTART;TZID=Europe/Helsinki:20190429T130000
DTEND;TZID=Europe/Helsinki:20190429T150000
DTSTAMP:20260422T062141
CREATED:20190102T055851Z
LAST-MODIFIED:20190102T055851Z
UID:8270-1556542800-1556550000@www.hirvensalmi.fi
SUMMARY:Tehdään yhdessä käsitöitä !
DESCRIPTION:Tehdään yhdessä käsitöitä-päivinä vaihtuvia teemoja. Voit ottaa myös oman käsityön mukaan. Kaikki tervetulleita !
URL:https://www.hirvensalmi.fi/tapahtuma/tehdaan-yhdessa-kasitoita-21/
LOCATION:Junnankuja 25 Hirvensalmi
ORGANIZER;CN="Hirvensalmen k%C3%A4sity%C3%B6yhdistys ry":MAILTO:posti@puulanmanuelli.fi
END:VEVENT
BEGIN:VEVENT
DTSTART;TZID=Europe/Helsinki:20190424T163000
DTEND;TZID=Europe/Helsinki:20190424T180000
DTSTAMP:20260422T062141
CREATED:20190328T060903Z
LAST-MODIFIED:20190328T060903Z
UID:8666-1556123400-1556128800@www.hirvensalmi.fi
SUMMARY:Pihapeli- ja hyvinvointi-ilta
DESCRIPTION:Pihapeli- ja hyvinvointi-ilta kirjastolla 24.4.2019\nklo 16.30 – 18\nTervetuloa!\nHyvinvointikysymyksiin vastaa Hannu Inkeroinen.\nPihapeleissä neuvoo Hannu Reinikainen.\nTestaa kirjaston lainattavat liikuntavälineet!
URL:https://www.hirvensalmi.fi/tapahtuma/pihapeli-ja-hyvinvointi-ilta/
LOCATION:Hirvensalmen kirjasto\, Koulutie \, Hirvensalmi
END:VEVENT
BEGIN:VEVENT
DTSTART;TZID=Europe/Helsinki:20190417T110000
DTEND;TZID=Europe/Helsinki:20190417T150000
DTSTAMP:20260422T062141
CREATED:20190415T063041Z
LAST-MODIFIED:20190415T063041Z
UID:8776-1555498800-1555513200@www.hirvensalmi.fi
SUMMARY:Pääsiäismyyjäiset Puulan Manuellissa !
DESCRIPTION:Hirvensalmen Käsityöyhdistys järjestää pääsiäismyyjäiset käsityömyymälä/kudontapaja Puulan Manuellissa keskiviikkona 17.4.2019 Myyjäisissä herkullisia kotileivonnaisia pääsiäiseen\, arpoja\, oksien tunnistusta\, askartelua ja kahvipannukin on kuumana. Tervetuloa !
URL:https://www.hirvensalmi.fi/tapahtuma/paasiaismyyjaiset-puulan-manuellissa-2/
LOCATION:Junnankuja 25 Hirvensalmi
ORGANIZER;CN="Hirvensalmen k%C3%A4sity%C3%B6yhdistys ry":MAILTO:posti@puulanmanuelli.fi
END:VEVENT
BEGIN:VEVENT
DTSTART;TZID=Europe/Helsinki:20190417T080000
DTEND;TZID=Europe/Helsinki:20190417T090000
DTSTAMP:20260422T062141
CREATED:20190409T064936Z
LAST-MODIFIED:20190409T064955Z
UID:8743-1555488000-1555491600@www.hirvensalmi.fi
SUMMARY:Ammattiin! Etelä-Savon toisen asteen kehittämishanke keskustelutilaisuus työnantajille
DESCRIPTION:
URL:https://www.hirvensalmi.fi/tapahtuma/ammattiin-etela-savon-toisen-asteen-kehittamishanke-keskustelutilaisuus-tyonantajille/
LOCATION:Kukka-Kahvila
END:VEVENT
BEGIN:VEVENT
DTSTART;TZID=Europe/Helsinki:20190409T091000
DTEND;TZID=Europe/Helsinki:20190409T105000
DTSTAMP:20260422T062141
CREATED:20190115T111240Z
LAST-MODIFIED:20190115T111240Z
UID:8425-1554801000-1554807000@www.hirvensalmi.fi
SUMMARY:Satutuokio kirjastolla
DESCRIPTION:Hirvensalmen kirjastolla kokoonnutaan satujen parissa kerran kuukaudessa tiistaisin klo 9.10-9.55 ja 10.05-10.50 kahtena peräkkäisenä\, samansisältöisenä satutuokiona. Kaikille avoimissa tuokioissa tutustutaan tarinoihin luovan toiminnan siivittämänä.\nKesto n. 45 min. Vapaa pääsy! \nTi 12.2. klo 9.10-9.55 ja 10.05-10.50 Pingviinielämää\nTi 12.3. klo 9.10-9.55 ja 10.05-10.50 Kummat kirjaimet\nTi 9.4. klo 9.10-9.55 ja 10.05-10.50 Teatterileikki \nJärj. Lastenkulttuurikeskus Verso / Hirvensalmen kunta
URL:https://www.hirvensalmi.fi/tapahtuma/satutuokio-kirjastolla-2/
LOCATION:Hirvensalmen kirjasto\, Koulutie 7\, Hirvensalmi\, Etelä-Savo\, 52550\, Suomi
ATTACH;FMTTYPE=image/jpeg:https://www.hirvensalmi.fi/wp-content/uploads/2019/01/satutuokio_kevät2019_banneri-2.jpg
ORGANIZER;CN="Lastenkulttuurikeskus Verso":MAILTO:julia.vatanen@soisalo-opisto.fi
END:VEVENT
BEGIN:VEVENT
DTSTART;VALUE=DATE:20190406
DTEND;VALUE=DATE:20190408
DTSTAMP:20260422T062141
CREATED:20190103T052957Z
LAST-MODIFIED:20190103T052957Z
UID:8316-1554519600-1554605999@www.hirvensalmi.fi
SUMMARY:Matka Jyväskylän kädentaitomessuille !
DESCRIPTION:Hirvensalmen käsityöyhdistys järjestää 6.4.2019 matkan Jyväskylän kädentaitomessuille. Tarkemmat tiedot\, hinnat ja aikataulut ilmoitamme hieman myöhemmin. Matkalle ovat kaikki tervetulleita !
URL:https://www.hirvensalmi.fi/tapahtuma/matka-jyvaskylan-kadentaitomessuille/
LOCATION:Junnankuja 25 Hirvensalmi
ORGANIZER;CN="Hirvensalmen k%C3%A4sity%C3%B6yhdistys ry":MAILTO:posti@puulanmanuelli.fi
END:VEVENT
BEGIN:VEVENT
DTSTART;VALUE=DATE:20190330
DTEND;VALUE=DATE:20190401
DTSTAMP:20260422T062141
CREATED:20190102T055817Z
LAST-MODIFIED:20190102T055817Z
UID:8267-1553914800-1554001199@www.hirvensalmi.fi
SUMMARY:Pilkkikipailut Väisälänsaaressa Lutakonlahdella (Laivalaituri)
DESCRIPTION:Pilkkikilpailut \, avoin kaikille\,sarjat miehet\, naiset\, lapset alle 15 v ja joukkuekilpailu kiertopalkinnosta 3 hengen joukkueilla.\nOsallistumismaksu. miehet ja naiset 10 €\, lapset 5 €.\nKilpailuaika 4 tuntia (klo.10-14)
URL:https://www.hirvensalmi.fi/tapahtuma/pilkkikipailut-vaisalansaaressa-lutakonlahdella-laivalaituri/
LOCATION:Lutakontie Laivalaituri\, Väisälänsaari Lutakontie\, Hirvensalmi\, 52550\, Suomi
END:VEVENT
BEGIN:VEVENT
DTSTART;TZID=Europe/Helsinki:20190325T130000
DTEND;TZID=Europe/Helsinki:20190325T150000
DTSTAMP:20260422T062141
CREATED:20190102T055835Z
LAST-MODIFIED:20190102T055835Z
UID:8269-1553518800-1553526000@www.hirvensalmi.fi
SUMMARY:Tehdään yhdessä käsitöitä !
DESCRIPTION:Tehdään yhdessä käsitöitä-päivinä vaihtuvia teemoja. Voit ottaa myös oman käsityön mukaan. Kaikki tervetulleita !
URL:https://www.hirvensalmi.fi/tapahtuma/tehdaan-yhdessa-kasitoita-20/
LOCATION:Junnankuja 25 Hirvensalmi
ORGANIZER;CN="Hirvensalmen k%C3%A4sity%C3%B6yhdistys ry":MAILTO:posti@puulanmanuelli.fi
END:VEVENT
BEGIN:VEVENT
DTSTART;TZID=Europe/Helsinki:20190322T080000
DTEND;TZID=Europe/Helsinki:20190322T170000
DTSTAMP:20260422T062141
CREATED:20190328T060816Z
LAST-MODIFIED:20190328T060816Z
UID:8663-1553241600-1553274000@www.hirvensalmi.fi
SUMMARY:Yölintu
DESCRIPTION:Mitä olisi Herkun kesä ilman Yölintua\, ei mitään.
URL:https://www.hirvensalmi.fi/tapahtuma/yolintu-2/
LOCATION:Ravintola Sataman Herkku\, Hirvensalmentie 22 \, Hirvensalmi\, Finland\, 52550\, Suomi
ORGANIZER;CN="Ravintola Sataman Herkku":MAILTO:marianne@satamanherkku.fi
END:VEVENT
BEGIN:VEVENT
DTSTART;TZID=Europe/Helsinki:20190318T130000
DTEND;TZID=Europe/Helsinki:20190318T150000
DTSTAMP:20260422T062141
CREATED:20190102T055749Z
LAST-MODIFIED:20190102T055749Z
UID:8266-1552914000-1552921200@www.hirvensalmi.fi
SUMMARY:Pääsiäisaskartelun info-päivä !
DESCRIPTION:Tervetuloa tutustumaan pääsiäisaskartelukursseihin ja materiaaleihin !
URL:https://www.hirvensalmi.fi/tapahtuma/paasiaisaskartelun-info-paiva/
LOCATION:Junnankuja 25 Hirvensalmi
ORGANIZER;CN="Hirvensalmen k%C3%A4sity%C3%B6yhdistys ry":MAILTO:posti@puulanmanuelli.fi
END:VEVENT
BEGIN:VEVENT
DTSTART;TZID=Europe/Helsinki:20190312T091000
DTEND;TZID=Europe/Helsinki:20190312T105000
DTSTAMP:20260422T062141
CREATED:20190115T111227Z
LAST-MODIFIED:20190115T111227Z
UID:8423-1552381800-1552387800@www.hirvensalmi.fi
SUMMARY:Satutuokio kirjastolla
DESCRIPTION:Hirvensalmen kirjastolla kokoonnutaan satujen parissa kerran kuukaudessa tiistaisin klo 9.10-9.55 ja 10.05-10.50 kahtena peräkkäisenä\, samansisältöisenä satutuokiona. Kaikille avoimissa tuokioissa tutustutaan tarinoihin luovan toiminnan siivittämänä.\nKesto n. 45 min. Vapaa pääsy! \nTi 12.2. klo 9.10-9.55 ja 10.05-10.50 Pingviinielämää\nTi 12.3. klo 9.10-9.55 ja 10.05-10.50 Kummat kirjaimet\nTi 9.4. klo 9.10-9.55 ja 10.05-10.50 Teatterileikki \nJärj. Lastenkulttuurikeskus Verso / Hirvensalmen kunta
URL:https://www.hirvensalmi.fi/tapahtuma/satutuokio-kirjastolla/
LOCATION:Hirvensalmen kirjasto\, Koulutie 7\, Hirvensalmi\, Etelä-Savo\, 52550\, Suomi
ATTACH;FMTTYPE=image/jpeg:https://www.hirvensalmi.fi/wp-content/uploads/2019/01/satutuokio_kevät2019_banneri-1.jpg
ORGANIZER;CN="Lastenkulttuurikeskus Verso":MAILTO:julia.vatanen@soisalo-opisto.fi
END:VEVENT
BEGIN:VEVENT
DTSTART;TZID=Europe/Helsinki:20190311T180000
DTEND;TZID=Europe/Helsinki:20190311T200000
DTSTAMP:20260422T062141
CREATED:20190307T102954Z
LAST-MODIFIED:20190307T102954Z
UID:8608-1552327200-1552334400@www.hirvensalmi.fi
SUMMARY:Kirkonkylän martat: Marttajärjestö 120 v
DESCRIPTION:Juhlistamme marttajärjestön120-vuotistaivalta kunnanviraston takkahuoneessa täytekakkukahveilla ma 11.3.2019 klo 18 alkaen\, muistelemme oman yhdistyksemme vaiheita ja katselemme kuvia ja vieraskirjoja.\nHalukkaat voivat ennen kahvitilaisuutta tulla kirkon etupihalle klo 17.30: viemme muistokynttilät kolmen poisnukkuneen\, pitkäaikaisen marttajäsenemme haudalle. Tervetuloa!
URL:https://www.hirvensalmi.fi/tapahtuma/kirkonkylan-martat-marttajarjesto-120-v/
LOCATION:Kunnanviraston takkahuone
ORGANIZER;CN="Kirkonkyl%C3%A4n martat":MAILTO:R.kaasinen@hotmail.fi
END:VEVENT
BEGIN:VEVENT
DTSTART;TZID=Europe/Helsinki:20190303T120000
DTEND;TZID=Europe/Helsinki:20190303T150000
DTSTAMP:20260422T062141
CREATED:20190227T081821Z
LAST-MODIFIED:20190227T081821Z
UID:8562-1551614400-1551625200@www.hirvensalmi.fi
SUMMARY:Laskiaisrieha
DESCRIPTION:Laskiaisrieha\, ks. kuva
URL:https://www.hirvensalmi.fi/tapahtuma/laskiaisrieha/
LOCATION:Haukarting\, Otavantie 229\, Hirvensalmi\, 52550
ATTACH;FMTTYPE=image/jpeg:https://www.hirvensalmi.fi/wp-content/uploads/2019/02/laskiais.jpg
ORGANIZER;CN="Hirvensalmen Autourheilijat":MAILTO:e-mail:info@haukarting.fi
END:VEVENT
BEGIN:VEVENT
DTSTART;TZID=Europe/Helsinki:20190225T130000
DTEND;TZID=Europe/Helsinki:20190225T150000
DTSTAMP:20260422T062141
CREATED:20190102T055731Z
LAST-MODIFIED:20190102T055731Z
UID:8265-1551099600-1551106800@www.hirvensalmi.fi
SUMMARY:Tehdään yhdessä käsitöitä !
DESCRIPTION:Vuoden aikana vaihtuvia teemoja. Voit ottaa myös oman käsityön mukaan. Kaikki tervetulleita !
URL:https://www.hirvensalmi.fi/tapahtuma/tehdaan-yhdessa-kasitoita-19/
LOCATION:Junnankuja 25 Hirvensalmi
ORGANIZER;CN="Hirvensalmen k%C3%A4sity%C3%B6yhdistys ry":MAILTO:posti@puulanmanuelli.fi
END:VEVENT
BEGIN:VEVENT
DTSTART;TZID=Europe/Helsinki:20190214T170000
DTEND;TZID=Europe/Helsinki:20190214T200000
DTSTAMP:20260422T062141
CREATED:20190102T060341Z
LAST-MODIFIED:20190102T060341Z
UID:8287-1550163600-1550174400@www.hirvensalmi.fi
SUMMARY:Pelastuspalvelun peruskurssi - Elomaan koulu 17-20
DESCRIPTION:Kurssilla pääset tutustumaan Vapepan (vapaaehtoinen pelastuspalvelu) toimintaan. Lisätietoja kurssista antaa Juha Häkkinen 050 554 0281\, junnumanni@gmail.com. Paikkana luokka 4 Elomaan koululla. Puulan järvipelastajat ja Veneseura suosittelevat osallistumista.\nhttps://www.opistopalvelut.fi/mikkeli/course.php?t=8990
URL:https://www.hirvensalmi.fi/tapahtuma/pelastuspalvelun-peruskurssi-elomaan-koulu-17-20/
LOCATION:Elomaan koulu\, Koulutie\, 52550 Hirvensalmi\, Hirvensalmi\, 52550
END:VEVENT
BEGIN:VEVENT
DTSTART;TZID=Europe/Helsinki:20190214T110000
DTEND;TZID=Europe/Helsinki:20190214T160000
DTSTAMP:20260422T062142
CREATED:20190102T055710Z
LAST-MODIFIED:20190102T055710Z
UID:8264-1550142000-1550160000@www.hirvensalmi.fi
SUMMARY:Ystävänpäivän kahvitarjoilu !
DESCRIPTION:Tervetuloa ystävänpäivä kahville yksin taikka yhdessä ystävän kanssa !
URL:https://www.hirvensalmi.fi/tapahtuma/ystavanpaivan-kahvitarjoilu/
LOCATION:Junnankuja 25 Hirvensalmi
ORGANIZER;CN="Hirvensalmen k%C3%A4sity%C3%B6yhdistys ry":MAILTO:posti@puulanmanuelli.fi
END:VEVENT
BEGIN:VEVENT
DTSTART;TZID=Europe/Helsinki:20190212T091000
DTEND;TZID=Europe/Helsinki:20190212T105000
DTSTAMP:20260422T062142
CREATED:20190115T111212Z
LAST-MODIFIED:20190115T111212Z
UID:8421-1549962600-1549968600@www.hirvensalmi.fi
SUMMARY:Satutuokiot kirjastolla
DESCRIPTION:Hirvensalmen kirjastolla kokoonnutaan satujen parissa kerran kuukaudessa tiistaisin klo 9.10-9.55 ja 10.05-10.50 kahtena peräkkäisenä\, samansisältöisenä satutuokiona. Kaikille avoimissa tuokioissa tutustutaan tarinoihin luovan toiminnan siivittämänä.\nKesto n. 45 min. Vapaa pääsy! \nTi 12.2. klo 9.10-9.55 ja 10.05-10.50 Pingviinielämää\nTi 12.3. klo 9.10-9.55 ja 10.05-10.50 Kummat kirjaimet\nTi 9.4. klo 9.10-9.55 ja 10.05-10.50 Teatterileikki \nJärj. Lastenkulttuurikeskus Verso / Hirvensalmen kunta
URL:https://www.hirvensalmi.fi/tapahtuma/satutuokiot-kirjastolla/
LOCATION:Hirvensalmen kirjasto\, Koulutie 7\, Hirvensalmi\, Etelä-Savo\, 52550\, Suomi
ATTACH;FMTTYPE=image/jpeg:https://www.hirvensalmi.fi/wp-content/uploads/2019/01/satutuokio_kevät2019_banneri.jpg
ORGANIZER;CN="Lastenkulttuurikeskus Verso":MAILTO:julia.vatanen@soisalo-opisto.fi
END:VEVENT
BEGIN:VEVENT
DTSTART;TZID=Europe/Helsinki:20190128T130000
DTEND;TZID=Europe/Helsinki:20190128T150000
DTSTAMP:20260422T062142
CREATED:20190102T055645Z
LAST-MODIFIED:20190102T055656Z
UID:8262-1548680400-1548687600@www.hirvensalmi.fi
SUMMARY:Tehdään yhdessä käsitöitä !
DESCRIPTION:Vuonna 2019 kokoonnumme joka kuukauden viimeinen maanantai ( poikkeuksena kesäkuun 10.päivä ja joulukuun 9.päivä) Vaihtuvien teemojen ja ideoiden merkeissä Junnankuja 25 klo.13 Tapahtuma on maksuton ja kaikki ovat tervetulleita ! Tammikuun teemana sydämet ja ystävänpäivä ! Seuraathan ilmoittelua sivuillamme www.puulanmanuelli.fi ja www.facebook.com/puulanmanuelli
URL:https://www.hirvensalmi.fi/tapahtuma/tehdaan-yhdessa-kasitoita-18/
LOCATION:Junnankuja 25 Hirvensalmi
ATTACH;FMTTYPE=image/jpeg:https://www.hirvensalmi.fi/wp-content/uploads/2018/12/2018-12-27-15.03.25.jpg
ORGANIZER;CN="Hirvensalmen k%C3%A4sity%C3%B6yhdistys ry":MAILTO:posti@puulanmanuelli.fi
END:VEVENT
BEGIN:VEVENT
DTSTART;TZID=Europe/Helsinki:20190116T080000
DTEND;TZID=Europe/Helsinki:20190116T170000
DTSTAMP:20260422T062142
CREATED:20190117T053936Z
LAST-MODIFIED:20190117T053936Z
UID:8446-1547625600-1547658000@www.hirvensalmi.fi
SUMMARY:Tarinatuokio
DESCRIPTION:Jokainen meistä on ainutlaatuinen. Tarinoita hyväksymisestä\, toisen kunnioittamisesta ja yhdenvertaisuudesta. Tule kuuntelemaan! Lisäksi tietoa selviytyjät-hankkeesta ja Mikkelin seudun omaishoitajat ja läheiset Ry:n toiminnoista!
URL:https://www.hirvensalmi.fi/tapahtuma/tarinatuokio/
LOCATION:Hirvensalmen kirjasto\, Koulutie 7\, Hirvensalmi\, Etelä-Savo\, 52550\, Suomi
END:VEVENT
BEGIN:VEVENT
DTSTART;TZID=Europe/Helsinki:20181210T130000
DTEND;TZID=Europe/Helsinki:20181210T150000
DTSTAMP:20260422T062142
CREATED:20180102T053931Z
LAST-MODIFIED:20180102T053931Z
UID:6655-1544446800-1544454000@www.hirvensalmi.fi
SUMMARY:Tehdään yhdessä käsitöitä !
DESCRIPTION:Nappaa matkaan jokin keskeneräinen taikka lankakerä ja aloita uutta. Vaihdetaan ideoita ja ajatuksia.
URL:https://www.hirvensalmi.fi/tapahtuma/tehdaan-yhdessa-kasitoita-7/
LOCATION:Junnankuja 25
ORGANIZER;CN="Hirvensalmen k%C3%A4sity%C3%B6yhdistys ry":MAILTO:posti@puulanmanuelli.fi
END:VEVENT
BEGIN:VEVENT
DTSTART;TZID=Europe/Helsinki:20181208T160000
DTEND;TZID=Europe/Helsinki:20181208T200000
DTSTAMP:20260422T062142
CREATED:20181108T101655Z
LAST-MODIFIED:20181108T101655Z
UID:8064-1544284800-1544299200@www.hirvensalmi.fi
SUMMARY:Hirvensalmen marttojen pikkujoulut
DESCRIPTION:Tuttu jouluateria: kinkkua\, laatikot\, salaatit yms.\nMuut Hirvensalmen marttayhdistykset tervetuloa viettämään pikkujoulua kanssamme.\nYhdistykset: ilmoittakaa osallistujat ja maksakaa suoraan Harjulaan.\nMuistakaa erikoisruokavaliot. Kumppanit mukaan\, hinta sama kuin martoilla.\nKk-martat: ilmoittautuminen ja tiedustelut ke 28.11.18 mennessä: pj. Ritva Kaasinen p. 050 530 7801
URL:https://www.hirvensalmi.fi/tapahtuma/hirvensalmen-marttojen-pikkujoulut/
LOCATION:Harjulan Kievari\, Joutsantie 1316\, Tuukkala\, 52610
ORGANIZER;CN="Kirkonkyl%C3%A4n martat":MAILTO:R.kaasinen@hotmail.fi
END:VEVENT
BEGIN:VEVENT
DTSTART;TZID=Europe/Helsinki:20181204T110000
DTEND;TZID=Europe/Helsinki:20181204T160000
DTSTAMP:20260422T062142
CREATED:20180102T053951Z
LAST-MODIFIED:20181126T103230Z
UID:6654-1543921200-1543939200@www.hirvensalmi.fi
SUMMARY:Joulupuuroa ja kotileivonnaisia
DESCRIPTION:Lahjatavarapuoti Puulan Manuellissa klo 11 – 16 puuropäivä ja herkullisia kotileivonnaisia joulun odotukseen.\nMyös arpoja ja tähti-pajassa voit askarrella joulukoristeita\, pajamaksu 2 € Kaikki tervetulleita !
URL:https://www.hirvensalmi.fi/tapahtuma/joulupuuro-ja-kahvitarjoilu-puulan-manuellissa/
LOCATION:Junnankuja 25
ORGANIZER;CN="Hirvensalmen k%C3%A4sity%C3%B6yhdistys ry":MAILTO:posti@puulanmanuelli.fi
END:VEVENT
END:VCALENDAR