BEGIN:VCALENDAR
VERSION:2.0
PRODID:-//Hirvensalmi - ECPv6.6.4.2//NONSGML v1.0//EN
CALSCALE:GREGORIAN
METHOD:PUBLISH
X-ORIGINAL-URL:https://www.hirvensalmi.fi
X-WR-CALDESC:Tapahtumat Hirvensalmi
REFRESH-INTERVAL;VALUE=DURATION:PT1H
X-Robots-Tag:noindex
X-PUBLISHED-TTL:PT1H
BEGIN:VTIMEZONE
TZID:Europe/Helsinki
BEGIN:DAYLIGHT
TZOFFSETFROM:+0200
TZOFFSETTO:+0300
TZNAME:EEST
DTSTART:20180325T010000
END:DAYLIGHT
BEGIN:STANDARD
TZOFFSETFROM:+0300
TZOFFSETTO:+0200
TZNAME:EET
DTSTART:20181028T010000
END:STANDARD
END:VTIMEZONE
BEGIN:VEVENT
DTSTART;TZID=Europe/Helsinki:20180724T170000
DTEND;TZID=Europe/Helsinki:20180724T190000
DTSTAMP:20260422T095817
CREATED:20180621T044828Z
LAST-MODIFIED:20180621T044828Z
UID:7617-1532451600-1532458800@www.hirvensalmi.fi
SUMMARY:Nuorten onkikilpailut
DESCRIPTION:Nuorten onkikilpailut S-Marketin rannassa. Sarjat alle 6 v. alle 9 v. alle 12 v. ja alle 15 v.\nEi osanottomaksua. Kaikki palkitaan-\nTervetuloa!
URL:https://www.hirvensalmi.fi/tapahtuma/nuorten-onkikilpailut/
LOCATION:S-marketin ranta
ORGANIZER;CN="Hirvensalmen Kalamiehet ry":MAILTO:reijo.tanttu@surffi.fi
END:VEVENT
BEGIN:VEVENT
DTSTART;TZID=Europe/Helsinki:20180721T190000
DTEND;TZID=Europe/Helsinki:20180721T230000
DTSTAMP:20260422T095817
CREATED:20180102T054855Z
LAST-MODIFIED:20180102T054855Z
UID:6622-1532199600-1532214000@www.hirvensalmi.fi
SUMMARY:Tanssit Karhupaviljongissa Väisälänsaaressa
DESCRIPTION:Iltamat koko perheelle\, ohjelmassa elävä tanssimusiikki\, kilpailua\, arpoja \, puhvetti.\nIltamien kesto 4 tuntia klo.19.00-23.00.
URL:https://www.hirvensalmi.fi/tapahtuma/tanssit-karhupaviljongissa-vaisalansaaressa/
LOCATION:Etelä-Savo
ORGANIZER;CN="V%C3%A4is%C3%A4l%C3%A4n Kyl%C3%A4yhdistys ry":MAILTO:jouko.turunen@ssvpk.net
END:VEVENT
BEGIN:VEVENT
DTSTART;TZID=Europe/Helsinki:20180721T110000
DTEND;TZID=Europe/Helsinki:20180721T140000
DTSTAMP:20260422T095817
CREATED:20180605T093056Z
LAST-MODIFIED:20180605T093056Z
UID:7513-1532170800-1532181600@www.hirvensalmi.fi
SUMMARY:Toripäivä Ripatissa
DESCRIPTION:Toiminnallinen toritapahtuma.\n* Ripatin Marttojen kahvio.\n* Pihaleikkejä kaikenikäisille.\n* Tuotemyyntiä\n* Arpajaiset\n* Kirpputori. Myyntipaikkavaraukset 9.7. mennessä puh. 0405254916 Seija\n* Lentopallo-ottelu kyläläiset/kesäasukkaat
URL:https://www.hirvensalmi.fi/tapahtuma/toripaiva-ripatissa-2/
LOCATION:Ripatin Seuratalo\, Hämeenmäentie 412\, Hirvensalmi\, 52550
END:VEVENT
BEGIN:VEVENT
DTSTART;VALUE=DATE:20180721
DTEND;VALUE=DATE:20180724
DTSTAMP:20260422T095817
CREATED:20180103T123001Z
LAST-MODIFIED:20180612T061532Z
UID:6728-1532142000-1532314799@www.hirvensalmi.fi
SUMMARY:Race Hirvensalmi
DESCRIPTION:Ratamoottoriveneiden Sm-osakilpailu \n 
URL:https://www.hirvensalmi.fi/tapahtuma/race-hirvensalmi-2/
LOCATION:Liekune\, hirvensalmentie 39\, hirvensalmi\, 52550\, Suomi
END:VEVENT
BEGIN:VEVENT
DTSTART;TZID=Europe/Helsinki:20180720T200000
DTEND;TZID=Europe/Helsinki:20180720T223000
DTSTAMP:20260422T095817
CREATED:20180102T053608Z
LAST-MODIFIED:20180102T053608Z
UID:6675-1532116800-1532125800@www.hirvensalmi.fi
SUMMARY:Iltamat Tuukkalan koululla
DESCRIPTION:Vanhan ajan iltamat Tuukkalan koululla. Sketsejä\, näytelmiä\, kahvitarjoilu.
URL:https://www.hirvensalmi.fi/tapahtuma/iltamat-tuukkalan-koululla-3/
LOCATION:Tuukkalan koulu\, Joutsantie 1212\, Tuukkala\, 52610\, Suomi
END:VEVENT
BEGIN:VEVENT
DTSTART;TZID=Europe/Helsinki:20180720T130000
DTEND;TZID=Europe/Helsinki:20180720T150000
DTSTAMP:20260422T095817
CREATED:20180709T123616Z
LAST-MODIFIED:20180709T123616Z
UID:7676-1532091600-1532098800@www.hirvensalmi.fi
SUMMARY:Lasten museopäivä Lepolassa
DESCRIPTION:Lasten museopäivä Lepolassa \n  \nPerjantaina Lepolan museossa postityöpaja sekä lasten oma museo-kierros. \n  \nOsoite: Joutsantie 1729\, Hirvensalmi
URL:https://www.hirvensalmi.fi/tapahtuma/lasten-museopaiva-lepolassa-2/
LOCATION:Etelä-Savo
END:VEVENT
BEGIN:VEVENT
DTSTART;TZID=Europe/Helsinki:20180716T130000
DTEND;TZID=Europe/Helsinki:20180716T150000
DTSTAMP:20260422T095817
CREATED:20180102T054443Z
LAST-MODIFIED:20180102T054443Z
UID:6642-1531746000-1531753200@www.hirvensalmi.fi
SUMMARY:Tehdään yhdessä käsitöitä !
DESCRIPTION:Nappaa matkaan jokin keskeneräinen taikka lankakerä ja aloita uutta. Vaihdetaan ideoita ja ajatuksia.
URL:https://www.hirvensalmi.fi/tapahtuma/tehdaan-yhdessa-kasitoita-12/
LOCATION:Junnankuja 25
ORGANIZER;CN="Hirvensalmen k%C3%A4sity%C3%B6yhdistys ry":MAILTO:posti@puulanmanuelli.fi
END:VEVENT
BEGIN:VEVENT
DTSTART;TZID=Europe/Helsinki:20180715T110000
DTEND;TZID=Europe/Helsinki:20180715T150000
DTSTAMP:20260422T095817
CREATED:20180129T065444Z
LAST-MODIFIED:20180129T065444Z
UID:6887-1531652400-1531666800@www.hirvensalmi.fi
SUMMARY:ES Optari Open 11-15
DESCRIPTION:Puulan Veneseura\, Mikkelin pursiseura ja Ristiinan pursiseura järjestävät Etelä-Savon Optari Open osakisan su 15.7. klo 11 – 15 Hirvensalmella S-Market rannassa. Kiinnostuneet voivat ilmoittautua kisaan 4.6. mennessä pvseura@gmail.com.\nOma purjevene ei ole välttämätön mutta osallistujilta vaaditaan hyvää purjehdusveneen ( Optari\, Zoom) käsittelytaitoa ja jonkun järjestävän seuran jäsenyys. Tilaisuutta voi seurata ja osallistujia kannustaa vapaasti. ( muutokset mahdollisia)
URL:https://www.hirvensalmi.fi/tapahtuma/es-optari-open-11-15/
LOCATION:S-Marketin ranta
ATTACH;FMTTYPE=image/jpeg:https://www.hirvensalmi.fi/wp-content/uploads/2018/01/pves-6522s-1.jpg
ORGANIZER;CN="Puulan Veneseura ry":MAILTO:pvseura@gmail.com
END:VEVENT
BEGIN:VEVENT
DTSTART;TZID=Europe/Helsinki:20180714T110000
DTEND;TZID=Europe/Helsinki:20180714T140000
DTSTAMP:20260422T095817
CREATED:20180605T092429Z
LAST-MODIFIED:20180605T092429Z
UID:7511-1531566000-1531576800@www.hirvensalmi.fi
SUMMARY:Toripäivä Ripatissa
DESCRIPTION:Toiminnallinen toritapahtuma.\n* Ripatin Marttojen kahvio.\n* Pihaleikkejä kaikenikäisille.\n* Lemmikeille esterata ja pieniä hoitotoimenpiteitä maksua vastaan.\n* Tuotemyyntiä\n* Kirpputori. Myyntipaikkavaraukset 9.7. mennessä puh. 0405254916 Seija
URL:https://www.hirvensalmi.fi/tapahtuma/toripaiva-ripatissa/
LOCATION:Ripatin Seuratalo\, Hämeenmäentie 412\, Hirvensalmi\, 52550
END:VEVENT
BEGIN:VEVENT
DTSTART;TZID=Europe/Helsinki:20180713T130000
DTEND;TZID=Europe/Helsinki:20180713T150000
DTSTAMP:20260422T095817
CREATED:20180709T123523Z
LAST-MODIFIED:20180709T123523Z
UID:7674-1531486800-1531494000@www.hirvensalmi.fi
SUMMARY:Lasten museopäivä Lepolassa
DESCRIPTION:Lasten museopäivä Lepolassa \nPerjantaina Lepolan museossa postityöpaja sekä lasten oma museo-kierros. \nOsoite: Joutsantie 1729\, Hirvensalmi
URL:https://www.hirvensalmi.fi/tapahtuma/lasten-museopaiva-lepolassa/
LOCATION:Etelä-Savo
END:VEVENT
BEGIN:VEVENT
DTSTART;TZID=Europe/Helsinki:20180713T120000
DTEND;TZID=Europe/Helsinki:20180713T183000
DTSTAMP:20260422T095817
CREATED:20180709T105548Z
LAST-MODIFIED:20180709T105548Z
UID:7670-1531483200-1531506600@www.hirvensalmi.fi
SUMMARY:Päivätanssit Kellokallion lavalla
DESCRIPTION:Päivätanssit. Soittaa Trio Amorosa
URL:https://www.hirvensalmi.fi/tapahtuma/paivatanssit-kellokallion-lavalla/
LOCATION:Kellokallion lava
END:VEVENT
BEGIN:VEVENT
DTSTART;TZID=Europe/Helsinki:20180711T100000
DTEND;TZID=Europe/Helsinki:20180713T140000
DTSTAMP:20260422T095817
CREATED:20180129T065425Z
LAST-MODIFIED:20180129T065425Z
UID:6885-1531303200-1531490400@www.hirvensalmi.fi
SUMMARY:Purjehduskoulu 10 - 14
DESCRIPTION:Puulan Veneseura ry järjestää nuorille ( 7-15v) purjehduskurssin Hirvensalmella\, ti-pe klo 10 – 14\, sadevaraus.\nOsallistujilta vaaditaan uimataito\, mieluusti omat pelastusliivit. Mukaan eväät ja vaihtovaatteet. Osallistujilta toivotaan purjehduksen alkeet optimistijollalla\, vaikka aloitamme niiden kertauksella. Kurssia turvaa Puulan Järvipelastajat turvaveneellä.\nKurssin jälkeen su 15.7. klo 11.00 – Etelä-Savon Optarikisojen osakilpailu samassa paikassa.\nIlmoittaudu pvseura@gmail.com \, m 040 779 5815\, 30.6.2018 mennessä. Vahvistamme osallistumisen. ( Muutokset mahdollisia).
URL:https://www.hirvensalmi.fi/tapahtuma/purjehduskoulu-10-14/
LOCATION:S-marketin ranta
ATTACH;FMTTYPE=image/jpeg:https://www.hirvensalmi.fi/wp-content/uploads/2018/01/pves-6522s.jpg
ORGANIZER;CN="Puulan Veneseura ry":MAILTO:pvseura@gmail.com
END:VEVENT
BEGIN:VEVENT
DTSTART;TZID=Europe/Helsinki:20180710T180000
DTEND;TZID=Europe/Helsinki:20180710T200000
DTSTAMP:20260422T095817
CREATED:20180125T104603Z
LAST-MODIFIED:20180125T104603Z
UID:6844-1531245600-1531252800@www.hirvensalmi.fi
SUMMARY:Silja Line Seurakisat
DESCRIPTION:Sarjat: T/P 5-13v\nPallonheitto\, pituus\, korkeus\, kuula\, keihäs\, 40/60m ja 400m
URL:https://www.hirvensalmi.fi/tapahtuma/silja-line-seurakisat-8/
LOCATION:Urheilukenttä\, Kisatie 3\, Hirvensalmi\, Suomi
ORGANIZER;CN="Hirvensalmen urheilijat":MAILTO:hirvensalmenurheilijat@gmail.com
END:VEVENT
BEGIN:VEVENT
DTSTART;TZID=Europe/Helsinki:20180710T110000
DTEND;TZID=Europe/Helsinki:20180710T150000
DTSTAMP:20260422T095817
CREATED:20180108T063230Z
LAST-MODIFIED:20180108T063233Z
UID:6749-1531220400-1531234800@www.hirvensalmi.fi
SUMMARY:Tuukkalan taidepäivä
DESCRIPTION:Perinteeksi muodostunut taidepäivä on täällä taas tiistaina 10.7.2018. Markkinahumu levittäytyy Taidetuvan pihapiiriin. Kahvilasta saatavana lettuja ja mansikkahilloa. Tervetuloa!
URL:https://www.hirvensalmi.fi/tapahtuma/tuukkalan-taidepaiva-2/
LOCATION:Tuukkalan taidetupa\, Joutsantie 1244\, Tuukkala\, 52610
END:VEVENT
BEGIN:VEVENT
DTSTART;TZID=Europe/Helsinki:20180708T080000
DTEND;TZID=Europe/Helsinki:20180708T170000
DTSTAMP:20260422T095817
CREATED:20180102T053839Z
LAST-MODIFIED:20180102T053839Z
UID:6657-1531036800-1531069200@www.hirvensalmi.fi
SUMMARY:Käsityönäyttely Puulan Manuellissa
DESCRIPTION:Käsityönäyttely ja variksenpelättimien äänestys Puulan Manuellissa.
URL:https://www.hirvensalmi.fi/tapahtuma/kasityonayttely-puulan-manuellissa/
LOCATION:Junnankuja 25
ORGANIZER;CN="Hirvensalmen k%C3%A4sity%C3%B6yhdistys ry":MAILTO:posti@puulanmanuelli.fi
END:VEVENT
BEGIN:VEVENT
DTSTART;TZID=Europe/Helsinki:20180707T080000
DTEND;TZID=Europe/Helsinki:20180707T220000
DTSTAMP:20260422T095817
CREATED:20180102T053301Z
LAST-MODIFIED:20180102T053301Z
UID:6685-1530950400-1531000800@www.hirvensalmi.fi
SUMMARY:Sami Karu
DESCRIPTION:Sami Karu viihdyttää kansaa Herkun terassilla.
URL:https://www.hirvensalmi.fi/tapahtuma/sami-karu/
LOCATION:Sataman herkku\, Hirvensalmentie 22A\, Hirvensalmi\, 52550
ATTACH;FMTTYPE=image/jpeg:https://www.hirvensalmi.fi/wp-content/uploads/2017/12/cropped-sami_karu_nettietusivu_2000x1200.jpg
END:VEVENT
BEGIN:VEVENT
DTSTART;TZID=Europe/Helsinki:20180706T080000
DTEND;TZID=Europe/Helsinki:20180706T170000
DTSTAMP:20260422T095817
CREATED:20180102T054428Z
LAST-MODIFIED:20180102T054428Z
UID:6643-1530864000-1530896400@www.hirvensalmi.fi
SUMMARY:Käsityönäyttely Puulan Manuellissa
DESCRIPTION:BESbswyBESbswyBESbswyBESbswy \nTervaleppäjuhlien ajan 6 – 8.7.2018\nKäsityönäyttely Puulan Manuellissa
URL:https://www.hirvensalmi.fi/tapahtuma/kasityonayttely-puulan-manuellissa-2/
LOCATION:Junnankuja 25
ORGANIZER;CN="Hirvensalmen k%C3%A4sity%C3%B6yhdistys ry":MAILTO:posti@puulanmanuelli.fi
END:VEVENT
BEGIN:VEVENT
DTSTART;TZID=Europe/Helsinki:20180706T080000
DTEND;TZID=Europe/Helsinki:20180706T150000
DTSTAMP:20260422T095817
CREATED:20180621T044751Z
LAST-MODIFIED:20180621T044751Z
UID:7614-1530864000-1530889200@www.hirvensalmi.fi
SUMMARY:Terveleppäjuhlilla menossa mukana
DESCRIPTION:Hirvensalmen Kalamiehet ry ja Aki Hirvonen SVK:sta esittelee toimintaansa ym kalastukseen liittyvää esillä. Arpojakin myytävänä. Torilla tavataan. Tervetuloa!
URL:https://www.hirvensalmi.fi/tapahtuma/terveleppajuhlilla-menossa-mukana/
LOCATION:Tervaleppäjuhlatori\, Keskustie 2\, Hirvensalmei\, 52550
ORGANIZER;CN="Hirvensalmen Kalamiehet ry":MAILTO:reijo.tanttu@surffi.fi
END:VEVENT
BEGIN:VEVENT
DTSTART;TZID=Europe/Helsinki:20180706T080000
DTEND;TZID=Europe/Helsinki:20180706T150000
DTSTAMP:20260422T095817
CREATED:20180525T071008Z
LAST-MODIFIED:20180525T071008Z
UID:7420-1530864000-1530889200@www.hirvensalmi.fi
SUMMARY:Tervaleppäjuhlat\, olemme menossa mukana
DESCRIPTION:Tervaleppäjuhla torilla tavataan. Tervetuloa teltallemme!
URL:https://www.hirvensalmi.fi/tapahtuma/tervaleppajuhlat-olemme-menossa-mukana/
LOCATION:Tori\, Hirvensalmi
ORGANIZER;CN="Hirvensalmen Kalamiehet ry":MAILTO:reijo.tanttu@surffi.fi
END:VEVENT
BEGIN:VEVENT
DTSTART;VALUE=DATE:20180706
DTEND;VALUE=DATE:20180710
DTSTAMP:20260422T095817
CREATED:20171219T055119Z
LAST-MODIFIED:20180625T115718Z
UID:6603-1530846000-1531105199@www.hirvensalmi.fi
SUMMARY:Tervaleppäjuhlat
DESCRIPTION:Perinteinen kesäjuhla \nPerjantai 6.7. \nklo 8.00-16.00                    TERVALEPPÄMARKKINAT  torialueella\, paikkojen myynti p. \n050-5964781\, kuuluttajana Juhani Manninen \nklo 10.00                            ”Ruskakuoro” esiintyy \nJUHLIEN AVAUS\, Hirvensalmen kunnanhallituksen pj. Heikki Liukkonen. \nMÖKKIRAUHAN JULISTUS \nklo 10.00-13.00                  Lastenkulttuurikeskus Verson ”Lumottu höyhen” – toimintapiste lapsille Seuratalon piha-alueella tai sateen sattuessa yläkerrassa \nklo 10.00-17.00                  TAIDENÄYTTELY Seuratalolla\, Marja Haajasen taidetta ja käsitöitä\, Lari Rouvisen Leon -töitä\, Laina Honkasen ”Omituiset otukset” ja Maija-Liisa Lahtisen ”Entisajan maalaiselämää”\,Eläkeliiton puutyökerhon töitä\,.Kk:n Marttojen keittolounas klo 10.00-15.00 \nklo 10.00-17.00                  Museot avoinna\, vapaa pääsy \n– Pitäjäntupa-museo: Ahti Karjalaisen elämäntyö -näyttely\, kotiseutumuseon näyttely ”Luonnon kauneus ainainen” \n– Ahti Karjalaisen syntymäkotimuseo Lepola Kuitulassa \nklo 10.00-17.00                  Käsityönäyttely ”Ryijyn taikaa” Puulan Manuellissä\, linnun pelättien kisan äänestys \nklo 10.00-17.00                  Hirvensalmi tutuksi kulkemalla rastilta rastille \n-käy tapahtumissa ja yrittäjien kohteissa ja osallistut paikallistuotteiden arvontaan \nklo 10.00-15.00                  Ruokahukka ruotuun -info kunnanviraston valtuustosalissa \nklo 12.00                            Yhteislaulua markkinalavalla Puulan Soinnun johdolla \nklo 13.00                            Tanssiesitys ”Kepeät jalat” \nklo 14.00                            Pitäjäntupa -museon avajaiset: \n– Ahti Karjalaisen elämäntyö -näyttely \n– Kotiseutumuseon näyttely ”Luonnon kauneus ainainen” \nklo 19.00                            KIRKKOKONSERTTI \, PASI KAUNISTO esiintyy\, säestys Vesa Tuomi piano\, ohjelma 20€. Ennakkoon kunnanviraston neuvonnasta. \nklo 20.00                            Karaoketanssit Sataman Herkussa \nLauantai 7.7. \nklo 9.00-15.00                    TERVALEPPÄMARKKINAT jatkuu\, TERVALEPPÄKIRPPIS\, paikkavaraukset 3.7. menn. p. 050-5964781 \nklo 10.00-15.00                 TAIDENÄYTTELY  Seuratalolla\, Marja Haajasen taidetta ja käsitöitä\, Lari Rouvisen maalauksia\, Laina Honkasen ”Omituiset otukset” ja Maija-Liisa Lahtisen ” Entisajan maalaiselämää”\, Eläkeliiton puutyökerhon töitä\, \nklo 10.00-15.00                 Käsityönäyttely ”Ryijyn taikaa” Puulan Manuellissä\, linnun pelättien kisan äänestys \nklo 10.00-15.00                  Museot avoinna\, vapaa pääsy \n– Pitäjäntupa-museo: Ahti Karjalaisen elämäntyö -näyttely\, kotiseutumuseon näyttely ”Luonnon kauneus ainainen” \n– Ahti Karjalaisen syntymäkotimuseo Lepola Kuitulassa \nklo 10.00-15.00                  Hirvensalmi tutuksi kulkemalla rastilta rastille \n-käy tapahtumissa ja yrittäjien kohteissa ja osallistut paikallistuotteiden arvontaan \nklo 11.00                            Kissa MIAUSKIS esiintyy lapsille ja lapsenmielisille \nklo 12.00                            OINOSKA esiintyy markkinalavalla \nklo 12.30-13.50                  Karaokea markkinalavalla Pete Nikulaisen johdolla \nklo 14.00-16.00                  HIRVENSALMEN KUNNAN 150V. TILAISUUS Seuratalon piha-alueella\, musiikkia Swing Machine\, duo Prusak ja Dubiel\, solistina Miili Forste’n\, ruoka- ja kahvitarjoilu \nklo 18.00                            Jalkapallo-ottelu paikalliset – kesävieraat urheilukentällä \nklo 19.00-24.00                  Tanssit Kellokalliolla\, trio Tähtiartistit\, väliajalla musisoivat Pertunmaan Harmonikat \nklo 20.00                            Tanssit Sataman Herkussa\, Sami Karu \nSunnuntai 8.7. \nKESÄLOMALAISTEN KIRKKOPYHÄ ”Luomakunnan sunnuntai” \nklo   9.30                            kokoontuminen Suur-Savon rantaan\, kirkkovene saapuu \nklo 10.00                            messu kirkossa\, saarnaa khra Jukka-Pekka Sepperi\, kirkkokahvit seurakuntakodilla \nklo 11.00-15.00                  TAIDENÄYTTELY  ja keittolounas jatkuu Seuratalolla \nklo 11.00-15.00                  Käsityönäyttely ”ryijyn taikaa” Puulan Manuellissä\, linnun pelättien kisan äänestys \nklo 11.00-15.00                  Museot avoinna \nklo 12.30                            Kesäisiä yhteislauluja kirkkopuistossa kirkon takana\, sateen sattuessa kirkossa \nJuhlien järjestelyissä mukana Tervaleppäyhdistyksen ohella Hirvensalmen kunta ja seurakunta\, käsityöyhdistys\, Eläkeliitto\, Kk:n Martat\, Maa- ja Kotitalousnaiset\, Hirvensalmi Seura\, Pöyryn Pantterit ja paikallisia yrityksiä
URL:https://www.hirvensalmi.fi/tapahtuma/tervaleppajuhlat-2/
LOCATION:Hirvensalmi
END:VEVENT
BEGIN:VEVENT
DTSTART;TZID=Europe/Helsinki:20180704T000000
DTEND;TZID=Europe/Helsinki:20180704T000000
DTSTAMP:20260422T095817
CREATED:20171005T071000Z
LAST-MODIFIED:20180703T092846Z
UID:6247-1530662400-1530662400@www.hirvensalmi.fi
SUMMARY:Kylien luontokirkko
DESCRIPTION:Lisätietoja Pirjo Kuitunen 0400-525214 \n  \nLahnaniemen Luontokirkko \n4.7 klo 11 \nRuokailumahdollisuus 10€ (sis. ruoka ja kahvit) \nLämpimästi tervetuloa!
URL:https://www.hirvensalmi.fi/tapahtuma/kylien-luontokirkko/
LOCATION:Lahnaniemen seurojentalo
ORGANIZER;CN="Lahnaniemen kyl%C3%A4toimikunta":MAILTO:lahnaniemenkylatoimikunta@gmail.com
END:VEVENT
BEGIN:VEVENT
DTSTART;VALUE=DATE:20180702
DTEND;VALUE=DATE:20180704
DTSTAMP:20260422T095817
CREATED:20180102T054457Z
LAST-MODIFIED:20180102T054457Z
UID:6641-1530500400-1530586799@www.hirvensalmi.fi
SUMMARY:Kaikille avoimen variksenpelätinkilpailun pelättien pystytys !
DESCRIPTION:Kaikille avoin variksenpelätinkilpailu. Pelättien pystytys maanantaina 2.7.2018 Ilmoitattehan myymälään osallistumisestanne. Pelättejä voi käydä äänestämässä tervaleppäjuhlien ajan myymälämme aukioloaikoina. Parhaan pelätin palkintojenjako 4.8.2018 Kansallispukujen tuuletuspiknik-päivänä.
URL:https://www.hirvensalmi.fi/tapahtuma/kaikille-avoimen-variksenpelatinkilpailun-pelattien-pystytys/
LOCATION:Junnankuja 25
ORGANIZER;CN="Hirvensalmen k%C3%A4sity%C3%B6yhdistys ry":MAILTO:posti@puulanmanuelli.fi
END:VEVENT
BEGIN:VEVENT
DTSTART;TZID=Europe/Helsinki:20180701T140000
DTEND;TZID=Europe/Helsinki:20180701T170000
DTSTAMP:20260422T095817
CREATED:20180108T063156Z
LAST-MODIFIED:20180108T063201Z
UID:6748-1530453600-1530464400@www.hirvensalmi.fi
SUMMARY:Tuukkalan taidetuvan avajaiset
DESCRIPTION:Tuukkalan taidekesän avajaiset 2018! Mukana taiteilijoita ja paikallista käsityötä. Haimisen museonurkka ja tietysti kesäkahvila auki. Tervetuloa!
URL:https://www.hirvensalmi.fi/tapahtuma/tuukkalan-taidetuvan-avajaiset-2/
LOCATION:Tuukkalan taidetupa\, Joutsantie 1244\, Tuukkala\, 52610
ORGANIZER;CN="Tuukkalan Taidetupa":MAILTO:pirkko.luntta@pp.inet.fi
END:VEVENT
BEGIN:VEVENT
DTSTART;TZID=Europe/Helsinki:20180629T210000
DTEND;TZID=Europe/Helsinki:20180629T230000
DTSTAMP:20260422T095817
CREATED:20180102T053536Z
LAST-MODIFIED:20180102T053536Z
UID:6679-1530306000-1530313200@www.hirvensalmi.fi
SUMMARY:Yölintu
DESCRIPTION:Yölintu on iskelmäkansan suursuosikki. Ilo saada bändi ekakertaa Hirvensalmelle.
URL:https://www.hirvensalmi.fi/tapahtuma/yolintu/
LOCATION:Sataman herkku\, Hirvensalmentie 22A\, Hirvensalmi\, 52550
ATTACH;FMTTYPE=image/jpeg:https://www.hirvensalmi.fi/wp-content/uploads/2017/12/yolintu_2017_0.jpg
END:VEVENT
BEGIN:VEVENT
DTSTART;VALUE=DATE:20180629
DTEND;VALUE=DATE:20180701
DTSTAMP:20260422T095817
CREATED:20180614T050114Z
LAST-MODIFIED:20180614T050114Z
UID:7578-1530241200-1530327599@www.hirvensalmi.fi
SUMMARY:Kuuloauto vierailee Hirvensalmella
DESCRIPTION:Kuuloliiton Kuuloauto vierailee Hirvensalmella koko päivän 29.6.18. Paikka Kunnanviraston edessä klo 9-15. Tervetuloa käymään autolla erityisesti kaikki\, jotka ovat huolissaan kuulostaan.\nAsiantunteva henkilökunta suorittaa kuulon mittauksia halukkaille.
URL:https://www.hirvensalmi.fi/tapahtuma/kuuloauto-vierailee-hirvensalmella/
LOCATION:Tori\, Hirvensalmi
END:VEVENT
BEGIN:VEVENT
DTSTART;TZID=Europe/Helsinki:20180623T210000
DTEND;TZID=Europe/Helsinki:20180623T230000
DTSTAMP:20260422T095817
CREATED:20180102T053445Z
LAST-MODIFIED:20180102T053445Z
UID:6683-1529787600-1529794800@www.hirvensalmi.fi
SUMMARY:Jari Uutela
DESCRIPTION:Ihana Jari Uutela tanssittaa kansaa Herkun terassilla Juhannuksena.
URL:https://www.hirvensalmi.fi/tapahtuma/jari-uutela/
LOCATION:Sataman herkku\, Hirvensalmentie 22A\, Hirvensalmi\, 52550
ATTACH;FMTTYPE=image/jpeg:https://www.hirvensalmi.fi/wp-content/uploads/2017/12/jari-uutela-promokuva-2015.jpg
END:VEVENT
BEGIN:VEVENT
DTSTART;TZID=Europe/Helsinki:20180620T080000
DTEND;TZID=Europe/Helsinki:20180620T170000
DTSTAMP:20260422T095817
CREATED:20180621T044809Z
LAST-MODIFIED:20180621T044809Z
UID:7615-1529481600-1529514000@www.hirvensalmi.fi
SUMMARY:Hirvensalmen onkimestaruuskilpailut
DESCRIPTION:Hirvensalmen pitäjänmestaruus onkikilpailut kaikille avoin. Sarjat naiset\, miehet\, nuoret 18v ja kesäasukkaat. Joukkuekilpailu 3 henkeä. Ilm. klo 13.00 alkaen. Kilpailu alkaa klo 14.00 ja päättyy klo 18.00 (siirtymä ajat ennen ja jälkeen) Tervetuloa!
URL:https://www.hirvensalmi.fi/tapahtuma/hirvensalmen-onkimestaruuskilpailut/
LOCATION:Kivisenlahti\, Jokikankaantie 12\, Hirvensalmi\, 52550\, Suomi
ORGANIZER;CN="Hirvensalmen Kalamiehet ry":MAILTO:reijo.tanttu@surffi.fi
END:VEVENT
BEGIN:VEVENT
DTSTART;TZID=Europe/Helsinki:20180618T130000
DTEND;TZID=Europe/Helsinki:20180618T150000
DTSTAMP:20260422T095817
CREATED:20180102T054508Z
LAST-MODIFIED:20180102T054508Z
UID:6640-1529326800-1529334000@www.hirvensalmi.fi
SUMMARY:Tehdään yhdessä käsitöitä !
DESCRIPTION:Nappaa matkaan jokin keskeneräinen taikka lankakerä ja aloita uutta. Vaihdetaan ideoita ja ajatuksia.
URL:https://www.hirvensalmi.fi/tapahtuma/tehdaan-yhdessa-kasitoita-13/
LOCATION:Junnankuja 25
ORGANIZER;CN="Hirvensalmen k%C3%A4sity%C3%B6yhdistys ry":MAILTO:posti@puulanmanuelli.fi
END:VEVENT
BEGIN:VEVENT
DTSTART;TZID=Europe/Helsinki:20180616T110000
DTEND;TZID=Europe/Helsinki:20180616T140000
DTSTAMP:20260422T095817
CREATED:20180606T042920Z
LAST-MODIFIED:20180606T042920Z
UID:7525-1529146800-1529157600@www.hirvensalmi.fi
SUMMARY:POP UP-ravintolapäivä
DESCRIPTION:Marttojen keittolounaan (sis. jälkiruokakahvin 10€) ohella Kylämuseon avaus klo 11. Arpajaiset ym.\nTervetuloa !!\nOs. Väisälänsaarentie 1091\n52550 Hirvensalmi
URL:https://www.hirvensalmi.fi/tapahtuma/pop-up-ravintolapaiva-2/
LOCATION:Erävainio (ent. Väisälän koulu)\, Väisälänsaarentie\, Hirvensalmi\, 52550
ORGANIZER;CN="V%C3%A4is%C3%A4l%C3%A4nsaaren Martat ry":MAILTO:paula.manninen@hirvensalmi.fi
END:VEVENT
BEGIN:VEVENT
DTSTART;TZID=Europe/Helsinki:20180612T180000
DTEND;TZID=Europe/Helsinki:20180612T200000
DTSTAMP:20260422T095817
CREATED:20180125T104530Z
LAST-MODIFIED:20180125T104530Z
UID:6843-1528826400-1528833600@www.hirvensalmi.fi
SUMMARY:Silja Line Seurakisat
DESCRIPTION:Sarjat: T/P 5-13 v\nPallonheitto\, pituus\, korkeus\, kuula\, keihäa\, 40/60m ja 400m
URL:https://www.hirvensalmi.fi/tapahtuma/silja-line-seurakisat-7/
LOCATION:Urheilukenttä\, Kisatie 3\, Hirvensalmi\, Suomi
ORGANIZER;CN="Hirvensalmen urheilijat":MAILTO:hirvensalmenurheilijat@gmail.com
END:VEVENT
END:VCALENDAR