BEGIN:VCALENDAR
VERSION:2.0
PRODID:-//Hirvensalmi - ECPv6.6.4.2//NONSGML v1.0//EN
CALSCALE:GREGORIAN
METHOD:PUBLISH
X-ORIGINAL-URL:https://www.hirvensalmi.fi
X-WR-CALDESC:Tapahtumat Hirvensalmi
REFRESH-INTERVAL;VALUE=DURATION:PT1H
X-Robots-Tag:noindex
X-PUBLISHED-TTL:PT1H
BEGIN:VTIMEZONE
TZID:Europe/Helsinki
BEGIN:DAYLIGHT
TZOFFSETFROM:+0200
TZOFFSETTO:+0300
TZNAME:EEST
DTSTART:20170326T010000
END:DAYLIGHT
BEGIN:STANDARD
TZOFFSETFROM:+0300
TZOFFSETTO:+0200
TZNAME:EET
DTSTART:20171029T010000
END:STANDARD
BEGIN:DAYLIGHT
TZOFFSETFROM:+0200
TZOFFSETTO:+0300
TZNAME:EEST
DTSTART:20180325T010000
END:DAYLIGHT
BEGIN:STANDARD
TZOFFSETFROM:+0300
TZOFFSETTO:+0200
TZNAME:EET
DTSTART:20181028T010000
END:STANDARD
END:VTIMEZONE
BEGIN:VEVENT
DTSTART;TZID=Europe/Helsinki:20180122T180000
DTEND;TZID=Europe/Helsinki:20180122T180000
DTSTAMP:20260422T130841
CREATED:20180112T085302Z
LAST-MODIFIED:20180112T085302Z
UID:6796-1516644000-1516644000@www.hirvensalmi.fi
SUMMARY:Luistelukoulu/ korttelikiekko
DESCRIPTION:Luistelukoulu/korttelikiekko 4-12v. lapsille. Jatkuu maanantaisin 29.1.\, 5.2. ja 12.2.\nPakkasraja -15C. Pakolliset varusteet luistimet ja kypärä (ristikko) ja maila mikäli pelaa. Suositeltavia varusteita polvisuojat\, hanskat sekä kaulasuoja.\nToiminta on luistelutaidon opettelua leikkien ja pelien kautta.
URL:https://www.hirvensalmi.fi/tapahtuma/luistelukoulu-korttelikiekko/
LOCATION:Hirvensalmen jääkiekkokaukalo\, Koulutie 4\, Hirvensalmi\, 52550
END:VEVENT
BEGIN:VEVENT
DTSTART;TZID=Europe/Helsinki:20180122T173000
DTEND;TZID=Europe/Helsinki:20180122T200000
DTSTAMP:20260422T130841
CREATED:20180102T054835Z
LAST-MODIFIED:20180102T054835Z
UID:6629-1516642200-1516651200@www.hirvensalmi.fi
SUMMARY:Verkkosydänkurssi
DESCRIPTION:BESbswyBESbswyBESbswyBESbswy \nKurssilla valmistamme verkosta ja paperimassasta sydämen.
URL:https://www.hirvensalmi.fi/tapahtuma/verkkosydankurssi/
LOCATION:Junnankuja 25
ORGANIZER;CN="Hirvensalmen k%C3%A4sity%C3%B6yhdistys ry":MAILTO:posti@puulanmanuelli.fi
END:VEVENT
BEGIN:VEVENT
DTSTART;TZID=Europe/Helsinki:20180115T130000
DTEND;TZID=Europe/Helsinki:20180115T150000
DTSTAMP:20260422T130841
CREATED:20171219T054853Z
LAST-MODIFIED:20171219T054907Z
UID:6601-1516021200-1516028400@www.hirvensalmi.fi
SUMMARY:Tehdään yhdessä käsitöitä !
DESCRIPTION:Tehdään yhdessä käsitöitä !\nNappaa matkaan jokin keskeneräinen taikka lankakerä ja aloita uutta. Vaihdetaan ideoita ja ajatuksia. Kaikki tervetulleita !
URL:https://www.hirvensalmi.fi/tapahtuma/tehdaan-yhdessa-kasitoita-6/
LOCATION:Käsityöpuoti Puulan Manuelli\, Junnankuja 25\, Hirvensalmi\, 52550
ORGANIZER;CN="Hirvensalmen k%C3%A4sity%C3%B6yhdistys ry":MAILTO:posti@puulanmanuelli.fi
END:VEVENT
BEGIN:VEVENT
DTSTART;TZID=Europe/Helsinki:20171214T100000
DTEND;TZID=Europe/Helsinki:20171214T160000
DTSTAMP:20260422T130841
CREATED:20171208T123635Z
LAST-MODIFIED:20171208T123649Z
UID:6564-1513245600-1513267200@www.hirvensalmi.fi
SUMMARY:Joulupuuro- ja kahvitarjoilu !
DESCRIPTION:Joulupuuro- ja kahvitarjoilu\, leivonnaisia ja arpajaiset ! Tervetuloa !
URL:https://www.hirvensalmi.fi/tapahtuma/joulupuuro-ja-kahvitarjoilu/
LOCATION:Junnankuja 25
ATTACH;FMTTYPE=image/jpeg:https://www.hirvensalmi.fi/wp-content/uploads/2017/12/2017-12-07-20.13.00.jpg
ORGANIZER;CN="Hirvensalmen k%C3%A4sity%C3%B6yhdistys ry":MAILTO:posti@puulanmanuelli.fi
END:VEVENT
BEGIN:VEVENT
DTSTART;TZID=Europe/Helsinki:20171125T120000
DTEND;TZID=Europe/Helsinki:20171125T140000
DTSTAMP:20260422T130841
CREATED:20170915T094029Z
LAST-MODIFIED:20171124T100347Z
UID:6143-1511611200-1511618400@www.hirvensalmi.fi
SUMMARY:Suomi 100 v - juhla
DESCRIPTION:Elomaan koululla 25.11.2017 \nTarkempi ohjelma päivitetään myöhemmin.
URL:https://www.hirvensalmi.fi/tapahtuma/suomi-100-v-juhla/
END:VEVENT
BEGIN:VEVENT
DTSTART;TZID=Europe/Helsinki:20171120T173000
DTEND;TZID=Europe/Helsinki:20171120T173000
DTSTAMP:20260422T130841
CREATED:20171005T114011Z
LAST-MODIFIED:20171005T114011Z
UID:6272-1511199000-1511199000@www.hirvensalmi.fi
SUMMARY:Tehdään yhdessä Tonttu
DESCRIPTION:Kurssilla valmistamme tontun sukkahousuista ja ompelemme tontulle vaatteet. \nSovitaan kurssilla toinen kokoontumiskerta. \nHinta 23 € sisältää materiaalin yhteen tonttuun.
URL:https://www.hirvensalmi.fi/tapahtuma/tehdaan-yhdessa-tonttu/
LOCATION:Junnankuja 25
ORGANIZER;CN="Hirvensalmen k%C3%A4sity%C3%B6yhdistys ry":MAILTO:posti@puulanmanuelli.fi
END:VEVENT
BEGIN:VEVENT
DTSTART;TZID=Europe/Helsinki:20171106T173000
DTEND;TZID=Europe/Helsinki:20171106T173000
DTSTAMP:20260422T130841
CREATED:20171005T113822Z
LAST-MODIFIED:20171005T113822Z
UID:6270-1509989400-1509989400@www.hirvensalmi.fi
SUMMARY:Tehdään yhdessä joulukortteja
DESCRIPTION:Tonttuja\, enkeleitä\, rosetteja \nHinta 13 €
URL:https://www.hirvensalmi.fi/tapahtuma/tehdaan-yhdessa-joulukortteja/
LOCATION:Junnankuja 25
ORGANIZER;CN="Hirvensalmen k%C3%A4sity%C3%B6yhdistys ry":MAILTO:posti@puulanmanuelli.fi
END:VEVENT
BEGIN:VEVENT
DTSTART;TZID=Europe/Helsinki:20171103T080000
DTEND;TZID=Europe/Helsinki:20171130T170000
DTSTAMP:20260422T130841
CREATED:20171103T112336Z
LAST-MODIFIED:20171103T112651Z
UID:6357-1509696000-1512061200@www.hirvensalmi.fi
SUMMARY:Seppeletalkoot
DESCRIPTION:Tehdään yhdessä seppeleet sankarihaudoille Puulan Manuellissa \nMateriaali ja opastus paikan päällä. \nPuulan Manuelli avoinna ma-pe klo 10.-17.00\, la  klo 9.-13.00. \nTervetuloa!
URL:https://www.hirvensalmi.fi/tapahtuma/seppeletalkoot/
END:VEVENT
BEGIN:VEVENT
DTSTART;TZID=Europe/Helsinki:20171101T170000
DTEND;TZID=Europe/Helsinki:20171101T170000
DTSTAMP:20260422T130841
CREATED:20171005T114235Z
LAST-MODIFIED:20171005T114235Z
UID:6274-1509555600-1509555600@www.hirvensalmi.fi
SUMMARY:Tehdään yhdessä Lahnaniemen koululla Sydän
DESCRIPTION:Kurssilla valmistetaan paperinauhasta sydän\, jonka halkaisija 50 cm. \nHinta 10 €\, materiaalit alkaen 19 €
URL:https://www.hirvensalmi.fi/tapahtuma/tehdaan-yhdessa-lahnaniemen-koululla-sydan/
LOCATION:Lahnaniemen koulu\, Lahnaniementie 67\, Hirvensalmi\, 52510\, Suomi
ORGANIZER;CN="Hirvensalmen k%C3%A4sity%C3%B6yhdistys ry":MAILTO:posti@puulanmanuelli.fi
END:VEVENT
BEGIN:VEVENT
DTSTART;TZID=Europe/Helsinki:20171030T173000
DTEND;TZID=Europe/Helsinki:20171030T173000
DTSTAMP:20260422T130841
CREATED:20171005T113655Z
LAST-MODIFIED:20171005T113655Z
UID:6268-1509384600-1509384600@www.hirvensalmi.fi
SUMMARY:Tehdään yhdessä Sydän
DESCRIPTION:Kurssilla valmistetaan paperinauhasta sydän\, jonka halkaisija  50 cm.\nKurssin hinta 10 € \, materiaalit alkaen 19 €
URL:https://www.hirvensalmi.fi/tapahtuma/tehdaan-yhdessa-sydan/
LOCATION:Junnankuja 25
ORGANIZER;CN="Hirvensalmen k%C3%A4sity%C3%B6yhdistys ry":MAILTO:posti@puulanmanuelli.fi
END:VEVENT
BEGIN:VEVENT
DTSTART;TZID=Europe/Helsinki:20171028T180000
DTEND;TZID=Europe/Helsinki:20171028T220000
DTSTAMP:20260422T130841
CREATED:20170921T053048Z
LAST-MODIFIED:20170921T053048Z
UID:6167-1509213600-1509228000@www.hirvensalmi.fi
SUMMARY:Suomi 100-v Juhla
DESCRIPTION:Juhla on kaikille avoin\, johon on vapaa pääsy.\nJuhla alkaa ohjelmaosuudella\, jossa yhteislaulua ja kuoroesityksiä.\nVieraileva senioritanssiryhmä esiintyy Anni-Sirkku Askolan johdolla.\nJuhlapuhujana on professori Kari Mielikäinen.\nMuutamia vanhoja tansseja Anni-Sirkku Askolan ohjaamana halukkaille.\nOhjelman jälkeen on tanssia\, soittaa Tommi Seppänen. \nJuhlaan ovat tervetulleita kaiken ikäiset\, ei pelkästään yhdistyksen jäsenet.
URL:https://www.hirvensalmi.fi/tapahtuma/suomi-100-v-juhla-2/
LOCATION:Seuratalo\, Pitäjäntie 9\, Hirvensalmi\, 52550
END:VEVENT
BEGIN:VEVENT
DTSTART;TZID=Europe/Helsinki:20171021T110000
DTEND;TZID=Europe/Helsinki:20171021T110000
DTSTAMP:20260422T130841
CREATED:20171005T113122Z
LAST-MODIFIED:20171005T113146Z
UID:6258-1508583600-1508583600@www.hirvensalmi.fi
SUMMARY:Syysmyyjäiset 21.10.2017
DESCRIPTION:Käsityöyhdistyksen ja Kirkonkylän Marttojen syysmyyjäiset. \nHernekeittoa paikan päällä syötäväksi sekä omiin asioihin\,\nkotileivonnaisia\, syksyn satoa…\narpajaiset\nkahvitarjoilu
URL:https://www.hirvensalmi.fi/tapahtuma/syysmyyjaiset/
LOCATION:Junnankuja 25
ORGANIZER;CN="Hirvensalmen k%C3%A4sity%C3%B6yhdistys ry":MAILTO:posti@puulanmanuelli.fi
END:VEVENT
BEGIN:VEVENT
DTSTART;TZID=Europe/Helsinki:20171016T173000
DTEND;TZID=Europe/Helsinki:20171016T173000
DTSTAMP:20260422T130841
CREATED:20171005T113520Z
LAST-MODIFIED:20171005T113520Z
UID:6266-1508175000-1508175000@www.hirvensalmi.fi
SUMMARY:Tehdään yhdessä Kori
DESCRIPTION:Kurssilla valmistetaan kori pujottelutekniikalla. \nKurssilla sovitaan toinen kokoontumiskerta. \n  \nHinta 13 € \, tarvikkeet 17 €
URL:https://www.hirvensalmi.fi/tapahtuma/tehdaan-yhdessa-kori/
LOCATION:Junnankuja 25
ORGANIZER;CN="Hirvensalmen k%C3%A4sity%C3%B6yhdistys ry":MAILTO:posti@puulanmanuelli.fi
END:VEVENT
BEGIN:VEVENT
DTSTART;TZID=Europe/Helsinki:20171009T130000
DTEND;TZID=Europe/Helsinki:20171009T130000
DTSTAMP:20260422T130841
CREATED:20171005T113325Z
LAST-MODIFIED:20171005T113325Z
UID:6264-1507554000-1507554000@www.hirvensalmi.fi
SUMMARY:Tehdään yhdessä käsitöitä
DESCRIPTION:Puulan Manuellissa 9.10.2017 alkaen klo 13.00 \n  \nVetäjänä Piia Kiiliäinen
URL:https://www.hirvensalmi.fi/tapahtuma/tehdaan-yhdessa-kasitoita-5/
LOCATION:Junnankuja 25
ORGANIZER;CN="Hirvensalmen k%C3%A4sity%C3%B6yhdistys ry":MAILTO:posti@puulanmanuelli.fi
END:VEVENT
BEGIN:VEVENT
DTSTART;TZID=Europe/Helsinki:20171007T090000
DTEND;TZID=Europe/Helsinki:20171008T160000
DTSTAMP:20260422T130841
CREATED:20170911T120516Z
LAST-MODIFIED:20170911T120516Z
UID:6127-1507366800-1507478400@www.hirvensalmi.fi
SUMMARY:Ensiapukurssi EA1
DESCRIPTION:Ensiapukurssi EA 1® ( 14 h) \nHirvensalmen kunnanvirasto\, valtuustosali 7.-8.10. klo 9-16\, hinta 50 e. \nTavoite: \nKurssin suorittanut hallitsee ensiavun antamisen perusteet kurssin sisällön mukaisissa aiheissa. \nSisältö: \nAuttamistoiminta onnettomuudessa tai sairauskohtauksessa\nHätäensiavun perusteet\nTajuttomalle annettava ensiapu\nPeruselvytys\nVierasesine hengitysteissä\nVerenkierron häiriötila (sokki)\nHaavat\nTavallisimmat sairauskohtaukset\nPalovammat ja sähkön aiheuttamat vammat\nNivelvammat ja murtumat\nMyrkytykset \nEnsiapukurssin EA 1® -todistus on voimassa kolme vuotta. \nIlmoittaudu kurssille 1.10. mennessä Sirpa-Helena Pesoselle\, pesosir88@gmail.com. Maksu tilille FI77 5054 0240 0167 78 lokakuun 3. pv mennessä.
URL:https://www.hirvensalmi.fi/tapahtuma/ensiapukurssi-ea1/
LOCATION:Hirvensalmen kunnanvirasto\, Keskustie 2\, Hirvensalmi\, 52550
ORGANIZER;CN="Punainen Risti Hirvensalmen osasto":MAILTO:pesosir88@gmail.com
END:VEVENT
BEGIN:VEVENT
DTSTART;TZID=Europe/Helsinki:20170829T163000
DTEND;TZID=Europe/Helsinki:20170829T180000
DTSTAMP:20260422T130841
CREATED:20170825T120022Z
LAST-MODIFIED:20170825T120146Z
UID:6017-1504024200-1504029600@www.hirvensalmi.fi
SUMMARY:Lasten ja nuorten onki ilta
DESCRIPTION:Suomen Vapaa-ajan kalastajien keskusjärjestö Svk ry järjestää Hirvensalmen Kalamiehet ry:n kanssa lapsille ja nuorille suunnatun onki-illan. Tapahtuma  järjestetään Hirvensalmella S-marketin laitureilla ja rannalla. \nLisäksi Hirvensalmen kalamiehet ry  esittelee laituripilkintää sekä opastavat ko. kalastusmuotoon nuoria. \n  \nTilaisuus alkaa klo 16.30 ja kestää noin. 2 tuntia ( jos nuoria tulee runsaasti\, ilta jatkuu pidemmällekin) \nTapahtuma on maksuton\, varaa sään mukainen vaatetus! \nTervetuloa! \nLisätietoa saa Aki Hirvonen\, p. 040-8388719
URL:https://www.hirvensalmi.fi/tapahtuma/lasten-ja-nuorten-onki-ilta/
END:VEVENT
BEGIN:VEVENT
DTSTART;TZID=Europe/Helsinki:20170828T173000
DTEND;TZID=Europe/Helsinki:20170828T200000
DTSTAMP:20260422T130841
CREATED:20170822T114020Z
LAST-MODIFIED:20170828T064444Z
UID:5963-1503941400-1503950400@www.hirvensalmi.fi
SUMMARY:Betonikurssi kukka/roihuastiat
DESCRIPTION:Kurssilla teemme astioita syksyn kukkasille ja ulkoroihuille ! Ilmoittelethan tulostasi mahdollisimman pian\, materiaalihankintoja varten.\nKaikki tervetulleita !
URL:https://www.hirvensalmi.fi/tapahtuma/betonikurssi-kukkaroihuastiat/
LOCATION:Käsityöpuoti Puulan Manuelli\, Junnankuja 25\, Hirvensalmi\, 52550
ORGANIZER;CN="Hirvensalmen k%C3%A4sity%C3%B6yhdistys ry":MAILTO:posti@puulanmanuelli.fi
END:VEVENT
BEGIN:VEVENT
DTSTART;TZID=Europe/Helsinki:20170828T130000
DTEND;TZID=Europe/Helsinki:20170828T150000
DTSTAMP:20260422T130841
CREATED:20170822T114043Z
LAST-MODIFIED:20170822T114043Z
UID:5962-1503925200-1503932400@www.hirvensalmi.fi
SUMMARY:Tehdään yhdessä käsitöitä !
DESCRIPTION:Nappaa matkaan jokin keskeneräinen taikka lankakerä ja aloita uutta. Vaihdetaan ideoita ja ajatuksia. Kaikki tervetulleita !
URL:https://www.hirvensalmi.fi/tapahtuma/tehdaan-yhdessa-kasitoita-4/
LOCATION:Käsityöpuoti Puulan Manuelli\, Junnankuja 25\, Hirvensalmi\, 52550
ORGANIZER;CN="Hirvensalmen k%C3%A4sity%C3%B6yhdistys ry":MAILTO:posti@puulanmanuelli.fi
END:VEVENT
BEGIN:VEVENT
DTSTART;TZID=Europe/Helsinki:20170826T140000
DTEND;TZID=Europe/Helsinki:20170826T180000
DTSTAMP:20260422T130841
CREATED:20170113T090728Z
LAST-MODIFIED:20170823T055226Z
UID:5233-1503756000-1503770400@www.hirvensalmi.fi
SUMMARY:Kalkkeron kierros Juhli luontoa- Suomi 100v teemalla
DESCRIPTION:Kalkkeron kierroksen lähtö Lehtolinnan kenttä Tuukkala\, Hämeenmäentie 1278. Opastettu retki.
URL:https://www.hirvensalmi.fi/tapahtuma/kalkkeron-kierros-juhli-luontoa-suomi-100v-teemalla/
LOCATION:Kalkkeron kierros\, Hämeenmäentie 1278
END:VEVENT
BEGIN:VEVENT
DTSTART;TZID=Europe/Helsinki:20170826T100000
DTEND;TZID=Europe/Helsinki:20170826T130000
DTSTAMP:20260422T130841
CREATED:20170629T095601Z
LAST-MODIFIED:20170803T102457Z
UID:5878-1503741600-1503752400@www.hirvensalmi.fi
SUMMARY:Juhli luontoa - Suomi 100 v -teemalla
DESCRIPTION:Juhli luontoa-Suomi 100v -teemalla S-Marketin rannassa klo 10-13 .\nHirvensalmen osakaskunta jakaa tietoa omien lähijärviemme tilasta ja siitä\, miten meistä jokainen voi vaikuttaa järvien hyvinvointiin. Ohjelmassa on myös kalojen tunnistusvisa\, Punaisen Ristin Hirvensalmen osaston ensiapuryhmä pitää Nalle-sairaalaa ja Manuelli leikittää lapsia käpylehmillä ja -lampailla. Tervetuloa! Säävaraus\, sateella tapahtumaa ei järjestetä.
URL:https://www.hirvensalmi.fi/tapahtuma/luonnonpaivan-kavely-kissakosken-laavulle-ja-takaisin/
ORGANIZER;CN="J%C3%A4rjest%C3%B6jen yhteinen Suomi 100 v tapahtuma":MAILTO:merjamp@gmail.com
END:VEVENT
BEGIN:VEVENT
DTSTART;TZID=Europe/Helsinki:20170826T100000
DTEND;TZID=Europe/Helsinki:20170826T100000
DTSTAMP:20260422T130841
CREATED:20170629T095321Z
LAST-MODIFIED:20170705T054142Z
UID:5875-1503741600-1503741600@www.hirvensalmi.fi
SUMMARY:Luonnonpäivän aamu ikäihmisille
DESCRIPTION:Ikäihmisten luontoaamu Roosin rannassa. Ohjelmana paistetaan yhdessä lettuja ja makkaraa\,\njuodaan kahvia ja nautitaan Suomen suvesta.\nRuskakuoro esiintyy osana kuorojen päivää myös tässä tapahtumassa.\nSateen tai myrskyn sattuessa tilaisuutta ei järjestetä. \nTervetuloa!
URL:https://www.hirvensalmi.fi/tapahtuma/luonnonpaivan-aamu-ikaihmisille/
LOCATION:Roosin ranta
ORGANIZER;CN="J%C3%A4rjest%C3%B6jen yhteinen Suomi 100'v tapahtuma":MAILTO:merjamp@gmail.com
END:VEVENT
BEGIN:VEVENT
DTSTART;TZID=Europe/Helsinki:20170822T180000
DTEND;TZID=Europe/Helsinki:20170822T190000
DTSTAMP:20260422T130841
CREATED:20170817T051853Z
LAST-MODIFIED:20170817T052106Z
UID:5957-1503424800-1503428400@www.hirvensalmi.fi
SUMMARY:Kesäkahvit kaupalla
DESCRIPTION:Mep Henna Virkkunen ja Kokoomuksen vpj Janne Sankelo tapaamassa hirvensalmelaisia kahvikupposen äärellä.\nMukavia juttuhetkia ajankohtaisista asioista! \nTervetuloa!
URL:https://www.hirvensalmi.fi/tapahtuma/kesakahvit-kaupalla/
LOCATION:S-Market Hirvensalmi\, Hirvensalmentie\, Hirvensalmi\, 52550
ORGANIZER;CN="Hirvensalmen Kokoomus ry.":MAILTO:pirkko.luntta@pp.inet.fi
END:VEVENT
BEGIN:VEVENT
DTSTART;TZID=Europe/Helsinki:20170810T180000
DTEND;TZID=Europe/Helsinki:20170810T180000
DTSTAMP:20260422T130841
CREATED:20170111T103755Z
LAST-MODIFIED:20170111T103755Z
UID:5203-1502388000-1502388000@www.hirvensalmi.fi
SUMMARY:Kunniakierros
DESCRIPTION:Kunniakierros varainhankinta seuroille.
URL:https://www.hirvensalmi.fi/tapahtuma/kunniakierros-3/
LOCATION:Urheilukenttä\, Kisatie 3\, Hirvensalmi\, Suomi
ORGANIZER;CN="Hirvensalmen urheilijat":MAILTO:hirvensalmenurheilijat@gmail.com
END:VEVENT
BEGIN:VEVENT
DTSTART;TZID=Europe/Helsinki:20170808T113000
DTEND;TZID=Europe/Helsinki:20170808T140000
DTSTAMP:20260422T130841
CREATED:20170724T112116Z
LAST-MODIFIED:20170724T112116Z
UID:5928-1502191800-1502200800@www.hirvensalmi.fi
SUMMARY:Tunnissa maapallon ympäri kävelytapahtuma
DESCRIPTION:Eläkeliiton Suomi 100 haastekilpailu kävellen tunnissa maapallon ympäri.\nKävelytempauksessa lasketaan yhteen kaikkien osallistujien kävelemä matka. Valtakunnallisen kävelytapahtuman tarkoituksena on kannustaa ikääntyviä yhteisölliseen liikuntaan.
URL:https://www.hirvensalmi.fi/tapahtuma/tunnissa-maapallon-ympari-kavelytapahtuma/
LOCATION:Urheilukenttä\, Kisatie 1\, Hirvensalmi\, 52550
END:VEVENT
BEGIN:VEVENT
DTSTART;TZID=Europe/Helsinki:20170805T180000
DTEND;TZID=Europe/Helsinki:20170806T003000
DTSTAMP:20260422T130841
CREATED:20161216T075118Z
LAST-MODIFIED:20161216T075118Z
UID:5081-1501956000-1501979400@www.hirvensalmi.fi
SUMMARY:Parturi-Kampaamo SOILE;n 30 v. juhlatanssit
DESCRIPTION:
URL:https://www.hirvensalmi.fi/tapahtuma/parturi-kampaamo-soilen-30-v-juhlatanssit/
LOCATION:Kellokallion lava
END:VEVENT
BEGIN:VEVENT
DTSTART;TZID=Europe/Helsinki:20170805T120000
DTEND;TZID=Europe/Helsinki:20170805T150000
DTSTAMP:20260422T130841
CREATED:20170713T113636Z
LAST-MODIFIED:20170714T063506Z
UID:5905-1501934400-1501945200@www.hirvensalmi.fi
SUMMARY:Ripatin kansakoulua käyneet
DESCRIPTION:Tapaaminen Ripatin koululla lauantaina 5.8.2017 kello 12.-15.\nHämeenmäentie 412.
URL:https://www.hirvensalmi.fi/tapahtuma/ripatin-kansakoulua-kayneet/
LOCATION:Ripatin vanha koulu\, Hämeenmäentie 412\, Hirvensalmi\, 52550
END:VEVENT
BEGIN:VEVENT
DTSTART;TZID=Europe/Helsinki:20170805T110000
DTEND;TZID=Europe/Helsinki:20170805T130000
DTSTAMP:20260422T130841
CREATED:20170802T103757Z
LAST-MODIFIED:20170802T103757Z
UID:5936-1501930800-1501938000@www.hirvensalmi.fi
SUMMARY:Kansallispukujen tuuletus-piknik Manuellin pihapiirissä !
DESCRIPTION:Lauantai 5.8.2017 on kansainvälinen kansallispukujen tuuletuspäivä. Pukeudu kansallispukuun\, kansanpukuun tai johonkin niiden osaa. Myös iloinen mieli ja kukkamekko käy. Ota matkaan eväät ja ystävät. Variksenpelätin -kisan palkintojenjako. Kotiseutumuseo myös avoinna piknikin ajan. Järjestelyissä mukana Käsityöyhdistys ja Kirkonkylän Martat. TERVETULOA !
URL:https://www.hirvensalmi.fi/tapahtuma/kansallispukujen-tuuletus-piknik-manuellin-pihapiirissa/
LOCATION:Käsityöpuoti Puulan Manuelli\, Junnankuja 25\, Hirvensalmi\, 52550
ORGANIZER;CN="Hirvensalmen k%C3%A4sity%C3%B6yhdistys ry":MAILTO:posti@puulanmanuelli.fi
END:VEVENT
BEGIN:VEVENT
DTSTART;TZID=Europe/Helsinki:20170803T180000
DTEND;TZID=Europe/Helsinki:20170803T193000
DTSTAMP:20260422T130841
CREATED:20161227T075620Z
LAST-MODIFIED:20161227T075620Z
UID:5100-1501783200-1501788600@www.hirvensalmi.fi
SUMMARY:Monikkalan virsi-ilta
DESCRIPTION:Virsi-ilta Monikkalan hirvimajalla.
URL:https://www.hirvensalmi.fi/tapahtuma/monikkalan-virsi-ilta-2/
LOCATION:Monikkalan hirvimaja\, Huruslammentie 147\, Hietanen\, 52510
END:VEVENT
BEGIN:VEVENT
DTSTART;TZID=Europe/Helsinki:20170803T180000
DTEND;TZID=Europe/Helsinki:20170803T180000
DTSTAMP:20260422T130841
CREATED:20170111T103731Z
LAST-MODIFIED:20170111T103731Z
UID:5202-1501783200-1501783200@www.hirvensalmi.fi
SUMMARY:Hippo-kisat
DESCRIPTION:Sarjat: T/P 0-12v
URL:https://www.hirvensalmi.fi/tapahtuma/hippo-kisat-2/
LOCATION:Urheilukenttä\, Kisatie 1\, Hirvensalmi\, 52550
ORGANIZER;CN="Hirvensalmen urheilijat":MAILTO:hirvensalmenurheilijat@gmail.com
END:VEVENT
BEGIN:VEVENT
DTSTART;TZID=Europe/Helsinki:20170730T130000
DTEND;TZID=Europe/Helsinki:20170730T150000
DTSTAMP:20260422T130841
CREATED:20161227T075557Z
LAST-MODIFIED:20161227T075557Z
UID:5098-1501419600-1501426800@www.hirvensalmi.fi
SUMMARY:Metsävirsiseurat Koluntorpan tilalla
DESCRIPTION:Metsävirsiseurat Koluntorpan tilalla\, opastus Heinämäentieltä. Alueen kylätoimikunta toisena järjestäjänä.
URL:https://www.hirvensalmi.fi/tapahtuma/metsavirsiseurat-koluntorpan-tilalla/
LOCATION:Hirvensalmi\, Heinämäki\, Hirvensalmi\, 52550
END:VEVENT
END:VCALENDAR