BEGIN:VCALENDAR
VERSION:2.0
PRODID:-//Hirvensalmi - ECPv6.6.4.2//NONSGML v1.0//EN
CALSCALE:GREGORIAN
METHOD:PUBLISH
X-ORIGINAL-URL:https://www.hirvensalmi.fi
X-WR-CALDESC:Tapahtumat Hirvensalmi
REFRESH-INTERVAL;VALUE=DURATION:PT1H
X-Robots-Tag:noindex
X-PUBLISHED-TTL:PT1H
BEGIN:VTIMEZONE
TZID:Europe/Helsinki
BEGIN:DAYLIGHT
TZOFFSETFROM:+0200
TZOFFSETTO:+0300
TZNAME:EEST
DTSTART:20160327T010000
END:DAYLIGHT
BEGIN:STANDARD
TZOFFSETFROM:+0300
TZOFFSETTO:+0200
TZNAME:EET
DTSTART:20161030T010000
END:STANDARD
BEGIN:DAYLIGHT
TZOFFSETFROM:+0200
TZOFFSETTO:+0300
TZNAME:EEST
DTSTART:20170326T010000
END:DAYLIGHT
BEGIN:STANDARD
TZOFFSETFROM:+0300
TZOFFSETTO:+0200
TZNAME:EET
DTSTART:20171029T010000
END:STANDARD
END:VTIMEZONE
BEGIN:VEVENT
DTSTART;TZID=Europe/Helsinki:20170225T120000
DTEND;TZID=Europe/Helsinki:20170225T120000
DTSTAMP:20260422T181621
CREATED:20170130T100852Z
LAST-MODIFIED:20170130T100852Z
UID:5323-1488024000-1488024000@www.hirvensalmi.fi
SUMMARY:HAU:n talvicup 2017
DESCRIPTION:Ajopaikka Likene. Katso säävaraus kotisivut.
URL:https://www.hirvensalmi.fi/tapahtuma/haun-talvicup-2017-3/
LOCATION:Liekune\, hirvensalmentie 39\, hirvensalmi\, 52550\, Suomi
ORGANIZER;CN="Hirvensalmen Urheiluautoilijat":MAILTO:hauinfonet@gmail.com
END:VEVENT
BEGIN:VEVENT
DTSTART;TZID=Europe/Helsinki:20170223T150000
DTEND;TZID=Europe/Helsinki:20170223T163000
DTSTAMP:20260422T181621
CREATED:20170207T085214Z
LAST-MODIFIED:20170207T085214Z
UID:5356-1487862000-1487867400@www.hirvensalmi.fi
SUMMARY:Ohjattu liikuntatuokio
DESCRIPTION:Luisteluharjoitus kaikenikäisille\nOmat luistimet mukaan. Pakkasraja -15 C.
URL:https://www.hirvensalmi.fi/tapahtuma/ohjattu-liikuntatuokio-2/
LOCATION:Hirvensalmen jääkiekkokaukalo\, Koulutie 4\, Hirvensalmi\, 52550
END:VEVENT
BEGIN:VEVENT
DTSTART;TZID=Europe/Helsinki:20170222T080000
DTEND;TZID=Europe/Helsinki:20170222T170000
DTSTAMP:20260422T181621
CREATED:20170223T063610Z
LAST-MODIFIED:20170223T063610Z
UID:5409-1487750400-1487782800@www.hirvensalmi.fi
SUMMARY:Laskiaistapahtuma
DESCRIPTION:Laskiaistapahtuma alkaa klo 10 ulkoilun merkeissä. Liiku haluamallasi tavalla. Voit kokeilla tandemhiihtoa\, laskea mäkeä (oma liukuri mukaan)\,kävellä tai potkukelkkailla. Ihan miten vain. Kokoontuminen Seurojentalolla.\nKlo 11.30 alkaen hernekeitto sekä kahvi ja pulla hintaan 5 euroa. Pelkkä kahvi ja pulla 2 euroa.\nTervetuloa kaikki viettämään reipasta laskiaista hyvässä seurassa.
URL:https://www.hirvensalmi.fi/tapahtuma/laskiaistapahtuma/
LOCATION:Seuratalo\, Pitäjäntie 9\, Hirvensalmi\, 52550
END:VEVENT
BEGIN:VEVENT
DTSTART;TZID=Europe/Helsinki:20170216T150000
DTEND;TZID=Europe/Helsinki:20170216T163000
DTSTAMP:20260422T181621
CREATED:20170207T080552Z
LAST-MODIFIED:20170207T080552Z
UID:5355-1487257200-1487262600@www.hirvensalmi.fi
SUMMARY:Ohjattu liikuntatuokio
DESCRIPTION:Perinteistä hiihtoa. Voitelupalvelu. Mukaan omat hiihtovarusteet. Kokoontuminen kentän parkkipaikalle. Pakkasraja -15 C.
URL:https://www.hirvensalmi.fi/tapahtuma/ohjattu-liikuntatuokio/
LOCATION:Urheilukenttä\, Kisatie 3\, Hirvensalmi\, Suomi
END:VEVENT
BEGIN:VEVENT
DTSTART;TZID=Europe/Helsinki:20170214T180000
DTEND;TZID=Europe/Helsinki:20170214T200000
DTSTAMP:20260422T181621
CREATED:20170123T063757Z
LAST-MODIFIED:20170123T063757Z
UID:5294-1487095200-1487102400@www.hirvensalmi.fi
SUMMARY:Rusettiluistelu
DESCRIPTION:Rusettiluistelu-tapahtuman koulun luistelukaukalossa ystävänpäivänä ti 14.2. klo 18-20. \nSäävaraus.
URL:https://www.hirvensalmi.fi/tapahtuma/rusettiluistelu/
END:VEVENT
BEGIN:VEVENT
DTSTART;TZID=Europe/Helsinki:20170214T120000
DTEND;TZID=Europe/Helsinki:20170214T140000
DTSTAMP:20260422T181621
CREATED:20170123T063502Z
LAST-MODIFIED:20170123T063502Z
UID:5278-1487073600-1487080800@www.hirvensalmi.fi
SUMMARY:Kaikille hyvä Hirvensalmi tehdään yhdessä
DESCRIPTION:Ystävänpäivä kahvit – Sinua kuunnellen!
URL:https://www.hirvensalmi.fi/tapahtuma/kaikille-hyva-hirvensalmi-tehdaan-yhdessa-2/
LOCATION:S-Market Hirvensalmi\, Hirvensalmentie\, Hirvensalmi\, 52550
ATTACH;FMTTYPE=image/jpeg:https://www.hirvensalmi.fi/wp-content/uploads/2017/01/ystavanpaivaa.jpg
ORGANIZER;CN="Hirvensalmen Kokoomus":MAILTO:pirkko.luntta@pp.inet.fi
END:VEVENT
BEGIN:VEVENT
DTSTART;TZID=Europe/Helsinki:20170211T130000
DTEND;TZID=Europe/Helsinki:20170211T160000
DTSTAMP:20260422T181621
CREATED:20170130T100825Z
LAST-MODIFIED:20170130T100825Z
UID:5322-1486818000-1486828800@www.hirvensalmi.fi
SUMMARY:Jumppakimara
DESCRIPTION:Klo 13-14 Suomi 100 Lavis\nKlo 14-15 Kuntojumppa\nKlo 15-16 Venyttely ja kehonhuolto\nOhjaaja Jaana Strandman\nMaksuton\nTervetuloa
URL:https://www.hirvensalmi.fi/tapahtuma/jumppakimara/
LOCATION:Elomaan koulu\, Koulutie\, 52550 Hirvensalmi\, Hirvensalmi\, 52550
ORGANIZER;CN="Hirvensalmen urheilijat":MAILTO:hirvensalmenurheilijat@gmail.com
END:VEVENT
BEGIN:VEVENT
DTSTART;TZID=Europe/Helsinki:20170211T120000
DTEND;TZID=Europe/Helsinki:20170211T120000
DTSTAMP:20260422T181621
CREATED:20170126T055739Z
LAST-MODIFIED:20170126T055739Z
UID:5317-1486814400-1486814400@www.hirvensalmi.fi
SUMMARY:HAU:n talvicup 2017
DESCRIPTION:Ajopaikka Liekuneen jää. Säävaraus\, seuraa HAU:n kotisivuja.
URL:https://www.hirvensalmi.fi/tapahtuma/haun-talvicup-2017-2/
LOCATION:Liekune\, hirvensalmentie 39\, hirvensalmi\, 52550\, Suomi
ORGANIZER;CN="Hirvensalmen Urheiluautoilijat":MAILTO:hauinfonet@gmail.com
END:VEVENT
BEGIN:VEVENT
DTSTART;TZID=Europe/Helsinki:20170204T133000
DTEND;TZID=Europe/Helsinki:20170204T160000
DTSTAMP:20260422T181621
CREATED:20170130T055930Z
LAST-MODIFIED:20170130T055930Z
UID:5318-1486215000-1486224000@www.hirvensalmi.fi
SUMMARY:Liikutaan Suonteen jäällä
DESCRIPTION:Tule mukaan nauttimaan järvimaisemista\, liikkumisesta ja yhdessäolosta jäällä! Lähtö Joutsantie 1280 rannasta luistelu-uraa pitkin luistimilla tai potkurilla tai uran vieressä suksilla tai jalan. Kääntöpaikassa tarjolla nokipannukahvia ja mehua. Muuten omat eväät tarpeen mukaan. Edestakainen matka n 10 km.
URL:https://www.hirvensalmi.fi/tapahtuma/liikutaan-suonteen-jaalla/
LOCATION:Tuukkalan ranta
END:VEVENT
BEGIN:VEVENT
DTSTART;TZID=Europe/Helsinki:20170131T123000
DTEND;TZID=Europe/Helsinki:20170131T160000
DTSTAMP:20260422T181621
CREATED:20170104T060430Z
LAST-MODIFIED:20170104T060430Z
UID:5157-1485865800-1485878400@www.hirvensalmi.fi
SUMMARY:Talvitapahtuma
DESCRIPTION:Perinteinen Eläkeliiton Hirvensalmen yhdistyksen Talvitapahtuma on tänäkin vuonna täynnä taattua laatua olevaa mukavaa ohjelmaa hyvässä seurassa ja tietenkin myös tanssia. Musiikista vastaa Pete Nikulainen. Lipun hintaan sisältyy kahvia ja voileipiä.
URL:https://www.hirvensalmi.fi/tapahtuma/talvitapahtuma-2/
LOCATION:Seuratalo\, Pitäjäntie 9\, Hirvensalmi\, 52550
END:VEVENT
BEGIN:VEVENT
DTSTART;TZID=Europe/Helsinki:20170130T120000
DTEND;TZID=Europe/Helsinki:20170130T120000
DTSTAMP:20260422T181621
CREATED:20170130T100908Z
LAST-MODIFIED:20170130T100908Z
UID:5324-1485777600-1485777600@www.hirvensalmi.fi
SUMMARY:HAU:n talvicup 2017
DESCRIPTION:Ajopaikka Liekune. Säävaraus katso kotisivut.
URL:https://www.hirvensalmi.fi/tapahtuma/haun-talvicup-2017-4/
LOCATION:Liekune\, hirvensalmentie 39\, hirvensalmi\, 52550\, Suomi
ORGANIZER;CN="Hirvensalmen Urheiluautoilijat":MAILTO:hauinfonet@gmail.com
END:VEVENT
BEGIN:VEVENT
DTSTART;TZID=Europe/Helsinki:20170129T133000
DTEND;TZID=Europe/Helsinki:20170129T160000
DTSTAMP:20260422T181621
CREATED:20170130T060010Z
LAST-MODIFIED:20170130T060010Z
UID:5320-1485696600-1485705600@www.hirvensalmi.fi
SUMMARY:Liikutaan Suonteen jäällä
DESCRIPTION:Tule mukaan nauttimaan järvimaisemista\, liikkumisesta ja yhdessäolosta jäällä! Lähtö Joutsantie 1280 rannasta luistelu-uraa pitkin luistimilla tai potkurilla tai uran vieressä suksilla tai jalan. Kääntöpaikassa tarjolla nokipannukahvia ja mehua. Muuten omat eväät tarpeen mukaan. Edestakainen matka n 10 km.
URL:https://www.hirvensalmi.fi/tapahtuma/liikutaan-suonteen-jaalla-2/
LOCATION:Tuukkalan ranta
END:VEVENT
BEGIN:VEVENT
DTSTART;TZID=Europe/Helsinki:20170128T100000
DTEND;TZID=Europe/Helsinki:20170128T120000
DTSTAMP:20260422T181621
CREATED:20170123T063428Z
LAST-MODIFIED:20170327T125542Z
UID:5275-1485597600-1485604800@www.hirvensalmi.fi
SUMMARY:Kaikille hyvä Hirvensalmi tehdään yhdessä
DESCRIPTION:Hyviä keskusteluja kuntalaisten kanssa\, lämmintä kahvia\, ideoita toteutettavaksi eteenpäin\,\nsotea\, yhdessä oloa-HYVÄ KUNTA TEHDÄÄN YHDESSÄ!
URL:https://www.hirvensalmi.fi/tapahtuma/kaikille-hyva-hirvensalmi-tehdaan-yhdessa/
LOCATION:S-Market Hirvensalmi\, Hirvensalmentie\, Hirvensalmi\, 52550
ATTACH;FMTTYPE=image/png:https://www.hirvensalmi.fi/wp-content/uploads/2017/01/kaikille-hyvä-kunta.png
ORGANIZER;CN="Hirvensalmen Kokoomus ry.":MAILTO:pirkko.luntta@pp.inet.fi
END:VEVENT
BEGIN:VEVENT
DTSTART;TZID=Europe/Helsinki:20170122T120000
DTEND;TZID=Europe/Helsinki:20170122T120000
DTSTAMP:20260422T181621
CREATED:20170120T125338Z
LAST-MODIFIED:20170120T125338Z
UID:5290-1485086400-1485086400@www.hirvensalmi.fi
SUMMARY:HAU:n talvicup 2017
DESCRIPTION:Ajopaikka Liekuneen jää. Kaikilla päivillä säävaraus.\nSeuraa kotisivuja
URL:https://www.hirvensalmi.fi/tapahtuma/haun-talvicup-2017/
LOCATION:Liekune\, hirvensalmentie 39\, hirvensalmi\, 52550\, Suomi
ORGANIZER;CN="Hirvensalmen Urheiluautoilijat":MAILTO:hauinfonet@gmail.com
END:VEVENT
BEGIN:VEVENT
DTSTART;TZID=Europe/Helsinki:20170122T100000
DTEND;TZID=Europe/Helsinki:20170122T140000
DTSTAMP:20260422T181621
CREATED:20170113T070741Z
LAST-MODIFIED:20170113T070741Z
UID:5230-1485079200-1485093600@www.hirvensalmi.fi
SUMMARY:Jäsenten välinen pilkkikisa
DESCRIPTION:Jäsenten välinen pilkkikisa. Paikka avoin
URL:https://www.hirvensalmi.fi/tapahtuma/jasenten-valinen-pilkkikisa/
ORGANIZER;CN="Hirvensalmen Kalamiehet ry":MAILTO:reijo.tanttu@surffi.fi
END:VEVENT
BEGIN:VEVENT
DTSTART;TZID=Europe/Helsinki:20170121T100000
DTEND;TZID=Europe/Helsinki:20170121T140000
DTSTAMP:20260422T181621
CREATED:20170113T091839Z
LAST-MODIFIED:20170113T091839Z
UID:5235-1484992800-1485007200@www.hirvensalmi.fi
SUMMARY:Kasvisruokakurssi - Herkkuja kasviksista
DESCRIPTION:Mukana järjestelyissä myös MTK
URL:https://www.hirvensalmi.fi/tapahtuma/kasvisruokakurssi-herkkuja-kasviksista/
LOCATION:Elomaan koulu\, Koulutie\, 52550 Hirvensalmi\, Hirvensalmi\, 52550
ORGANIZER;CN="Hirvensalmen maa-ja kotitalousseura+MTK":MAILTO:outi.kiesila@proagria.fi
END:VEVENT
BEGIN:VEVENT
DTSTART;TZID=Europe/Helsinki:20170111T180000
DTEND;TZID=Europe/Helsinki:20170111T180000
DTSTAMP:20260422T181621
CREATED:20170111T104648Z
LAST-MODIFIED:20170111T104648Z
UID:5207-1484157600-1484157600@www.hirvensalmi.fi
SUMMARY:Maastojuoksu Cup
DESCRIPTION:Sarjat: T/P 6-Yl
URL:https://www.hirvensalmi.fi/tapahtuma/maastojuoksu-cup-3/
LOCATION:Urheilukenttä\, Kisatie 3\, Hirvensalmi\, Suomi
ORGANIZER;CN="Hirvensalmen urheilijat":MAILTO:hirvensalmenurheilijat@gmail.com
END:VEVENT
BEGIN:VEVENT
DTSTART;TZID=Europe/Helsinki:20161215T170000
DTEND;TZID=Europe/Helsinki:20161215T193000
DTSTAMP:20260422T181621
CREATED:20161130T073713Z
LAST-MODIFIED:20161130T073713Z
UID:5014-1481821200-1481830200@www.hirvensalmi.fi
SUMMARY:Pähkinänsärkijä näytelmä
DESCRIPTION:Elomaan koulun oppilaat esittävät joulunäytelmän Pähkinänsärkijä. Sisäänpääsy maksu 5 euroa sisältää kahvin ja leivonnaisen. Vanhempaintoimikunta avaa kahvion kello 17.00. Sisäänpääsy maksun tuotto menee luokkaretki rahastoon.\nOlette tervetulleita esitykseemme.
URL:https://www.hirvensalmi.fi/tapahtuma/pahkinansarkija-naytelma/
LOCATION:Elomaan koulu\, Koulutie\, 52550 Hirvensalmi\, Hirvensalmi\, 52550
ORGANIZER;CN="Elomaan koulu":MAILTO:tiina.ripatti@hirvensalmi.fi
END:VEVENT
BEGIN:VEVENT
DTSTART;TZID=Europe/Helsinki:20161213T113000
DTEND;TZID=Europe/Helsinki:20161213T113000
DTSTAMP:20260422T181621
CREATED:20161128T060514Z
LAST-MODIFIED:20161128T060514Z
UID:4999-1481628600-1481628600@www.hirvensalmi.fi
SUMMARY:Joulujuhla
DESCRIPTION:Ohjelmallinen Joulujuhla ja samalla syyskauden päättäjäiset. Tarjolla puuroa sekä kahvi ja torttu. Tiernapojat ja kuorot esiintyvät. Lisäksi arvontaa. Tervetuloa!
URL:https://www.hirvensalmi.fi/tapahtuma/joulujuhla/
LOCATION:Seuratalo\, Pitäjäntie 9\, Hirvensalmi\, 52550
END:VEVENT
BEGIN:VEVENT
DTSTART;TZID=Europe/Helsinki:20161212T110000
DTEND;TZID=Europe/Helsinki:20161212T130000
DTSTAMP:20260422T181621
CREATED:20161122T062943Z
LAST-MODIFIED:20161122T062943Z
UID:4970-1481540400-1481547600@www.hirvensalmi.fi
SUMMARY:Neulahuovutettu hiiri kurssi
DESCRIPTION:Opettelemme valmistamaan hiiren neulahuovuttamalla. Kurssille kaikki tervetulleita !
URL:https://www.hirvensalmi.fi/tapahtuma/neulahuovutettu-hiiri-kurssi/
LOCATION:Käsityöpuoti Puulan Manuelli\, Junnankuja 25\, Hirvensalmi\, 52550
ORGANIZER;CN="Hirvensalmen k%C3%A4sity%C3%B6yhdistys ry":MAILTO:posti@puulanmanuelli.fi
END:VEVENT
BEGIN:VEVENT
DTSTART;TZID=Europe/Helsinki:20161208T100000
DTEND;TZID=Europe/Helsinki:20161208T170000
DTSTAMP:20260422T181621
CREATED:20161128T060543Z
LAST-MODIFIED:20161128T060553Z
UID:5000-1481191200-1481216400@www.hirvensalmi.fi
SUMMARY:Glögi-tarjoilu lahjatavarapuoti Puulan Manuellissa 8.12.2016
DESCRIPTION:Glögi-tarjoilu torstaina 8.12.2016 klo. 10 – 17\nMyynnissä myös jouluherkkuja !\nTervetuloa !
URL:https://www.hirvensalmi.fi/tapahtuma/glogi-tarjoilu-lahjatavarapuoti-puulan-manuellissa-8-12-2016/
LOCATION:Käsityöpuoti Puulan Manuelli\, Junnankuja 25\, Hirvensalmi\, 52550
ORGANIZER;CN="Hirvensalmen k%C3%A4sity%C3%B6yhdistys ry":MAILTO:posti@puulanmanuelli.fi
END:VEVENT
BEGIN:VEVENT
DTSTART;TZID=Europe/Helsinki:20161201T100000
DTEND;TZID=Europe/Helsinki:20161231T120000
DTSTAMP:20260422T181621
CREATED:20161128T060619Z
LAST-MODIFIED:20161128T060628Z
UID:5001-1480586400-1483185600@www.hirvensalmi.fi
SUMMARY:Tontut Risti ja Pisto\,  jouluinen näyttely kudontapajassa
DESCRIPTION:Kudontapajassa esillä jouluisia ristipistotöitä 1.12 – 31.12. 2016\nMa – Pe 10 – 17\nLa 9 – 13\n6.12 suljettu\n24.12 9 – 12\n26.12 suljettu\n31.12 9 – 12\nTervetuloa !
URL:https://www.hirvensalmi.fi/tapahtuma/tontut-risti-ja-pisto-jouluinen-nayttely-kudontapajassa/
LOCATION:Käsityöpuoti Puulan Manuelli\, Junnankuja 25\, Hirvensalmi\, 52550
ATTACH;FMTTYPE=image/jpeg:https://www.hirvensalmi.fi/wp-content/uploads/2016/11/2016-11-27-22.06.29.jpg
ORGANIZER;CN="Hirvensalmen k%C3%A4sity%C3%B6yhdistys ry":MAILTO:posti@puulanmanuelli.fi
END:VEVENT
BEGIN:VEVENT
DTSTART;TZID=Europe/Helsinki:20161129T113000
DTEND;TZID=Europe/Helsinki:20161129T113000
DTSTAMP:20260422T181621
CREATED:20161114T064119Z
LAST-MODIFIED:20161114T064136Z
UID:4925-1480419000-1480419000@www.hirvensalmi.fi
SUMMARY:Muistipäivä!
DESCRIPTION:Muistipäivän asiantuntijavieraana Aini Ruhanen. Kaikille tärkeää asiaa!
URL:https://www.hirvensalmi.fi/tapahtuma/muistipaiva/
LOCATION:Seuratalo\, Pitäjäntie 9\, Hirvensalmi\, 52550
END:VEVENT
BEGIN:VEVENT
DTSTART;TZID=Europe/Helsinki:20161128T110000
DTEND;TZID=Europe/Helsinki:20161128T130000
DTSTAMP:20260422T181621
CREATED:20161122T062900Z
LAST-MODIFIED:20161122T062909Z
UID:4969-1480330800-1480338000@www.hirvensalmi.fi
SUMMARY:Makramee-lumihiutale kurssi
DESCRIPTION:Opettelemme kurssilla valmistamaan solmeillen paperinarusta lumihiutaleita.\nKurssille kaikki tervetulleita !
URL:https://www.hirvensalmi.fi/tapahtuma/makramee-lumihiutale-kurssi/
LOCATION:Käsityöpuoti Puulan Manuelli\, Junnankuja 25\, Hirvensalmi\, 52550
ORGANIZER;CN="Hirvensalmen k%C3%A4sity%C3%B6yhdistys ry":MAILTO:posti@puulanmanuelli.fi
END:VEVENT
BEGIN:VEVENT
DTSTART;VALUE=DATE:20161126
DTEND;VALUE=DATE:20161128
DTSTAMP:20260422T181621
CREATED:20161117T055634Z
LAST-MODIFIED:20161117T055641Z
UID:4948-1480129200-1480215599@www.hirvensalmi.fi
SUMMARY:Kirpputori ja myyntitapahtuma
DESCRIPTION:Kirpputorilla mm.vaatteita\, astioita\, mattoja\, leluja ym.\nMyynnissä myös lyhteitä\, kransseja\, linnunsyöttöautomaatteja ym.\nKahvio avoinna koko päivän. Tervetuloa tekemään löytöjä.
URL:https://www.hirvensalmi.fi/tapahtuma/kirpputori-ja-myyntitapahtuma/
LOCATION:Seuratalo\, Pitäjäntie 9\, Hirvensalmi\, 52550
END:VEVENT
BEGIN:VEVENT
DTSTART;TZID=Europe/Helsinki:20161125T180000
DTEND;TZID=Europe/Helsinki:20161125T190000
DTSTAMP:20260422T181621
CREATED:20161125T125545Z
LAST-MODIFIED:20161125T125545Z
UID:4983-1480096800-1480100400@www.hirvensalmi.fi
SUMMARY:Etelä-Savon maakunta v.2019
DESCRIPTION:Tule kuuntelemaan missä mennään maakuntauudistuksessa.\nMaakuntajohtaja Pentti Mäkinen kertoo mitä maakuntauudistus tuo Etelä-Savoon. \nKahvitarjoilu ennen tilaisuutta klo 17:30 alkaen valtuustosalissa.
URL:https://www.hirvensalmi.fi/tapahtuma/etela-savon-maakunta-v-2019/
LOCATION:Hirvensalmen kunnanvirasto\, Keskustie 2\, Hirvensalmi\, 52550
END:VEVENT
BEGIN:VEVENT
DTSTART;TZID=Europe/Helsinki:20161122T160000
DTEND;TZID=Europe/Helsinki:20161122T160000
DTSTAMP:20260422T181621
CREATED:20161122T114324Z
LAST-MODIFIED:20161122T114324Z
UID:4975-1479830400-1479830400@www.hirvensalmi.fi
SUMMARY:Herkkujen Yö
DESCRIPTION:Herkkujejn Yö 26 kerta Myynnissä monenlaisia herkkuja \, esityksiä \, arpajaiset\, ja tanssit lopuksi.
URL:https://www.hirvensalmi.fi/tapahtuma/herkkujen-yo-3/
LOCATION:Lahnaniemen seurojentalo
ORGANIZER;CN="Lahnaniemen kyl%C3%A4toimikunta":MAILTO:lahnaniemenkylatoimikunta@gmail.com
END:VEVENT
BEGIN:VEVENT
DTSTART;TZID=Europe/Helsinki:20161122T113000
DTEND;TZID=Europe/Helsinki:20161122T113000
DTSTAMP:20260422T181621
CREATED:20161114T064024Z
LAST-MODIFIED:20161114T064039Z
UID:4924-1479814200-1479814200@www.hirvensalmi.fi
SUMMARY:Hyvinvointipäivä
DESCRIPTION:Vieraaksi tulee hyvinvointivalmentaja Maria Jaatinen. Hän kertoo hyvinvointiin liittyvistä hoidoista. Hän antaa työssään mm.elämäntaidon valmennusta ja hyvinvointihoitoja vauvasta vaariin.\nTervetuloa kuuntelemaan ja tekemään kysymyksiä.
URL:https://www.hirvensalmi.fi/tapahtuma/hyvinvointipaiva/
LOCATION:Seuratalo\, Pitäjäntie 9\, Hirvensalmi\, 52550
END:VEVENT
BEGIN:VEVENT
DTSTART;TZID=Europe/Helsinki:20161119T120000
DTEND;TZID=Europe/Helsinki:20161119T120000
DTSTAMP:20260422T181621
CREATED:20161025T102914Z
LAST-MODIFIED:20161025T102914Z
UID:4855-1479556800-1479556800@www.hirvensalmi.fi
SUMMARY:Pikkujouluristeily
DESCRIPTION:Pikkujoulun merkeissä Tallinnan risteily Baltic- Quieen Helsingistä Tallinnaan ja takaisin. Hinta määräytyy henkilö ja hyttikoon mukaan. Kuljetus sisältyy hintaan.\nRuokailut\, Bufee 35 euroa ja aamupala 10\,50 ennakkoon varattuna. Tervetuloa risteilemään.\nMatka on täynnä
URL:https://www.hirvensalmi.fi/tapahtuma/pikkujouluristeily/
LOCATION:Tallinna
ORGANIZER;CN="Hirvensalmen Kalamiehet ry":MAILTO:reijo.tanttu@surffi.fi
END:VEVENT
BEGIN:VEVENT
DTSTART;TZID=Europe/Helsinki:20161115T113000
DTEND;TZID=Europe/Helsinki:20161115T113000
DTSTAMP:20260422T181621
CREATED:20161101T055420Z
LAST-MODIFIED:20161101T055420Z
UID:4878-1479209400-1479209400@www.hirvensalmi.fi
SUMMARY:Isänpäivärääppiäiset ja karaoketanssit
DESCRIPTION:Juhlimme erityisesti tänä vuonna merkkipäiväänsä viettäviä. Lisäksi karaoketanssit.
URL:https://www.hirvensalmi.fi/tapahtuma/isanpaivaraappiaiset-ja-karaoketanssit/
LOCATION:Seuratalo\, Pitäjäntie 9\, Hirvensalmi\, 52550
END:VEVENT
END:VCALENDAR