BEGIN:VCALENDAR
VERSION:2.0
PRODID:-//Hirvensalmi - ECPv6.6.4.2//NONSGML v1.0//EN
CALSCALE:GREGORIAN
METHOD:PUBLISH
X-ORIGINAL-URL:https://www.hirvensalmi.fi
X-WR-CALDESC:Tapahtumat Hirvensalmi
REFRESH-INTERVAL;VALUE=DURATION:PT1H
X-Robots-Tag:noindex
X-PUBLISHED-TTL:PT1H
BEGIN:VTIMEZONE
TZID:Europe/Helsinki
BEGIN:DAYLIGHT
TZOFFSETFROM:+0200
TZOFFSETTO:+0300
TZNAME:EEST
DTSTART:20160327T010000
END:DAYLIGHT
BEGIN:STANDARD
TZOFFSETFROM:+0300
TZOFFSETTO:+0200
TZNAME:EET
DTSTART:20161030T010000
END:STANDARD
END:VTIMEZONE
BEGIN:VEVENT
DTSTART;TZID=Europe/Helsinki:20161108T113000
DTEND;TZID=Europe/Helsinki:20161108T113000
DTSTAMP:20260422T195234
CREATED:20161101T055356Z
LAST-MODIFIED:20161101T055356Z
UID:4877-1478604600-1478604600@www.hirvensalmi.fi
SUMMARY:Eläkeliiton Hirvensalmen yhdistys ry:n syyskokous
DESCRIPTION:Syyskokouksessa käsitellään yhdistyksen vuoden 2017 toimintasuunnitelma ja talousarvio\, sekä valitaan vuodelle 2017 puheenjohtaja ja hallitus.\nTervetuloa
URL:https://www.hirvensalmi.fi/tapahtuma/elakeliiton-hirvensalmen-yhdistys-ryn-syyskokous/
LOCATION:Seuratalo\, Pitäjäntie 9\, Hirvensalmi\, 52550
END:VEVENT
BEGIN:VEVENT
DTSTART;VALUE=DATE:20161031
DTEND;VALUE=DATE:20161102
DTSTAMP:20260422T195234
CREATED:20161101T055329Z
LAST-MODIFIED:20161101T055329Z
UID:4875-1477882800-1477969199@www.hirvensalmi.fi
SUMMARY:Eläkeliiton Hirvensalmen yhdistyksen myyntitapahtuma
DESCRIPTION:Myytävänä havukransseja\, kauralyhteitä\, linnun ruokintapuita ym. ym. Myydään niin kauan kun tavaraa riittää. Myynti tapahtuu S-Market Hirvensalmen piha-alueella.
URL:https://www.hirvensalmi.fi/tapahtuma/elakeliiton-hirvensalmen-yhdistyksen-myyntitapahtuma/
LOCATION:S-Market Hirvensalmi\, Hirvensalmentie\, Hirvensalmi\, 52550
END:VEVENT
BEGIN:VEVENT
DTSTART;TZID=Europe/Helsinki:20161003T150000
DTEND;TZID=Europe/Helsinki:20161003T160000
DTSTAMP:20260422T195234
CREATED:20161003T092649Z
LAST-MODIFIED:20161003T092649Z
UID:4808-1475506800-1475510400@www.hirvensalmi.fi
SUMMARY:Punainen Risti\, Hirvensalmen osasto\, syyskokous
DESCRIPTION:SPR Hirvensalmen osaston jäsenille tarkoitettu syyskokous\, jossa valitaan mm. hallituksen jäsenet seuraavaksi vuodeksi.
URL:https://www.hirvensalmi.fi/tapahtuma/punainen-risti-hirvensalmen-osasto-syyskokous/
LOCATION:Hirvensalmen kunnanvirasto\, Keskustie 2\, Hirvensalmi\, 52550
ORGANIZER;CN="SPR Hirvensalmen osasto":MAILTO:&lt;span class=
END:VEVENT
BEGIN:VEVENT
DTSTART;TZID=Europe/Helsinki:20161001T110000
DTEND;TZID=Europe/Helsinki:20161001T140000
DTSTAMP:20260422T195234
CREATED:20160908T054534Z
LAST-MODIFIED:20160908T054852Z
UID:4734-1475319600-1475330400@www.hirvensalmi.fi
SUMMARY:SYYSMYYJÄISET Puulan Manuellissa
DESCRIPTION:Valmistaudutaan yhteistuumin tulevaan talviaikaan…\nMyynnissä hernekeittoa ( myös omiin astioihin )\nRiisipiirakoita\, syksyn satoa ja leivonnaisia.\nArpajaiset.\nKaikki lämpimästi tervetulleita !
URL:https://www.hirvensalmi.fi/tapahtuma/syysmyyjaiset-puulan-manuellissa-1-10-2016/
LOCATION:Käsityöpuoti Puulan Manuelli\, Junnankuja 25\, Hirvensalmi\, 52550
ATTACH;FMTTYPE=image/jpeg:https://www.hirvensalmi.fi/wp-content/uploads/2016/09/2016-09-07-18.50.16.jpg
ORGANIZER;CN="Hirvensalmen k%C3%A4sity%C3%B6yhdistys ry":MAILTO:posti@puulanmanuelli.fi
END:VEVENT
BEGIN:VEVENT
DTSTART;TZID=Europe/Helsinki:20161001T080000
DTEND;TZID=Europe/Helsinki:20161001T200000
DTSTAMP:20260422T195234
CREATED:20160804T085910Z
LAST-MODIFIED:20160804T085917Z
UID:4612-1475308800-1475352000@www.hirvensalmi.fi
SUMMARY:Hirvensalmi uistelu
DESCRIPTION:Vetouistelu kilpailu la. 1.10.2016 klo. 10-17\nKilpailu Ryökäs-\, Liekune (6 vapaa) ja Puulan yhteislupa-alueilla (10 vapaa).\nIlmoittautuminen Kukka-Kahvilassa klo. 8-9.\nKilpailumaksu 50€/vene. Kipparikokous klo. 9.\nPunnitus Sataman Herkussa klo. 17-18.\nKilpailun järjestää Vetouisteluseura Lake Trollers ry
URL:https://www.hirvensalmi.fi/tapahtuma/hirvensalmi-uistelu/
LOCATION:Hirvensalmi
END:VEVENT
BEGIN:VEVENT
DTSTART;TZID=Europe/Helsinki:20160925T090000
DTEND;TZID=Europe/Helsinki:20160925T150000
DTSTAMP:20260422T195234
CREATED:20160418T064455Z
LAST-MODIFIED:20160418T064455Z
UID:4055-1474794000-1474815600@www.hirvensalmi.fi
SUMMARY:Hirvensalmen Kalamiehet ry:n jäsenten välinen veneonki
DESCRIPTION:Jäsenten välinen veneonkikilpailut. Lähtö: S-Marketin ranta
URL:https://www.hirvensalmi.fi/tapahtuma/hirvensalmen-kalamiehet-ryn-jasenten-valinen-veneonki-3/
LOCATION:S-Marketin ranta
ORGANIZER;CN="Hirvensalmen Kalamiehet ry":MAILTO:reijo.tanttu@surffi.fi
END:VEVENT
BEGIN:VEVENT
DTSTART;VALUE=DATE:20160923
DTEND;VALUE=DATE:20160926
DTSTAMP:20260422T195234
CREATED:20160115T035719Z
LAST-MODIFIED:20160115T035821Z
UID:3401-1474599600-1474772399@www.hirvensalmi.fi
SUMMARY:15. yö Finland Trophy Retro  20h Off Road suunnistuskisa
DESCRIPTION:Lisätietoja puhelimitse
URL:https://www.hirvensalmi.fi/tapahtuma/15-yo-finland-trophy-retro-20h-off-road-suunnistuskisa/
END:VEVENT
BEGIN:VEVENT
DTSTART;TZID=Europe/Helsinki:20160921T110000
DTEND;TZID=Europe/Helsinki:20161020T160000
DTSTAMP:20260422T195234
CREATED:20160908T054646Z
LAST-MODIFIED:20160908T054646Z
UID:4736-1474455600-1476979200@www.hirvensalmi.fi
SUMMARY:Kädentaidon kurssit\, Hirvensalmen käsityöyhdistys ry
DESCRIPTION:Tulevia kädentaidon kursseja Puulan Manuellissa ja Lahnaniemen koululla.\nKaikki lämpimästi tervetulleita !
URL:https://www.hirvensalmi.fi/tapahtuma/kadentaidon-kurssit-hirvensalmen-kasityoyhdistys-ry/
LOCATION:Käsityöpuoti Puulan Manuelli\, Junnankuja 25\, Hirvensalmi\, 52550
ATTACH;FMTTYPE=image/jpeg:https://www.hirvensalmi.fi/wp-content/uploads/2016/09/2016-09-07-20.21.17.jpg
ORGANIZER;CN="Hirvensalmen k%C3%A4sity%C3%B6yhdistys ry":MAILTO:posti@puulanmanuelli.fi
END:VEVENT
BEGIN:VEVENT
DTSTART;TZID=Europe/Helsinki:20160913T110000
DTEND;TZID=Europe/Helsinki:20160913T150000
DTSTAMP:20260422T195234
CREATED:20160830T100206Z
LAST-MODIFIED:20160908T055033Z
UID:4692-1473764400-1473778800@www.hirvensalmi.fi
SUMMARY:ELÄKELIITON HIRVENSALMEN YHDISTYKSEN SYYSKAUDEN AVAUS
DESCRIPTION:Tilaisuus pidetään Leiriniemessä Liekuneen rannalla. Ohjelma säästä riippuen. Mahdollisuus saunomiseen. Tervetuloa kaikki mukaan. Lähtö Seurojentalolta klo 11.00.
URL:https://www.hirvensalmi.fi/tapahtuma/elakeliiton-hirvensalmen-yhdistyksen-syyskauden-avaus-13-9-2016/
LOCATION:Leiriniemi\, Liekune
ORGANIZER;CN="El%C3%A4keliiton Hirvensalmen yhdistys":MAILTO:hirvonen.esko.ilmari@gmail.com
END:VEVENT
BEGIN:VEVENT
DTSTART;TZID=Europe/Helsinki:20160911T090000
DTEND;TZID=Europe/Helsinki:20160911T140000
DTSTAMP:20260422T195234
CREATED:20160418T064437Z
LAST-MODIFIED:20160418T064437Z
UID:4053-1473584400-1473602400@www.hirvensalmi.fi
SUMMARY:Hirvensalmen Kalamiehet ry:n jäsenten välinen veneonki
DESCRIPTION:Jäsenten välinen veneonkikilpailut. Lähtö: S-Marketin ranta
URL:https://www.hirvensalmi.fi/tapahtuma/hirvensalmen-kalamiehet-ryn-jasenten-valinen-veneonki-2/
LOCATION:S-Marketin ranta
ORGANIZER;CN="Hirvensalmen Kalamiehet ry":MAILTO:reijo.tanttu@surffi.fi
END:VEVENT
BEGIN:VEVENT
DTSTART;TZID=Europe/Helsinki:20160906T123000
DTEND;TZID=Europe/Helsinki:20160906T160000
DTSTAMP:20260422T195234
CREATED:20160902T050343Z
LAST-MODIFIED:20160902T050343Z
UID:4708-1473165000-1473177600@www.hirvensalmi.fi
SUMMARY:ELÄKELIITON HIRVENSALMEN YHDISTYS JÄRJESTÄÄ ELONKORJUU TAPAHTUMAN 6.9.2016
DESCRIPTION:Eläkeliiton Hirvensalmen yhdistys järjestää yhdessä Hirvensalmen seurakunnan kanssa sadonkorjuu tapahtuman tiistaina 6.9.2016 klo 12.30 Erkki Hurrin tilalla. Hirvensalmen seurakunnasta kirkkoherra Jukka-Pekka Sepperi siunaa sadon. Osoite on:\nJokikankaantie 12 52550 HIRVENSALMI. Pöydän antimina mm. keittolounas ja kahvitarjoilu. Tervetuloa kaikki mukaan sadon korjuuseen!
URL:https://www.hirvensalmi.fi/tapahtuma/elakeliiton-hirvensalmen-yhdistys-jarjestaa-elonkorjuu-tapahtuman-6-9-2016/
LOCATION:Erkki Hurrin tila\, Jokikankaantie 12\, Hirvensalmi\, 52550
END:VEVENT
BEGIN:VEVENT
DTSTART;TZID=Europe/Helsinki:20160904T100000
DTEND;TZID=Europe/Helsinki:20160904T100000
DTSTAMP:20260422T195234
CREATED:20160115T043056Z
LAST-MODIFIED:20160115T045345Z
UID:3411-1472983200-1472983200@www.hirvensalmi.fi
SUMMARY:Hirvensalmen kirkko 100v\, Messu ja juhla kirkossa
DESCRIPTION:Saarnaa piispa Seppo Häkkinen\, \nkahvitus srk.kodilla.
URL:https://www.hirvensalmi.fi/tapahtuma/hirvensalmen-kirkko-100v-messu-ja-juhla-kirkossa/
LOCATION:Kirkko\, kirkkotie\, Hirvensalmi\, 52550
END:VEVENT
BEGIN:VEVENT
DTSTART;TZID=Europe/Helsinki:20160828T090000
DTEND;TZID=Europe/Helsinki:20160828T140000
DTSTAMP:20260422T195234
CREATED:20160418T064419Z
LAST-MODIFIED:20160418T064419Z
UID:4051-1472374800-1472392800@www.hirvensalmi.fi
SUMMARY:Hirvensalmen Kalamiehet ry:n jäsenten välinen veneonki
DESCRIPTION:Jäsenten välinen veneonkikilpailu. Lähtö S-Marketin ranta.
URL:https://www.hirvensalmi.fi/tapahtuma/hirvensalmen-kalamiehet-ryn-jasenten-valinen-veneonki/
LOCATION:S-Marketin ranta
ORGANIZER;CN="Hirvensalmen Kalamiehet ry":MAILTO:reijo.tanttu@surffi.fi
END:VEVENT
BEGIN:VEVENT
DTSTART;TZID=Europe/Helsinki:20160827T180000
DTEND;TZID=Europe/Helsinki:20160827T180000
DTSTAMP:20260422T195234
CREATED:20151129T213535Z
LAST-MODIFIED:20151129T213535Z
UID:2734-1472320800-1472320800@www.hirvensalmi.fi
SUMMARY:Wenetsialaiset
DESCRIPTION:Juhalassa esiintyy Red  Rose & Other Garden
URL:https://www.hirvensalmi.fi/tapahtuma/wenetsialaiset/
LOCATION:Sataman herkku\, Hirvensalmentie 22A\, Hirvensalmi\, 52550
END:VEVENT
BEGIN:VEVENT
DTSTART;TZID=Europe/Helsinki:20160824T120000
DTEND;TZID=Europe/Helsinki:20160824T150000
DTSTAMP:20260422T195234
CREATED:20160812T104335Z
LAST-MODIFIED:20160812T104335Z
UID:4644-1472040000-1472050800@www.hirvensalmi.fi
SUMMARY:Energianeuvoja tavattavissa Hirvensalmella
DESCRIPTION:Energianeuvoja on tavattavissa Hirvensalmen kunnanvirastolla keskiviikkona 24.8. klo 12-15. Energianeuvojalta saa tietoa energiankäytöstä ja vinkkejä oman talouden energiankulutuksen vähentämiseen. \nMaksutonta energianeuvontaa tarjotaan osana Kuluttajien energianeuvonta Etelä-Savossa -hankkeen ja Suur-Savon Sähkön kokoamaa Minimoi-energianäyttelyä. Näyttely on esillä Hirvensalmen kunnanvirastolla 16. – 26.8.
URL:https://www.hirvensalmi.fi/tapahtuma/energianeuvoja-tavattavissa-hirvensalmella/
LOCATION:Hirvensalmen kunnanvirasto\, Keskustie 2\, Hirvensalmi\, 52550
ATTACH;FMTTYPE=image/jpeg:https://www.hirvensalmi.fi/wp-content/uploads/2016/08/energiatehokkuuttakotiin.jpg
ORGANIZER;CN="Kuluttajien energianeuvonta Etel%C3%A4-Savossa":MAILTO:energianeuvonta@mikseimikkeli.fi
END:VEVENT
BEGIN:VEVENT
DTSTART;TZID=Europe/Helsinki:20160821T090000
DTEND;TZID=Europe/Helsinki:20160821T140000
DTSTAMP:20260422T195234
CREATED:20160418T064358Z
LAST-MODIFIED:20160418T064358Z
UID:4049-1471770000-1471788000@www.hirvensalmi.fi
SUMMARY:Hirvensalmen Kalamiehet ry:n jäsenten välinen vapaonki veneestä
DESCRIPTION:Jäsenten välinen vapaonkikilpailut veneestä. Lähtö S-Marketin rannasta
URL:https://www.hirvensalmi.fi/tapahtuma/hirvensalmen-kalamiehet-ryn-jasenten-valinen-vapaonki-veneesta/
LOCATION:S-Marketin ranta\, Hirvensalmi
ORGANIZER;CN="Hirvensalmen Kalamiehet ry":MAILTO:reijo.tanttu@surffi.fi
END:VEVENT
BEGIN:VEVENT
DTSTART;VALUE=DATE:20160819
DTEND;VALUE=DATE:20160823
DTSTAMP:20260422T195234
CREATED:20160324T082313Z
LAST-MODIFIED:20160407T132420Z
UID:3915-1471575600-1471834799@www.hirvensalmi.fi
SUMMARY:Verkkorannan Raakaravintokurssi turvehoidoin
DESCRIPTION:Verkkorannassa järjestetään jo perinteeksi muodostunut Raakaravinto kokkauskurssi elokuussa. Raakaravinto ruoan valmistuksen ja nauttimisen lomassa koemme turvehaudehoidon hyvää tekevät vaikutukset Riihisaunan ihanassa miedossa lämmössä. \nTarkemmat kurssin tiedot ja sisällön löydät Verkkorannan kotisivuilta.
URL:https://www.hirvensalmi.fi/tapahtuma/verkkorannan-raakaravintokurssi-turvehoidoin/
LOCATION:Verkkoranta\, Kalkkerovuorentie 141\, Hirvensalmi
ATTACH;FMTTYPE=image/jpeg:https://www.hirvensalmi.fi/wp-content/uploads/2016/03/veera-kulmalahti-verkkorannassa.jpg
ORGANIZER;CN="Minna Kopra/Verkkoranta":MAILTO:info@verkkoranta.fi
END:VEVENT
BEGIN:VEVENT
DTSTART;TZID=Europe/Helsinki:20160816T090000
DTEND;TZID=Europe/Helsinki:20160826T150000
DTSTAMP:20260422T195234
CREATED:20160812T104308Z
LAST-MODIFIED:20160812T104308Z
UID:4640-1471338000-1472223600@www.hirvensalmi.fi
SUMMARY:Minimoi-energianäyttely
DESCRIPTION:Hirvensalmen kunnanvirastolla on esillä näyttely kodin energiatehokkuudesta 16. – 26.8. Näyttelyssä perehdytään mihin energiaa kotona kuluu ja miten energiankäyttöä voi vähentää asumismukavuudesta tinkimättä. \nNäyttelyn aiheisiin voit tutustua isolla kosketusnäytöllä. Lisätietoa sinua kiinnostavista aiheista löydät näyttelyssä olevista julkaisuista ja kirjoista. Näyttelyssä on tavattavissa myös energianeuvoja keskiviikkona 24.8. klo 12 – 15. \nTule tutustumaan näyttelyyn ja löytämään vinkit oman energiankäytön vähentämiseen! Näyttelyyn voi tutustua virastotalon aukioloaikoina. \nNäyttelyn ovat koonneet Kuluttajien energianeuvonta Etelä-Savossa -hanke ja Suur-Savon Sähkö
URL:https://www.hirvensalmi.fi/tapahtuma/minimoi-energianayttely/
LOCATION:Hirvensalmen kunnanvirasto\, Keskustie 2\, Hirvensalmi\, 52550
ATTACH;FMTTYPE=image/jpeg:https://www.hirvensalmi.fi/wp-content/uploads/2016/08/kulutusseuranta2.jpg
ORGANIZER;CN="Kuluttajien energianeuvonta Etel%C3%A4-Savossa":MAILTO:energianeuvonta@mikseimikkeli.fi
END:VEVENT
BEGIN:VEVENT
DTSTART;TZID=Europe/Helsinki:20160810T000000
DTEND;TZID=Europe/Helsinki:20160810T000000
DTSTAMP:20260422T195234
CREATED:20160415T051055Z
LAST-MODIFIED:20160415T051055Z
UID:4033-1470787200-1470787200@www.hirvensalmi.fi
SUMMARY:Hirvensalmen Eläkkeensaajat Estradi tapahtumaan Syvälahden tanssilavalle
DESCRIPTION:EKL:n Mikkelin piirin järjestämä estraditapahtuma Kangasniemen Syvälahden lavalla 10.8. Ilmoittaudu Eskolle 040 5903337. Lähde menoon mukaan. Mennään kimppakyydein.
URL:https://www.hirvensalmi.fi/tapahtuma/hirvensalmen-elakkeensaajat-estradi-tapahtumaan-syvalahden-tanssilavalle/
LOCATION:Syvälahden lava\, Syvälahdentie 310\, Kangasniemi\, Suomi
ORGANIZER;CN="Hirvensalmen El%C3%A4kkeensaajat ry":MAILTO:esko.karna@surffi.fi
END:VEVENT
BEGIN:VEVENT
DTSTART;TZID=Europe/Helsinki:20160809T180000
DTEND;TZID=Europe/Helsinki:20160809T210000
DTSTAMP:20260422T195234
CREATED:20160418T064340Z
LAST-MODIFIED:20160418T064340Z
UID:4047-1470765600-1470776400@www.hirvensalmi.fi
SUMMARY:Hirvensalmen Kalamiehet ry:n jäsenten välinen laituripilkki
DESCRIPTION:Jäsenten välinen laituripilkki.
URL:https://www.hirvensalmi.fi/tapahtuma/hirvensalmen-kalamiehet-ryn-jasenten-valinen-laituripilkki-2/
LOCATION:S-marketin ranta
ORGANIZER;CN="Hirvensalmen Kalamiehet ry":MAILTO:reijo.tanttu@surffi.fi
END:VEVENT
BEGIN:VEVENT
DTSTART;TZID=Europe/Helsinki:20160806T160000
DTEND;TZID=Europe/Helsinki:20160806T160000
DTSTAMP:20260422T195234
CREATED:20151126T102416Z
LAST-MODIFIED:20151126T102416Z
UID:2613-1470499200-1470499200@www.hirvensalmi.fi
SUMMARY:Herkkujen Yö
DESCRIPTION:25-vuotis juhlatapahtuma
URL:https://www.hirvensalmi.fi/tapahtuma/herkkujen-yo-2/
LOCATION:Lahnaniemen seurojentalo
END:VEVENT
BEGIN:VEVENT
DTSTART;TZID=Europe/Helsinki:20160804T180000
DTEND;TZID=Europe/Helsinki:20160804T190000
DTSTAMP:20260422T195234
CREATED:20160209T080619Z
LAST-MODIFIED:20160209T080619Z
UID:3640-1470333600-1470337200@www.hirvensalmi.fi
SUMMARY:Kunniakierros
DESCRIPTION:Urheiluseurojen liikunnallinen varainhankinta tapahtuma
URL:https://www.hirvensalmi.fi/tapahtuma/kunniakierros-2/
LOCATION:Urheilukenttä\, Kisatie 3\, Hirvensalmi\, Suomi
ORGANIZER;CN="Hirvensalmen urheilijat":MAILTO:hirvensalmenurheilijat@gmail.com
END:VEVENT
BEGIN:VEVENT
DTSTART;TZID=Europe/Helsinki:20160803T150000
DTEND;TZID=Europe/Helsinki:20160803T180000
DTSTAMP:20260422T195234
CREATED:20160707T064829Z
LAST-MODIFIED:20160707T064829Z
UID:4539-1470236400-1470247200@www.hirvensalmi.fi
SUMMARY:Nuoriso kalastaa-kalastuskiertue
DESCRIPTION:“Kalastus on kivaa\, kun sen oikein oivaltaa”… Lapasille ja nuorisolle suunnattu Nuoriso kalastaakiertue opastaa lapsia ja nuoria kalastuksen pariin Etelä-Savossa. Aihepiirit käsittävät onkimista sekä heittokalastusta. Nuorilla on mahdollisuus päästä kokeilemaan ja testailemaan välineitä sekä hakemaan oppia kalastuksen saloihin. Tapahtuma on osallistujille maksuton. \nTapahtuman vetäjänä ja opastajana Aki Hirvonen p. 044 7226044
URL:https://www.hirvensalmi.fi/tapahtuma/nuoriso-kalastaa-kalastuskiertue/
LOCATION:S-marketin ranta
ORGANIZER;CN="Hirvensalmen Kalamiehet ry":MAILTO:reijo.tanttu@surffi.fi
END:VEVENT
BEGIN:VEVENT
DTSTART;TZID=Europe/Helsinki:20160802T180000
DTEND;TZID=Europe/Helsinki:20160802T210000
DTSTAMP:20260422T195234
CREATED:20160418T064317Z
LAST-MODIFIED:20160418T064317Z
UID:4046-1470160800-1470171600@www.hirvensalmi.fi
SUMMARY:Hirvensalmen Kalamiehet ry:n jäsenten välinen laituripilkki
DESCRIPTION:Jäsenten välinen laituripilkki
URL:https://www.hirvensalmi.fi/tapahtuma/hirvensalmen-kalamiehet-ryn-jasenten-valinen-laituripilkki/
ORGANIZER;CN="Hirvensalmen Kalamiehet ry":MAILTO:reijo.tanttu@surffi.fi
END:VEVENT
BEGIN:VEVENT
DTSTART;TZID=Europe/Helsinki:20160731T130000
DTEND;TZID=Europe/Helsinki:20160731T130000
DTSTAMP:20260422T195234
CREATED:20160115T040752Z
LAST-MODIFIED:20160407T105939Z
UID:3405-1469970000-1469970000@www.hirvensalmi.fi
SUMMARY:Margareta Högmanin ystäväliikkeen virsiseurat
DESCRIPTION:Seurakunnan tapahtuma \nHeinmäentiellä (viitoitus)
URL:https://www.hirvensalmi.fi/tapahtuma/margareetta-hagmanin-ystavaliikkeen-virsiseurat/
LOCATION:Heinmäentie
END:VEVENT
BEGIN:VEVENT
DTSTART;TZID=Europe/Helsinki:20160730T200000
DTEND;TZID=Europe/Helsinki:20160731T003000
DTSTAMP:20260422T195234
CREATED:20160615T181537Z
LAST-MODIFIED:20160622T112527Z
UID:4453-1469908800-1469925000@www.hirvensalmi.fi
SUMMARY:Lavatanssit - Urpo Heikkilä & Hummarit
DESCRIPTION:Lavatanssit Hummarien ja Urpo Heikkilän tahtiin.\nKesäkauden päätöstanssit!\nVäliajalla karaokea. ;)\nHUOM! Tunti ennen tansseja lavatanssin opetusta kiinnostuneille\, sisältyy pääsylipun hintaan. (Cha Cha)\nLippu 15e.\nTervetuloa!
URL:https://www.hirvensalmi.fi/tapahtuma/lavatanssit-urpo-heikkila-hummarit/
LOCATION:Kellokallion tanssilava
ATTACH;FMTTYPE=image/jpeg:https://www.hirvensalmi.fi/wp-content/uploads/2016/06/urpo-hummarit.jpg
ORGANIZER;CN="Studio Kuoppala":MAILTO:kellokallio@hotmail.com
END:VEVENT
BEGIN:VEVENT
DTSTART;TZID=Europe/Helsinki:20160730T200000
DTEND;TZID=Europe/Helsinki:20160730T200000
DTSTAMP:20260422T195234
CREATED:20160620T050313Z
LAST-MODIFIED:20160620T050313Z
UID:4470-1469908800-1469908800@www.hirvensalmi.fi
SUMMARY:Tuukkalan Tempaus järjestää tanssiretken Syvälahteen
DESCRIPTION:Syvälahdessa esiintyvät lauantaina Anneli Mattila & Recados sekä Agents & Vesa Haaja.\nIlmoittautumiset ja kyselyt Outi Kiesilälle (puh. 044 203 40 62) tai\nsähköpostiin tuukkalankesapuoti@outlook.com\nRetki sisältää bussikuljetuksen & tanssilipun.
URL:https://www.hirvensalmi.fi/tapahtuma/tuukkalan-tempaus-jarjestaa-tanssiretken-syvalahteen/
LOCATION:Syvälahden lava\, Syvälahdentie 310\, Kangasniemi\, Suomi
END:VEVENT
BEGIN:VEVENT
DTSTART;TZID=Europe/Helsinki:20160730T190000
DTEND;TZID=Europe/Helsinki:20160730T230000
DTSTAMP:20260422T195234
CREATED:20151129T213404Z
LAST-MODIFIED:20151129T213404Z
UID:2733-1469905200-1469919600@www.hirvensalmi.fi
SUMMARY:Puula-Ilmiö tapahtuma
DESCRIPTION:tapahtuma
URL:https://www.hirvensalmi.fi/tapahtuma/puula-ilmio-tapahtuma/
LOCATION:Sataman herkku\, Hirvensalmentie 22A\, Hirvensalmi\, 52550
END:VEVENT
BEGIN:VEVENT
DTSTART;TZID=Europe/Helsinki:20160729T200000
DTEND;TZID=Europe/Helsinki:20160730T003000
DTSTAMP:20260422T195234
CREATED:20160615T181228Z
LAST-MODIFIED:20160622T112535Z
UID:4450-1469822400-1469838600@www.hirvensalmi.fi
SUMMARY:Lavatanssit - Kulman kundit
DESCRIPTION:Lavatanssit Kulman Kundien tahtiin.\nVäliajalla haitarimusiikkia.\nLiput 10e.\nTervetuloa!
URL:https://www.hirvensalmi.fi/tapahtuma/lavatanssit-kulman-kundit/
LOCATION:Kellokallion tanssilava
ATTACH;FMTTYPE=image/jpeg:https://www.hirvensalmi.fi/wp-content/uploads/2016/06/kulman_taivas_etusivu.jpg
ORGANIZER;CN="Studio Kuoppala":MAILTO:kellokallio@hotmail.com
END:VEVENT
BEGIN:VEVENT
DTSTART;TZID=Europe/Helsinki:20160729T160000
DTEND;TZID=Europe/Helsinki:20160731T140000
DTSTAMP:20260422T195234
CREATED:20160602T100345Z
LAST-MODIFIED:20160602T100345Z
UID:4302-1469808000-1469973600@www.hirvensalmi.fi
SUMMARY:Nuorten kalastusleiri 29.-31.7. Leiriniemessä
DESCRIPTION:Hirvensalmen Kalamiehet järjestää Nuorten kalastusleirin Seurakunnan Leiriniemessä alkaen pe 29.7. klo 16.00 -su 31.7. päättyen klo 14.00. Tervetuloa nuoret viettämään kalastuksen merkeissä mukavia leiripäiviä.\nIlmoittaudu Reijo Tantulle 0400 298362 tai Veikko Liukkonen 050 3559398
URL:https://www.hirvensalmi.fi/tapahtuma/nuorten-kalastusleiri-29-31-7-leiriniemessa/
LOCATION:Leiriniemi
ORGANIZER;CN="Hirvensalmen Kalamiehet ry":MAILTO:reijo.tanttu@surffi.fi
END:VEVENT
END:VCALENDAR