BEGIN:VCALENDAR
VERSION:2.0
PRODID:-//Hirvensalmi - ECPv6.6.4.2//NONSGML v1.0//EN
CALSCALE:GREGORIAN
METHOD:PUBLISH
X-WR-CALNAME:Hirvensalmi
X-ORIGINAL-URL:https://www.hirvensalmi.fi
X-WR-CALDESC:Tapahtumat Hirvensalmi
REFRESH-INTERVAL;VALUE=DURATION:PT1H
X-Robots-Tag:noindex
X-PUBLISHED-TTL:PT1H
BEGIN:VTIMEZONE
TZID:Europe/Helsinki
BEGIN:DAYLIGHT
TZOFFSETFROM:+0200
TZOFFSETTO:+0300
TZNAME:EEST
DTSTART:20160327T010000
END:DAYLIGHT
BEGIN:STANDARD
TZOFFSETFROM:+0300
TZOFFSETTO:+0200
TZNAME:EET
DTSTART:20161030T010000
END:STANDARD
END:VTIMEZONE
BEGIN:VEVENT
DTSTART;TZID=Europe/Helsinki:20160705T100000
DTEND;TZID=Europe/Helsinki:20160707T140000
DTSTAMP:20260424T132227
CREATED:20160622T073930Z
LAST-MODIFIED:20160622T112518Z
UID:4427-1467712800-1467900000@www.hirvensalmi.fi
SUMMARY:Purjehduskurssi nuorille
DESCRIPTION:Haluatko oppia purjehtimaan optimistijollalla. Tule mukaan nuorten 7-15v purjehduskurssille 5. – 7.7. klo 10-14 Hirvensalmen S-market rantaan. Mukaan vaihtovaatteet muovipussissa\, eväät\, ja sopivat pelastusliivit jos löytyy. Kurssimaksu 25€ . Järjestäjä Puulan veneseura ry. Purjeveneitä myös varttuneille. Ilmoittaudu kiinnostus osallistua 27.6. mennessä pvseura/at/gmail.com.
URL:https://www.hirvensalmi.fi/tapahtuma/purjehduskurssi-nuorille/
LOCATION:S-marketin ranta
ATTACH;FMTTYPE=image/jpeg:https://www.hirvensalmi.fi/wp-content/uploads/2016/06/img_6380w.jpg
ORGANIZER;CN="Puulan Veneseura ry":MAILTO:pvseura@gmail.com
END:VEVENT
BEGIN:VEVENT
DTSTART;TZID=Europe/Helsinki:20160704T180000
DTEND;TZID=Europe/Helsinki:20160704T180000
DTSTAMP:20260424T132227
CREATED:20160620T051139Z
LAST-MODIFIED:20160620T051153Z
UID:4466-1467655200-1467655200@www.hirvensalmi.fi
SUMMARY:Kalkkeron kierros
DESCRIPTION:Tuukkalassa ja Hämeenmäessä on merkitty patikointireitti Kalkkeron kierros\, johon Tempaus järjestää yhteisen patikoinnin. Kalkkerolta on upeat maisemat Suonteelle.\nLähtö kierrokselle tapahtuu Lehtolinnan kentältä\, Hämeenmäentie 1270.
URL:https://www.hirvensalmi.fi/tapahtuma/kalkkeron-kierros/
LOCATION:Lehtolinnan kenttä\, Hämeenmäentie 1278\, Hirvensalmi\, Suomi
ATTACH;FMTTYPE=image/jpeg:https://www.hirvensalmi.fi/wp-content/uploads/2016/06/13087316_1161204373913862_8284474540549868292_n.jpg
END:VEVENT
BEGIN:VEVENT
DTSTART;TZID=Europe/Helsinki:20160702T200000
DTEND;TZID=Europe/Helsinki:20160703T003000
DTSTAMP:20260424T132227
CREATED:20160615T175818Z
LAST-MODIFIED:20160622T112857Z
UID:4435-1467489600-1467505800@www.hirvensalmi.fi
SUMMARY:Lavatanssit - Eero Aven´
DESCRIPTION:Lavatanssit Kellokalliolla klo 20.00-00.30\,\ntanssittaa Eero Aven´.\nHUOM! Tunti ennen tansseja lavatanssin opetusta kiinnostuneille\, sisältyy pääsylipun hintaan. (Tango)\nLippu 15e.\nTervetuloa!
URL:https://www.hirvensalmi.fi/tapahtuma/lavatanssit-eero-aven/
LOCATION:Kellokallion tanssilava
ATTACH;FMTTYPE=image/jpeg:https://www.hirvensalmi.fi/wp-content/uploads/2016/06/eero-aven.jpg
ORGANIZER;CN="Studio Kuoppala":MAILTO:kellokallio@hotmail.com
END:VEVENT
BEGIN:VEVENT
DTSTART;TZID=Europe/Helsinki:20160702T200000
DTEND;TZID=Europe/Helsinki:20160702T220000
DTSTAMP:20260424T132227
CREATED:20151126T115225Z
LAST-MODIFIED:20151127T070226Z
UID:2618-1467489600-1467496800@www.hirvensalmi.fi
SUMMARY:King Drapes Rockabilly
DESCRIPTION:Konsertti
URL:https://www.hirvensalmi.fi/tapahtuma/king-drapes-rockabilly/
LOCATION:Sataman herkku\, Hirvensalmentie 22A\, Hirvensalmi\, 52550
END:VEVENT
BEGIN:VEVENT
DTSTART;TZID=Europe/Helsinki:20160701T200000
DTEND;TZID=Europe/Helsinki:20160702T003000
DTSTAMP:20260424T132227
CREATED:20160615T175323Z
LAST-MODIFIED:20160622T112845Z
UID:4432-1467403200-1467419400@www.hirvensalmi.fi
SUMMARY:Lavatanssit - Jari Puhakka trio & Pete
DESCRIPTION:Kesäkauden avaiset Kellokalliolla!\n( Lavatanssit heinäkuun joka perjantai ja lauantai. )\nLippu 15e.\nTervetuloa!
URL:https://www.hirvensalmi.fi/tapahtuma/lavatanssit-jari-puhakka-trio-pete/
LOCATION:Kellokallion tanssilava
ATTACH;FMTTYPE=image/jpeg:https://www.hirvensalmi.fi/wp-content/uploads/2016/06/jari-puhakka.jpg
ORGANIZER;CN="Studio Kuoppala":MAILTO:kellokallio@hotmail.com
END:VEVENT
BEGIN:VEVENT
DTSTART;TZID=Europe/Helsinki:20160701T190000
DTEND;TZID=Europe/Helsinki:20160701T190000
DTSTAMP:20260424T132227
CREATED:20160115T042143Z
LAST-MODIFIED:20160115T042217Z
UID:3408-1467399600-1467399600@www.hirvensalmi.fi
SUMMARY:Pekka Simojoen konsertti
DESCRIPTION:Seurakunnan tapahtuma
URL:https://www.hirvensalmi.fi/tapahtuma/pekka-simojoen-konsertti/
LOCATION:Kirkko\, kirkkotie\, Hirvensalmi\, 52550
END:VEVENT
BEGIN:VEVENT
DTSTART;TZID=Europe/Helsinki:20160701T110000
DTEND;TZID=Europe/Helsinki:20160703T150000
DTSTAMP:20260424T132227
CREATED:20160607T073607Z
LAST-MODIFIED:20160607T073607Z
UID:4357-1467370800-1467558000@www.hirvensalmi.fi
SUMMARY:Pop Splendor!
DESCRIPTION:Pop Splendor! Irti Arjesta – Sonja Leppäsen valokuvanäyttely.\nPe 1.7.2016 – la 2.7. 2016 klo 11.00-17.00\, su klo 11.00-15.00\nosoitteessa: Sysmälän pappila\, Haapaniementie 3\, 52550 Hirvensalmi\nLisäksi Lampikoski – sisustusvalaisinten esittelyä ja myyntiä.\nMyynnissä kahvia ja leivonnaisia.
URL:https://www.hirvensalmi.fi/tapahtuma/pop-splendor/
LOCATION:Sysmälänpappila\, Haapaniementie 3\, Hirvensalmi\, 52550
END:VEVENT
BEGIN:VEVENT
DTSTART;TZID=Europe/Helsinki:20160701T100000
DTEND;TZID=Europe/Helsinki:20160703T150000
DTSTAMP:20260424T132227
CREATED:20160615T050054Z
LAST-MODIFIED:20160615T050054Z
UID:4411-1467367200-1467558000@www.hirvensalmi.fi
SUMMARY:NÄYTTELY "Täkänästä tähän päivään" 1.-3.7.2016 Käsityöpuoti/Kudontapaja Puulan Manuellissa
DESCRIPTION:“Täkänästä tähän päivään” \nMitä kaikkea onkaan tehty kangaspuilla ja vähän muilla ?\n…onko aarteet ullakolla vai edelleen käytössä sulla…\nTämä kaikki selviää\, kun Tervaleppäjuhlien aikaan meillä\npyörähtää ! \nPe 10 – 17\, La 10 – 15\, Su 11 – 15 \nNäyttelyyn vapaa pääsy. \nTERVETULOA !
URL:https://www.hirvensalmi.fi/tapahtuma/nayttely-takanasta-tahan-paivaan-1-3-7-2016-kasityopuotikudontapaja-puulan-manuellissa/
LOCATION:Käsityöpuoti Puulan Manuelli\, Junnankuja 25\, Hirvensalmi\, 52550
ATTACH;FMTTYPE=image/jpeg:https://www.hirvensalmi.fi/wp-content/uploads/2016/06/2016-06-14-19.26.06.jpg
ORGANIZER;CN="Hirvensalmen k%C3%A4sity%C3%B6yhdistys ry":MAILTO:posti@puulanmanuelli.fi
END:VEVENT
BEGIN:VEVENT
DTSTART;TZID=Europe/Helsinki:20160701T090000
DTEND;TZID=Europe/Helsinki:20160701T150000
DTSTAMP:20260424T132227
CREATED:20160602T100412Z
LAST-MODIFIED:20160602T100412Z
UID:4303-1467363600-1467385200@www.hirvensalmi.fi
SUMMARY:Hirvensalmen Kalamiehet mukana pe 1.7. Tervaleppäjuhlatorilla
DESCRIPTION:Hirvensalmen Kalamiehet mukana perjantaina 1.7. Tervaleppäjuhlatorilla. Saatavana Yhdistyksen toiminnasta kertova esite sekä yhdistykseen liittymislomake. Tervetuloa tutustumaan yhdistyksemme toimintaan.
URL:https://www.hirvensalmi.fi/tapahtuma/hirvensalmen-kalamiehet-mukana-pe-1-7-tervaleppajuhlatorilla/
LOCATION:Tervaleppäjuhlatori\, Keskustie 2\, Hirvensalmei\, 52550
ORGANIZER;CN="Hirvensalmen Kalamiehet ry":MAILTO:reijo.tanttu@surffi.fi
END:VEVENT
BEGIN:VEVENT
DTSTART;TZID=Europe/Helsinki:20160701T070000
DTEND;TZID=Europe/Helsinki:20160703T200000
DTSTAMP:20260424T132227
CREATED:20160418T102020Z
LAST-MODIFIED:20160621T114735Z
UID:4058-1467356400-1467576000@www.hirvensalmi.fi
SUMMARY:Tervaleppäjuhlat 1.-3.7.2016
DESCRIPTION:Perjantai 1.7.\nklo 8.00-16.00  TERVALEPPÄMARKKINAT  torialueella\, paikkojen myynti p. 050-5964781\, juontajana Viki Vänttinen \n  \nklo 10.00  ”Valssi tervaleppäkujalta” Ruskakuoro JUHLIEN AVAUS JA MÖKKIRAUHAN JULISTUS   Kevan  varatoimitusjohtaja Kimmo Mikander \n  \nklo 10.00-15.00  Lastenkulttuurikeskus Verson Vehreä luova kädentaitopaja koko perheelle Seuratalolla \, tee omaa taidetta tai pinssi \n  \nklo 10.00-17.00 TAIDENÄYTTELY Seuratalolla\, Kauko Heikkisen maalauksia\, Anna Siiriäisen taidetta\,\nKansalaisopiston kurssitöitä mm. entisöityjä huonekaluja\, käsi-\, betoni- ja värjäystöitä\,\nKK:n Marttojen keittolounas\, muurinpohjaletut ja kahvi klo 10-15 \n  \nklo 10.00-17.00  Museot avoinna\, Ahti Karjalaisen elämäntyömuseo Tupa Pitäjäntuvalla ja syntymäkotimuseo Lepola Kuitulassa\nKotiseutumuseo käsityötalolla\, vaihtuva näyttely ”Kätilön käyttämää viime vuosituhannella” \n  \nklo 10.00-17.00  Käsityönäyttely ”Täkänästä tähän päivään” –näyttely Puulan Manuellissä \n  \nklo 11.00-17.00  ”Pop Splendor! Irti Arjesta” Sonja Leppäsen valokuvanäyttely Sysmälän pappilassa\, Haapaniementie 3 \n  \nklo 11.00  Kansalaisopiston Lavis –ryhmän esitys markkinalavalla \n  \nklo 11.00  Tervaleppäpuiston istuttajien tapaaminen. Nesteen piha. \n  \nklo 11.30  Leijonien Tauluhuutokauppa. Johan Nukalan maalauksia. \n  \nklo 12.00  Gospell –kuoro esiintyy markkinalavalla \n  \nklo 17.00  Yhteislauluilta Roosin rannassa\, munkin ja kahvin myyntiä \n  \nklo 19.00 KIRKKOKONSERTTI \, PEKKA SIMOJOKI esiintyy\, ohjelma 20€. Ennakkoon kunnanviraston neuvonnasta. \n  \nklo 20.00-00.30 Tanssit Kellokalliolla\, Trio Jari Puhakka&Pete \nLauantai 2.7.\nklo 8.00-15.00 TERVALEPPÄMARKKINAT jatkuu \n  \nklo 10.00-15.00 TAIDENÄYTTELY jatkuu Seuratalolla\, Kauko Heikkisen maalauksia\, Anna Siiriäisen taidetta\, Kansalaisopiston kurssitöitä\nmm. entisöityjä huonekaluja\, käsi-\, betoni- ja värjäystöitä\, KK:n Marttojen keittolounas\, muurinpohjaletut ja kahvi \n  \nklo 10.00-15.00 Museot avoinna\, Ahti Karjalaisen elämäntyömuseo Tupa Pitäjäntuvalla ja syntymäkotimuseo Lepola Kuitulassa\nKotiseutumuseo käsityötalolla\, vaihtuva näyttely ”Kätilön käyttämää viime vuosituhannella” \n  \nklo 10.00-15.00 käsityönäyttely ”Täkänästä tähän päivään” –näyttely Puulan Manuellissä \n  \nklo 11.00 Lemmikkinäyttely Seuratalon pihapiirissä\n-lasten esittelemiä oikeita tai leikkilemmikkejä\, kaikki palkitaan \n  \nklo 11.00 – 14.00 Kesäkanoja Seuratalon pihapiirissä \n  \nklo 11.00-17.00 “Pop Splendor! -Irti arjesta” Sonja Leppäsen valokuvanäyttely Sysmälänpappilassa\, Haapaniementie 3 \n  \nklo 12.00- n. 15.30 Puukonsaaren lautan esittelyajo Vintinniemen satamasta Niemeläntie  284. Matkaan kuuluu opastettu linja-autokierros.\nKyyti on varattava etukäteen lähettämällä tekstiviesti lauttapuhelimeen 0400-803 485. Ilmoita viestissä tunnus ”kutsukyyti” sekä matkustajien nimet.\nKyytiin mahtuu 36 henkilöä. Maksuton\, perillä kahvitarjoilu. \n  \nklo 12.00 Tanssiryhmä Kepeät Jalat esintyy markkinalavalla \n  \nklo 12.30 Toritanssit ja karaoke markkinalavalla \n  \nklo 18.00 Jalkapallo-ottelu paikalliset – kesävieraat urheilukentällä\, nuorten 12-16v. ottelu ensin ja aikuiset klo 18.40 \n  \nklo 20.00-22.00 King Drapes Rockabilly Sataman Herkussa \n  \nklo 20.00-00.30 Tanssit Kellokalliolla\, Eero Aven yhtyeineen \n  \nSunnuntai 3.7.\n  \nKESÄLOMALAISTEN KIRKKOPYHÄ\nklo   9.30 kokoontuminen Suur-Savon rantaan\, kirkkovene saapuu\nklo 10.00 messu\, saarnaa Jarmo Piispanen\, liturgina Päivi Liukkonen\, kirkkokuoro\, kirkkokahvit seurakuntakodilla \n  \nklo 11.00-15.00  TAIDENÄYTTELY jatkuu Seuratalolla Kauko Heikkisen maalauksia\, Anna Siiriäisen taidetta\, Kansalaisopiston kurssitöitä mm. entisöityjä huonekaluja\,\nkäsi-\, betoni- ja värjäystöitä\, KK:n Marttojen keittolounas\, muurinpohjaletut ja kahvi \n  \nklo 11.00-15.00 Museot ja käsityönäyttely avoinna \n  \nklo 11.00-15.00 “Pop Splendor” Irti arjesta” Sonja Leppäsen valokuvanäyttely Sysmälän pappilassa\, Haapaniementie 3 \n  \nklo 19.00  Satumaa….  Harmonikkakonsertti Seuratalolla. Harmonikan legenda Veikko Ahvenainen\, Carina Nordlund\, Juha Saarinen\,\nMäntyharjun Harmonikkakerho ym. hanuristeja liput 15 €\, lapset 5 €
URL:https://www.hirvensalmi.fi/tapahtuma/tervaleppajuhlat-1-3-7-2016/
LOCATION:Hirvensalmi kk\, Keskustie 2\, Hirvensalmi\, 52550
END:VEVENT
BEGIN:VEVENT
DTSTART;VALUE=DATE:20160701
DTEND;VALUE=DATE:20160705
DTSTAMP:20260424T132227
CREATED:20160615T050028Z
LAST-MODIFIED:20160615T050028Z
UID:4413-1467342000-1467601199@www.hirvensalmi.fi
SUMMARY:ELÄKELIITON HIRVENSALMEN YHDISTYS OSALLISTUU PERINTEISEEN TERVALEPPÄJUHLAAN 1-3.7.2016
DESCRIPTION:Eläkeliiton Hirvensalmen yhdistys osallistuu perinteiseen tervaleppäjuhlaan 1.-3.7.2016. Yhdistyksellä mm. oma toripaikka markkinatorilla\, jossa myydään erilaisia tuotteita\, arpoja ja esitellään yhdistystoimintaa. Lisäksi Eläkeliiton Hirvensalmen yhdistyksen ruskakuoro esiintyy juhlayleisölle perjantaina klo 10.00. Yhteislauluilta Roosin rannassa perjantain klo 17.00\, munkin ja kahvin myyntiä\, järjestelyistä huolehtii Eläkeliiton Hirvensalmen yhdistys. Sunnuntaina on kirkkovenesoutu lähtö klo 9.30 Suur-Savon rannasta\, jonka järjestelyistä huolehtii myös Eläkeliiton Hirvensalmen yhdistys. Ja paljon paljon muuta! Kaikki mukaan markkinatori tapahtumaan!
URL:https://www.hirvensalmi.fi/tapahtuma/elakeliiton-hirvensalmen-yhdistys-osallistuu-perinteiseen-tervaleppajuhlaan-1-3-7-2016/
LOCATION:Tervaleppäjuhlatori\, Keskustie 2\, Hirvensalmei\, 52550
END:VEVENT
BEGIN:VEVENT
DTSTART;TZID=Europe/Helsinki:20160630T180000
DTEND;TZID=Europe/Helsinki:20160630T180000
DTSTAMP:20260424T132227
CREATED:20151214T034004Z
LAST-MODIFIED:20151214T034004Z
UID:3023-1467309600-1467309600@www.hirvensalmi.fi
SUMMARY:Silja Line seurakisat
DESCRIPTION:Urheilutapahtuma \nSarjat 5 – 11 vuotiaat
URL:https://www.hirvensalmi.fi/tapahtuma/silja-line-seurakisat-5/
LOCATION:Urheilukenttä\, Kisatie 1\, Hirvensalmi\, 52550
ORGANIZER;CN="Hirvensalmen urheilijat":MAILTO:hirvensalmenurheilijat@gmail.com
END:VEVENT
BEGIN:VEVENT
DTSTART;TZID=Europe/Helsinki:20160629T120000
DTEND;TZID=Europe/Helsinki:20160807T180000
DTSTAMP:20260424T132227
CREATED:20160530T110702Z
LAST-MODIFIED:20160530T110702Z
UID:4291-1467201600-1470592800@www.hirvensalmi.fi
SUMMARY:Lepola\, Ahti Karjalaisen kotimuseo
DESCRIPTION:Lepola\nValtiomies Ahti Karjalaisen syntymäkoti avoinna 29.6.-7.8.2016 ke-su klo 12.00-18.00\nMaanantaisin ja tiistaisin suljettu \nTervaleppäjuhlien aikaan poikkeusaukioloajat:\n1.7.2016 klo 10.-17.00\n2.7.2016 klo 10.00-15.00\n3.7.2016 klo 10.00-15.00
URL:https://www.hirvensalmi.fi/tapahtuma/lepola-ahti-karjalaisen-kotimuseo/
LOCATION:Lepola\, Joutsantie\, 52610
END:VEVENT
BEGIN:VEVENT
DTSTART;TZID=Europe/Helsinki:20160629T080000
DTEND;TZID=Europe/Helsinki:20160807T170000
DTSTAMP:20260424T132227
CREATED:20160530T111104Z
LAST-MODIFIED:20160530T111252Z
UID:4293-1467187200-1470589200@www.hirvensalmi.fi
SUMMARY:Tupa\, Ahti Karjalaisen elämäntyömuseo
DESCRIPTION:Tupa\nAvoinna 29.6.-7.8.2016 ke-su klo 12.00-16.00\nmaanantaisin ja tiistaisin suljettu. \nTervaleppäjuhlien aikaan avoinna:\n1.7.2016 klo 10.00-17.00\n2.7.2016 klo 10.00-15.00\n3.7.2016 klo 10.00-15.00
URL:https://www.hirvensalmi.fi/tapahtuma/tupa-ahti-karjalaisen-elamantyomuseo/
LOCATION:Pitäjäntupa\, Pitäjäntie\, Hirvensalmi\, 52550
END:VEVENT
BEGIN:VEVENT
DTSTART;VALUE=DATE:20160627
DTEND;VALUE=DATE:20160629
DTSTAMP:20260424T132227
CREATED:20160115T050023Z
LAST-MODIFIED:20160115T050023Z
UID:3415-1466996400-1467082799@www.hirvensalmi.fi
SUMMARY:Päiväleiri 5-7v
DESCRIPTION:Seurakunnan päiväleiri 5-7 vuotiaille
URL:https://www.hirvensalmi.fi/tapahtuma/paivaleiri-5-7v/
LOCATION:Leiriniemi
END:VEVENT
BEGIN:VEVENT
DTSTART;TZID=Europe/Helsinki:20160626T140000
DTEND;TZID=Europe/Helsinki:20160626T170000
DTSTAMP:20260424T132227
CREATED:20160425T071928Z
LAST-MODIFIED:20160425T071928Z
UID:4067-1466949600-1466960400@www.hirvensalmi.fi
SUMMARY:Taidetuvan avajaiset
DESCRIPTION:Taidekesän avaa seurakuntapastori Päivi Liukkonen\, tuvalla tänä vuonna esillä akvarellitaiteilija Yrjö Varjanteen\, tekstiilitaiteilija Anu Rinkisen ja taiteilija Susanna Mikkosen taidetta.\nTaidekahvilasta suolaista ja makeaa sekä tuoretta kahvia!
URL:https://www.hirvensalmi.fi/tapahtuma/taidetuvan-avajaiset/
LOCATION:Tuukkalan taidetupa\, Joutsantie 1244\, Tuukkala\, 52610
ORGANIZER;CN="Tuukkalan Taidetupa":MAILTO:pirkko.luntta@pp.inet.fi
END:VEVENT
BEGIN:VEVENT
DTSTART;TZID=Europe/Helsinki:20160625T200000
DTEND;TZID=Europe/Helsinki:20160625T220000
DTSTAMP:20260424T132227
CREATED:20151126T110857Z
LAST-MODIFIED:20151126T110857Z
UID:2616-1466884800-1466892000@www.hirvensalmi.fi
SUMMARY:Juhannustanssit
DESCRIPTION:Tanssia ja tunnelmaa
URL:https://www.hirvensalmi.fi/tapahtuma/juhannustanssit/
LOCATION:Sataman herkku\, Hirvensalmentie 22A\, Hirvensalmi\, 52550
END:VEVENT
BEGIN:VEVENT
DTSTART;TZID=Europe/Helsinki:20160624T210000
DTEND;TZID=Europe/Helsinki:20160624T210000
DTSTAMP:20260424T132227
CREATED:20151126T105808Z
LAST-MODIFIED:20151126T105808Z
UID:2615-1466802000-1466802000@www.hirvensalmi.fi
SUMMARY:Juhannuskokko
DESCRIPTION:Juhannuskokko Hirvensalmen satamassa
URL:https://www.hirvensalmi.fi/tapahtuma/juhannuskokko-2/
LOCATION:Sataman herkku\, Hirvensalmentie 22A\, Hirvensalmi\, 52550
END:VEVENT
BEGIN:VEVENT
DTSTART;TZID=Europe/Helsinki:20160624T200000
DTEND;TZID=Europe/Helsinki:20160624T200000
DTSTAMP:20260424T132227
CREATED:20160621T044647Z
LAST-MODIFIED:20160621T044658Z
UID:4492-1466798400-1466798400@www.hirvensalmi.fi
SUMMARY:Tuukkalan juhannus
DESCRIPTION:Perinteinen juhannustapahtuma Tuukkalan uimarannassa. Tuukkalan Tempaus myy juhannustapahtuman yhteydessä muurinpohjalettuja\, makkaroita\, juotavaa ja arpoja.\nKokko sytytetään klo 21.
URL:https://www.hirvensalmi.fi/tapahtuma/tuukkalan-juhannus-2/
LOCATION:Tuukkalan ranta
END:VEVENT
BEGIN:VEVENT
DTSTART;TZID=Europe/Helsinki:20160624T190000
DTEND;TZID=Europe/Helsinki:20160624T190000
DTSTAMP:20260424T132227
CREATED:20160115T040518Z
LAST-MODIFIED:20160115T040518Z
UID:3403-1466794800-1466794800@www.hirvensalmi.fi
SUMMARY:Juhannustulet Leiriniemessä
DESCRIPTION:Seurakunnan juhannustapahtuma
URL:https://www.hirvensalmi.fi/tapahtuma/juhannustulet-leiriniemessa/
LOCATION:Leiriniemi
END:VEVENT
BEGIN:VEVENT
DTSTART;TZID=Europe/Helsinki:20160623T100000
DTEND;TZID=Europe/Helsinki:20160623T180000
DTSTAMP:20260424T132227
CREATED:20160620T050102Z
LAST-MODIFIED:20160620T050110Z
UID:4464-1466676000-1466704800@www.hirvensalmi.fi
SUMMARY:Tuukkalan Kesäpuodin avajaiset
DESCRIPTION:Tuukkalan entisellä koululla aukeaa Kesäpuoti\, jota ylläpitää urheiluseura Tuukkalan Tempaus. Avajaisissa on kahvitarjoilu!\nKesäpuodissa myydään elintarvikkeita ja pehmytjäätelöä. Kesäpuodin yhteydessä toimii kahvila ja kirpputori. Lisäksi Kesäpuodissa voi pestä pyykkiä\, ja mattoja matonpesupaikalla. Myös juomavettä voi hakea Kesäpuodista.
URL:https://www.hirvensalmi.fi/tapahtuma/tuukkalan-kesapuodin-avajaiset/
LOCATION:Tuukkalan koulu\, Joutsantie 1212\, Tuukkala\, 52610\, Suomi
ATTACH;FMTTYPE=image/jpeg:https://www.hirvensalmi.fi/wp-content/uploads/2016/06/13423844_1167174783328292_3429532688705489081_n.jpg
END:VEVENT
BEGIN:VEVENT
DTSTART;TZID=Europe/Helsinki:20160621T180000
DTEND;TZID=Europe/Helsinki:20160621T210000
DTSTAMP:20260424T132227
CREATED:20160418T064138Z
LAST-MODIFIED:20160418T064138Z
UID:4040-1466532000-1466542800@www.hirvensalmi.fi
SUMMARY:Hirvensalmen Kalamiehet ry:n jäsenten välinen onkikisa
DESCRIPTION:Rantaongintakilpailu. Paikka avoin. Kilpailukala: Kaikki lain sallimat
URL:https://www.hirvensalmi.fi/tapahtuma/hirvensalmen-kalamiehet-ryn-jasenten-valinen-onkikisa-3/
ORGANIZER;CN="Hirvensalmen Kalamiehet ry":MAILTO:reijo.tanttu@surffi.fi
END:VEVENT
BEGIN:VEVENT
DTSTART;TZID=Europe/Helsinki:20160619T200000
DTEND;TZID=Europe/Helsinki:20160619T200000
DTSTAMP:20260424T132227
CREATED:20160620T045805Z
LAST-MODIFIED:20160620T050000Z
UID:4462-1466366400-1466366400@www.hirvensalmi.fi
SUMMARY:Tuukkalan juhannus
DESCRIPTION:Perinteinen juhannustapahtuma Tuukkalan uimarannassa. Tuukkalan Tempaus myy juhannustapahtuman yhteydessä muurinpohjalettuja\, makkaroita\, juotavaa ja arpoja. Kokko sytytetään klo 21.
URL:https://www.hirvensalmi.fi/tapahtuma/tuukkalan-juhannus/
LOCATION:Tuukkalan ranta\, Joutsantie 1280\, Tuukkala\, 52610
END:VEVENT
BEGIN:VEVENT
DTSTART;TZID=Europe/Helsinki:20160618T190000
DTEND;TZID=Europe/Helsinki:20160618T203000
DTSTAMP:20260424T132227
CREATED:20160125T081908Z
LAST-MODIFIED:20160125T081908Z
UID:3548-1466276400-1466281800@www.hirvensalmi.fi
SUMMARY:Kesäteatteri / Kartanohotelli Satulinna
DESCRIPTION:Kartanohotelli Satulinnassa\, kesäkuussa 2016: riehakas komedia Eripariterapia \nHe ovat terapeutteja. Heillä on vastaanotto samassa osoitteessa. Eräänä päivänä kummankin vastaanotolle saapuu asiakas\, joka suistaa kaiken raiteiltaan. Keitä he ovat? Kuka hoitaa ketä? Missä menee raja ja kuka tilasi pitsan? \nRooleissa: Johanna Kokko ja Teijo Eloranta \nEsitykset pidetään sisätiloissa Navetan ylisillä. “Teatteri + ruokailu” -pakettien ennakko-ostajilla mahdollisuus nauttia myös Kartanohotelli Satulinnan buffet-pöydän antimista. \nLue lisää ja osta liput ennalta: www.satulinna.fi
URL:https://www.hirvensalmi.fi/tapahtuma/kesateatteri-kartanohotelli-satulinna-4/
LOCATION:Satulinna\, Yrttitie 21\, Hirvensalmi\, 52550
ATTACH;FMTTYPE=image/jpeg:https://www.hirvensalmi.fi/wp-content/uploads/2016/01/eripariterapia-3.jpg
ORGANIZER;CN="Kartanohotelli Satulinna":MAILTO:info@satulinna.fi
END:VEVENT
BEGIN:VEVENT
DTSTART;TZID=Europe/Helsinki:20160618T140000
DTEND;TZID=Europe/Helsinki:20160618T153000
DTSTAMP:20260424T132227
CREATED:20160125T081842Z
LAST-MODIFIED:20160125T081842Z
UID:3545-1466258400-1466263800@www.hirvensalmi.fi
SUMMARY:Kesäteatteri / Kartanohotelli Satulinna
DESCRIPTION:Kartanohotelli Satulinnassa\, kesäkuussa 2016: riehakas komedia Eripariterapia \nHe ovat terapeutteja. Heillä on vastaanotto samassa osoitteessa. Eräänä päivänä kummankin vastaanotolle saapuu asiakas\, joka suistaa kaiken raiteiltaan. Keitä he ovat? Kuka hoitaa ketä? Missä menee raja ja kuka tilasi pitsan? \nRooleissa: Johanna Kokko ja Teijo Eloranta \nEsitykset pidetään sisätiloissa Navetan ylisillä. “Teatteri + ruokailu” -pakettien ennakko-ostajilla mahdollisuus nauttia myös Kartanohotelli Satulinnan buffet-pöydän antimista. \nLue lisää ja osta liput ennalta: www.satulinna.fi
URL:https://www.hirvensalmi.fi/tapahtuma/kesateatteri-kartanohotelli-satulinna-3/
LOCATION:Satulinna\, Yrttitie 21\, Hirvensalmi\, 52550
ATTACH;FMTTYPE=image/jpeg:https://www.hirvensalmi.fi/wp-content/uploads/2016/01/eripariterapia-2.jpg
ORGANIZER;CN="Kartanohotelli Satulinna":MAILTO:info@satulinna.fi
END:VEVENT
BEGIN:VEVENT
DTSTART;TZID=Europe/Helsinki:20160618T110000
DTEND;TZID=Europe/Helsinki:20160618T110000
DTSTAMP:20260424T132227
CREATED:20160115T041257Z
LAST-MODIFIED:20160115T041257Z
UID:3407-1466247600-1466247600@www.hirvensalmi.fi
SUMMARY:Marttojen kesätori
DESCRIPTION:Järjestäjänä Väisälänsaaren martat
URL:https://www.hirvensalmi.fi/tapahtuma/marttojen-kesatori/
LOCATION:Karhupaviljonki\, Väisälänsaarentie 910\, Hirvensalmi\, 52550\, Suomi
END:VEVENT
BEGIN:VEVENT
DTSTART;TZID=Europe/Helsinki:20160617T190000
DTEND;TZID=Europe/Helsinki:20160617T203000
DTSTAMP:20260424T132227
CREATED:20160125T081655Z
LAST-MODIFIED:20160125T081655Z
UID:3542-1466190000-1466195400@www.hirvensalmi.fi
SUMMARY:Kesäteatteri / Kartanohotelli Satulinna
DESCRIPTION:Kartanohotelli Satulinnassa\, kesäkuussa 2016: riehakas komedia Eripariterapia \nHe ovat terapeutteja. Heillä on vastaanotto samassa osoitteessa. Eräänä päivänä kummankin vastaanotolle saapuu asiakas\, joka suistaa kaiken raiteiltaan. Keitä he ovat? Kuka hoitaa ketä? Missä menee raja ja kuka tilasi pitsan? \nRooleissa: Johanna Kokko ja Teijo Eloranta \nEsitykset pidetään sisätiloissa Navetan ylisillä. “Teatteri + ruokailu” -pakettien ennakko-ostajilla mahdollisuus nauttia myös Kartanohotelli Satulinnan buffet-pöydän antimista. \nLue lisää ja osta liput ennalta: www.satulinna.fi
URL:https://www.hirvensalmi.fi/tapahtuma/kesateatteri-kartanohotelli-satulinna-2/
LOCATION:Satulinna\, Yrttitie 21\, Hirvensalmi\, 52550
ATTACH;FMTTYPE=image/jpeg:https://www.hirvensalmi.fi/wp-content/uploads/2016/01/eripariterapia-1.jpg
ORGANIZER;CN="Kartanohotelli Satulinna":MAILTO:info@satulinna.fi
END:VEVENT
BEGIN:VEVENT
DTSTART;TZID=Europe/Helsinki:20160617T140000
DTEND;TZID=Europe/Helsinki:20160617T153000
DTSTAMP:20260424T132227
CREATED:20160125T081627Z
LAST-MODIFIED:20160125T081627Z
UID:3539-1466172000-1466177400@www.hirvensalmi.fi
SUMMARY:Kesäteatteri / Kartanohotelli Satulinna
DESCRIPTION:Kartanohotelli Satulinnassa\, kesäkuussa 2016: riehakas komedia Eripariterapia \nHe ovat terapeutteja. Heillä on vastaanotto samassa osoitteessa. Eräänä päivänä kummankin vastaanotolle saapuu asiakas\, joka suistaa kaiken raiteiltaan. Keitä he ovat? Kuka hoitaa ketä? Missä menee raja ja kuka tilasi pitsan? \nRooleissa: Johanna Kokko ja Teijo Eloranta \nEsitykset pidetään sisätiloissa Navetan ylisillä. “Teatteri + ruokailu” -pakettien ennakko-ostajilla mahdollisuus nauttia myös Kartanohotelli Satulinnan buffet-pöydän antimista. \nLue lisää ja osta liput ennalta: www.satulinna.fi
URL:https://www.hirvensalmi.fi/tapahtuma/kesateatteri-kartanohotelli-satulinna/
LOCATION:Satulinna\, Yrttitie 21\, Hirvensalmi\, 52550
ATTACH;FMTTYPE=image/jpeg:https://www.hirvensalmi.fi/wp-content/uploads/2016/01/eripariterapia.jpg
ORGANIZER;CN="Kartanohotelli Satulinna":MAILTO:info@satulinna.fi
END:VEVENT
BEGIN:VEVENT
DTSTART;VALUE=DATE:20160617
DTEND;VALUE=DATE:20160621
DTSTAMP:20260424T132227
CREATED:20160204T082047Z
LAST-MODIFIED:20160407T132824Z
UID:3617-1466132400-1466391599@www.hirvensalmi.fi
SUMMARY:Verkkorannan turvehoitojen perehdyttämiskoulutus
DESCRIPTION:Terveyttä ja hyvinvointia tuhansien vuosien takaa – tule kokemaan turpeen hyvää tekevät vaikutukset kehollasi ja mielelläsi Verkkorannassa. Koulutus on tarkoitettu jo hoitoalalla toimiville ammattilaisille\, jotka etsivät lisäarvoa yrityksensä palveluvalikoimaan sekä alalle aikoville ja muille kiinnostuneille.
URL:https://www.hirvensalmi.fi/tapahtuma/verkkorannan-turvehoitojen-perehdyttamiskoulutus/
ATTACH;FMTTYPE=image/png:https://www.hirvensalmi.fi/wp-content/uploads/2016/02/turvehoito.png
ORGANIZER;CN="Minna Kopra/Verkkoranta":MAILTO:info@verkkoranta.fi
END:VEVENT
BEGIN:VEVENT
DTSTART;TZID=Europe/Helsinki:20160616T190000
DTEND;TZID=Europe/Helsinki:20160616T190000
DTSTAMP:20260424T132227
CREATED:20160122T075009Z
LAST-MODIFIED:20160302T160926Z
UID:3508-1466103600-1466103600@www.hirvensalmi.fi
SUMMARY:Satulinnan kesäteatteri Eripariterapia
DESCRIPTION:Eripariterapia \nKomedia tosielämän tähdistä! \nrooleissa:\nJohanna Kokko\nTeijo Eloranta \nliput alkaen 25 euroa.
URL:https://www.hirvensalmi.fi/tapahtuma/satulinnan-kesateatteri-eripariterapia/
LOCATION:Satulinna\, Yrttitie 21\, Hirvensalmi\, 52550
END:VEVENT
END:VCALENDAR