BEGIN:VCALENDAR
VERSION:2.0
PRODID:-//Hirvensalmi - ECPv6.6.4.2//NONSGML v1.0//EN
CALSCALE:GREGORIAN
METHOD:PUBLISH
X-ORIGINAL-URL:https://www.hirvensalmi.fi
X-WR-CALDESC:Tapahtumat Hirvensalmi
REFRESH-INTERVAL;VALUE=DURATION:PT1H
X-Robots-Tag:noindex
X-PUBLISHED-TTL:PT1H
BEGIN:VTIMEZONE
TZID:Europe/Helsinki
BEGIN:DAYLIGHT
TZOFFSETFROM:+0200
TZOFFSETTO:+0300
TZNAME:EEST
DTSTART:20240331T010000
END:DAYLIGHT
BEGIN:STANDARD
TZOFFSETFROM:+0300
TZOFFSETTO:+0200
TZNAME:EET
DTSTART:20241027T010000
END:STANDARD
BEGIN:DAYLIGHT
TZOFFSETFROM:+0200
TZOFFSETTO:+0300
TZNAME:EEST
DTSTART:20250330T010000
END:DAYLIGHT
BEGIN:STANDARD
TZOFFSETFROM:+0300
TZOFFSETTO:+0200
TZNAME:EET
DTSTART:20251026T010000
END:STANDARD
END:VTIMEZONE
BEGIN:VEVENT
DTSTART;TZID=Europe/Helsinki:20250320T120000
DTEND;TZID=Europe/Helsinki:20250320T140000
DTSTAMP:20260420T194935
CREATED:20241212T061513Z
LAST-MODIFIED:20241212T061513Z
UID:31034-1742472000-1742479200@www.hirvensalmi.fi
SUMMARY:Kurssipäivä Puulan Manuellissa
DESCRIPTION:Askarrellaan pääsiäiskoristeita.
URL:https://www.hirvensalmi.fi/tapahtuma/kurssipaiva-puulan-manuellissa/
LOCATION:Junnankuja 25 Hirvensalmi
ORGANIZER;CN="Hirvensalmen k%C3%A4sity%C3%B6yhdistys ry":MAILTO:posti@puulanmanuelli.fi
END:VEVENT
BEGIN:VEVENT
DTSTART;TZID=Europe/Helsinki:20250317T150000
DTEND;TZID=Europe/Helsinki:20250317T160000
DTSTAMP:20260420T194935
CREATED:20250221T085446Z
LAST-MODIFIED:20250221T085446Z
UID:31938-1742223600-1742227200@www.hirvensalmi.fi
SUMMARY:Nuorten avoin kuntosalivuoro
DESCRIPTION:Nuorten avoimia kuntosalivuoroja järjestetään kevätkaudella 2025. Kuntosalilla luvassa on opastusta kuntosaliharjoittelun aloittamiseen\, laitteiden käyttöön ja turvalliseen harjoitteluun. Vuoro on tarkoitettu 14-29v. nuorille. Tervetuloa!
URL:https://www.hirvensalmi.fi/tapahtuma/nuorten-avoin-kuntosalivuoro-5/
LOCATION:Koulukeskuksen kuntosali\, Koulutie 5\, Hirvensalmi\, 52550\, Suomi
END:VEVENT
BEGIN:VEVENT
DTSTART;TZID=Europe/Helsinki:20250317T130000
DTEND;TZID=Europe/Helsinki:20250317T143000
DTSTAMP:20260420T194935
CREATED:20250313T051548Z
LAST-MODIFIED:20250313T051555Z
UID:32165-1742216400-1742221800@www.hirvensalmi.fi
SUMMARY:Omais- ja läheishoitajien vertaistukiryhmä Hirvensalmella
DESCRIPTION:Vertaistukiryhmä kaikille omaistaan ja läheistään hoitaville Hirvensalmella. \nVertaistukiryhmässä voit jakaa kokemuksia luottamuksellisessa ja ymmärtävässä ilmapiirissä toisten läheis- ja omaishoitajien kanssa. Arjen vinkit\, ilot ja surut on helpompi kertoa\, kun vertainen ymmärtää\, mistä on kyse. Ryhmää ohjaa ammattilainen tuoden jokaiselle ryhmäkerralle tietoa\, tehtäviä\, pohdittavaa tai vaikkapa vierailijan. \nSinun ei tarvitse olla sopimusomaishoitaja tai yhdistyksen jäsen\, huoli ja hoivavastuu läheisestä tai omaisesta riittää. \nRyhmä toteutetaan yhteistyössä Etelä-Savon Muistiluotsin kanssa. \nRyhmä kokoontuu kerran kuussa maanantaisin klo 13-14.30:\n20.1. MsOL: Eloisan palveluohjaaja Anne Hiljanen\n17.2. Muisti\n17.3. MsOL: Sirpa-Helena Pesonen\, vanhus- ja vammaisneuvosto\n14.4. Muisti\n19.5. yhdessä \nLämpimästi tervetuloa!
URL:https://www.hirvensalmi.fi/tapahtuma/omais-ja-laheishoitajien-vertaistukiryhma-hirvensalmella/
LOCATION:Seuratalo\, Pitäjäntie 9\, Hirvensalmi\, 52550
ATTACH;FMTTYPE=image/png:https://www.hirvensalmi.fi/wp-content/uploads/2025/03/Hirvensalmi-kevat-2025-Instagram-postaus.png
END:VEVENT
BEGIN:VEVENT
DTSTART;TZID=Europe/Helsinki:20250311T100000
DTEND;TZID=Europe/Helsinki:20250311T113000
DTSTAMP:20260420T194935
CREATED:20250211T063504Z
LAST-MODIFIED:20250211T063509Z
UID:31775-1741687200-1741692600@www.hirvensalmi.fi
SUMMARY:Liikkuva mieli ja uni - yleisöluento
DESCRIPTION:Miten liikunnalla\, mielenhyvinvoinnilla ja riittävällä levolla voi tukea muistia ja edistää aivoterveyttä?\nluennoitsijana Hanne Pyrhönen\nLuento on kaikille avoin.
URL:https://www.hirvensalmi.fi/tapahtuma/liikkuva-mieli-ja-uni-yleisoluento/
LOCATION:Hirvensalmen kunnanvirasto valtuustosali
ATTACH;FMTTYPE=image/jpeg:https://www.hirvensalmi.fi/wp-content/uploads/2025/02/Aivoviikko-2025-luento.jpg
ORGANIZER;CN="Mikkelin seudun Muisti ry":MAILTO:riitta.halonen@msmuisti.fi
END:VEVENT
BEGIN:VEVENT
DTSTART;TZID=Europe/Helsinki:20250310T160000
DTEND;TZID=Europe/Helsinki:20250310T180000
DTSTAMP:20260420T194935
CREATED:20250212T050548Z
LAST-MODIFIED:20250212T050552Z
UID:31785-1741622400-1741629600@www.hirvensalmi.fi
SUMMARY:Kirkonkylän Martat ry: kevätkokous 10.3.2025
DESCRIPTION:Kirkonkylän marttojen kevätkokous on maanantaina 10.3.2025 klo 16.00 Seurantalossa.\nPääasiana viime vuoden tilinpäätös ja toimintakertomus.\nKahvitarjoilu. Tervetuloa!
URL:https://www.hirvensalmi.fi/tapahtuma/kirkonkylan-martat-ry-kevatkokous-10-3-2025/
LOCATION:Hirvensalmen Seuratalo\, Pitäjäntie 7\, Hirvensalmi\, 52550
END:VEVENT
BEGIN:VEVENT
DTSTART;TZID=Europe/Helsinki:20250310T150000
DTEND;TZID=Europe/Helsinki:20250310T160000
DTSTAMP:20260420T194935
CREATED:20250221T085626Z
LAST-MODIFIED:20250221T085626Z
UID:31940-1741618800-1741622400@www.hirvensalmi.fi
SUMMARY:Avoin kuntosalivuoro
DESCRIPTION:Kuntalaisille avoimet aikuisten ohjatut kuntosalivuorot jatkuvat kevätkaudella 2025. Kuntosalilla luvassa on opastusta kuntosaliharjoittelun aloittamiseen\, laitteiden käyttöön ja turvalliseen harjoitteluun. Tervetuloa!
URL:https://www.hirvensalmi.fi/tapahtuma/avoin-kuntosalivuoro-28/
LOCATION:Koulukeskuksen kuntosali\, Koulutie 5\, Hirvensalmi\, 52550\, Suomi
END:VEVENT
BEGIN:VEVENT
DTSTART;TZID=Europe/Helsinki:20250308T120000
DTEND;TZID=Europe/Helsinki:20250308T150000
DTSTAMP:20260420T194935
CREATED:20250124T051316Z
LAST-MODIFIED:20250124T051322Z
UID:31616-1741435200-1741446000@www.hirvensalmi.fi
SUMMARY:Niverän koko perheen talvitapahtuma
DESCRIPTION:Tervetuloa lauantaina 8.3. klo 12.00-15.00 koko perheen talvitapahtumaan.
URL:https://www.hirvensalmi.fi/tapahtuma/niveran-koko-perheen-talvitapahtuma/
ATTACH;FMTTYPE=image/jpeg:https://www.hirvensalmi.fi/wp-content/uploads/2025/01/IMG-20250123-WA0010.jpg
END:VEVENT
BEGIN:VEVENT
DTSTART;TZID=Europe/Helsinki:20250304T110000
DTEND;TZID=Europe/Helsinki:20250304T150000
DTSTAMP:20260420T194935
CREATED:20250303T061608Z
LAST-MODIFIED:20250303T061616Z
UID:31993-1741086000-1741100400@www.hirvensalmi.fi
SUMMARY:Talvitapahtuma!
DESCRIPTION:Talvitapahtuma laskiaistiistaina 4.3.25 Hirvensalmen Seuratalossa klo 11-15. Tanssia klo 12-15\, soittaa Pepe Niilahti.\nLiput 15 € sisältää tarjoilun\, hernekeiton ja kahvin sekä laskiaispullan.\nTervetuloa!
URL:https://www.hirvensalmi.fi/tapahtuma/talvitapahtuma-5/
LOCATION:Seurantalo\, kirkonkylä\, Kirkonkylä\, Hirvensalmi
END:VEVENT
BEGIN:VEVENT
DTSTART;TZID=Europe/Helsinki:20250303T150000
DTEND;TZID=Europe/Helsinki:20250303T160000
DTSTAMP:20260420T194935
CREATED:20250221T085346Z
LAST-MODIFIED:20250221T085346Z
UID:31936-1741014000-1741017600@www.hirvensalmi.fi
SUMMARY:Nuorten avoin kuntosalivuoro
DESCRIPTION:Nuorten avoimia kuntosalivuoroja järjestetään kevätkaudella 2025. Kuntosalilla luvassa on opastusta kuntosaliharjoittelun aloittamiseen\, laitteiden käyttöön ja turvalliseen harjoitteluun. Vuoro on tarkoitettu 14-29v. nuorille. Tervetuloa!
URL:https://www.hirvensalmi.fi/tapahtuma/nuorten-avoin-kuntosalivuoro-4/
LOCATION:Koulukeskuksen kuntosali\, Koulutie 5\, Hirvensalmi\, 52550\, Suomi
END:VEVENT
BEGIN:VEVENT
DTSTART;TZID=Europe/Helsinki:20250301T130000
DTEND;TZID=Europe/Helsinki:20250301T140000
DTSTAMP:20260420T194935
CREATED:20250102T052529Z
LAST-MODIFIED:20250102T052535Z
UID:31294-1740834000-1740837600@www.hirvensalmi.fi
SUMMARY:Koirien kynsienleikkuupäivä
DESCRIPTION:Kynsienleikkuupäivä koittaa jälleen\, jolloin pääset tuomaan lemmikkisi kynsienleikkuuseen ilman ajanvarausta! \n• Kynsienleikkuu 12€/koira\n• Tassuhuolto 25€/koira\n(Tassuhuolto sisältää kynsien leikkauksen\, tassukarvojen siistimisen päältä ja anturoiden väleistä\, sekä halutessa tassujen vahauksen) \nTervetuloa kynsienleikkuuseen lauantaina 1.3. klo 13-14! Lemmikit hoidetaan saapumisjärjestyksessä yksi kerrallaan\, joten odotathan vuoroasi trimmaamon oven ulkopuolella. \nKynsienleikkuuseen ovat koirien lisäksi tervetulleita muutkin pieneläimet\, kuten kissat ja kanit. Huomioithan kuitenkin\, että paikalla voi olla muitakin eläimiä.\nOsoite: Koulutie 8 A 6\, Hirvensalmi
URL:https://www.hirvensalmi.fi/tapahtuma/koirien-kynsienleikkuupaiva-12/
LOCATION:Trimmaamo Koiruus\, Koulutie 8 A 6\, Hirvensalmi\, 52550
ATTACH;FMTTYPE=image/png:https://www.hirvensalmi.fi/wp-content/uploads/2024/12/kynsienleikkuupäivä-2-2.png
END:VEVENT
BEGIN:VEVENT
DTSTART;TZID=Europe/Helsinki:20250301T120000
DTEND;TZID=Europe/Helsinki:20250301T150000
DTSTAMP:20260420T194935
CREATED:20250214T050648Z
LAST-MODIFIED:20250214T050655Z
UID:31824-1740830400-1740841200@www.hirvensalmi.fi
SUMMARY:Talvitapahtuma Tuukkalassa
DESCRIPTION:Tervetuloa ulkoilemaan ja osallistumaan moniin aktiviteetteihin! Tarjolla lapsille poni- ja koiravaljakkokyyditystä\, lisäksi napakelkka\, mahdollisuus osallistua 3-otteluun yksilö- tai joukkuesuorituksena; laserammuntaa/ Kuitulan Erä\, rakovalkea\, grillimakkaraa\, pannukahvia\, tikkupullaa/Pyörnilän Martat.
URL:https://www.hirvensalmi.fi/tapahtuma/talvitapahtuma-tuukkalassa/
LOCATION:Tuukkalan kylätalo\, Joutsantie 1212\, 52610 Tuukkala
ATTACH;FMTTYPE=image/jpeg:https://www.hirvensalmi.fi/wp-content/uploads/2025/02/talvitapahtuma.jpg
END:VEVENT
BEGIN:VEVENT
DTSTART;TZID=Europe/Helsinki:20250227T120000
DTEND;TZID=Europe/Helsinki:20250227T140000
DTSTAMP:20260420T194935
CREATED:20241212T061538Z
LAST-MODIFIED:20241212T061538Z
UID:31032-1740657600-1740664800@www.hirvensalmi.fi
SUMMARY:Tehdään yhdessä käsitöitä Puulan Manuellissa
DESCRIPTION:Tehdään yhdessä käsitöitä.
URL:https://www.hirvensalmi.fi/tapahtuma/tehdaan-yhdessa-kasitoita-puulan-manuellissa-13/
LOCATION:Junnankuja 25 Hirvensalmi
ORGANIZER;CN="Hirvensalmen k%C3%A4sity%C3%B6yhdistys ry":MAILTO:posti@puulanmanuelli.fi
END:VEVENT
BEGIN:VEVENT
DTSTART;TZID=Europe/Helsinki:20250226T100000
DTEND;TZID=Europe/Helsinki:20250226T160000
DTSTAMP:20260420T194935
CREATED:20250120T094034Z
LAST-MODIFIED:20250120T100245Z
UID:31570-1740564000-1740585600@www.hirvensalmi.fi
SUMMARY:Pop-up kahvila
DESCRIPTION:Hiihtolomaviikon Pop-up hiihtokahvila! Tarjolla lämmintä juomaa ja suolaista ja makeaa herkkua!
URL:https://www.hirvensalmi.fi/tapahtuma/pop-up-kahvila-2/
LOCATION:Studio Martta\, Herkkutie 18\, Hirvensalmi\, 52550\, Suomi
ATTACH;FMTTYPE=image/jpeg:https://www.hirvensalmi.fi/wp-content/uploads/2025/01/Nayttokuva-2024-02-15-211617-1.jpeg
ORGANIZER;CN="Studio Martta":MAILTO:satu@studiomartta.fi
END:VEVENT
BEGIN:VEVENT
DTSTART;TZID=Europe/Helsinki:20250224T150000
DTEND;TZID=Europe/Helsinki:20250224T160000
DTSTAMP:20260420T194935
CREATED:20250108T082350Z
LAST-MODIFIED:20250108T082350Z
UID:31438-1740409200-1740412800@www.hirvensalmi.fi
SUMMARY:Avoin kuntosalivuoro
DESCRIPTION:Kuntalaisille avoimet aikuisten ohjatut kuntosalivuorot jatkuvat kevätkaudella 2025. Kuntosalilla luvassa on opastusta kuntosaliharjoittelun aloittamiseen\, laitteiden käyttöön ja turvalliseen harjoitteluun. Tervetuloa!
URL:https://www.hirvensalmi.fi/tapahtuma/avoin-kuntosalivuoro-27/
LOCATION:Koulukeskuksen kuntosali\, Koulutie 5\, Hirvensalmi\, 52550\, Suomi
END:VEVENT
BEGIN:VEVENT
DTSTART;TZID=Europe/Helsinki:20250221T190000
DTEND;TZID=Europe/Helsinki:20250221T220000
DTSTAMP:20260420T194935
CREATED:20250130T124044Z
LAST-MODIFIED:20250130T124048Z
UID:31690-1740164400-1740175200@www.hirvensalmi.fi
SUMMARY:Karaoke-lauluilta Tuukkalan Kylätalolla
DESCRIPTION:Tervetuloa laulamaan yhdessä ja erikseen Tuukkalan kylätalolle\, Joutsantie 1212\, 52610 Tuukkala\nperjantaina 21.2.2025 klo 19-22\n(Jäsenet maksutta\, muut 5 € )\nKahvipuffet!\nLämpimästi tervetuloa!
URL:https://www.hirvensalmi.fi/tapahtuma/karaoke-lauluilta-tuukkalan-kylatalolla/
ATTACH;FMTTYPE=image/png:https://www.hirvensalmi.fi/wp-content/uploads/2025/01/Karaokeilmoitus.png
END:VEVENT
BEGIN:VEVENT
DTSTART;TZID=Europe/Helsinki:20250221T100000
DTEND;TZID=Europe/Helsinki:20250221T150000
DTSTAMP:20260420T194935
CREATED:20250120T094022Z
LAST-MODIFIED:20250120T094022Z
UID:31567-1740132000-1740150000@www.hirvensalmi.fi
SUMMARY:Pop-up kahvila
DESCRIPTION:Pop-up hiihtokahvila! Tarjolla lämmintä juomaa ja suolaista ja makeaa herkkua!
URL:https://www.hirvensalmi.fi/tapahtuma/pop-up-kahvila/
LOCATION:Studio Martta\, Herkkutie 18\, Hirvensalmi\, Etelä-Savo\, 52550\, Suomi
ATTACH;FMTTYPE=image/jpeg:https://www.hirvensalmi.fi/wp-content/uploads/2025/01/Nayttokuva-2024-02-15-211617.jpeg
ORGANIZER;CN="Studio Martta":MAILTO:satu@studiomartta.fi
END:VEVENT
BEGIN:VEVENT
DTSTART;TZID=Europe/Helsinki:20250220T120000
DTEND;TZID=Europe/Helsinki:20250220T140000
DTSTAMP:20260420T194935
CREATED:20241212T061617Z
LAST-MODIFIED:20241212T061617Z
UID:31030-1740052800-1740060000@www.hirvensalmi.fi
SUMMARY:Nauhapirralla pirtanauhaa kurssi
DESCRIPTION:Kurssilla opettelemme kutomaan pirtanauhaa.
URL:https://www.hirvensalmi.fi/tapahtuma/nauhapirralla-pirtanauhaa-kurssi/
LOCATION:Junnankuja 25 Hirvensalmi
ORGANIZER;CN="Hirvensalmen k%C3%A4sity%C3%B6yhdistys ry":MAILTO:posti@puulanmanuelli.fi
END:VEVENT
BEGIN:VEVENT
DTSTART;TZID=Europe/Helsinki:20250217T150000
DTEND;TZID=Europe/Helsinki:20250217T160000
DTSTAMP:20260420T194935
CREATED:20250108T083427Z
LAST-MODIFIED:20250108T083427Z
UID:31444-1739804400-1739808000@www.hirvensalmi.fi
SUMMARY:Nuorten avoin kuntosalivuoro
DESCRIPTION:Nuorten avoimia kuntosalivuoroja järjestetään kevätkaudella 2025. Kuntosalilla luvassa on opastusta kuntosaliharjoittelun aloittamiseen\, laitteiden käyttöön ja turvalliseen harjoitteluun. Vuoro on tarkoitettu 14-29v. nuorille. Tervetuloa!
URL:https://www.hirvensalmi.fi/tapahtuma/nuorten-avoin-kuntosalivuoro-3/
LOCATION:Koulukeskuksen kuntosali\, Koulutie 5\, Hirvensalmi\, 52550\, Suomi
END:VEVENT
BEGIN:VEVENT
DTSTART;TZID=Europe/Helsinki:20250216T100000
DTEND;TZID=Europe/Helsinki:20250216T130000
DTSTAMP:20260420T194935
CREATED:20250203T071647Z
LAST-MODIFIED:20250203T071713Z
UID:31715-1739700000-1739710800@www.hirvensalmi.fi
SUMMARY:Koko perheen TALVITEMPAUS su 16.2.25 klo 10-13 kirkonmäellä/ srk-kodissa.
DESCRIPTION:Monenlaista koko perheelle sopivaa ohjelmaa\, ruokailua\, arpajaiset. Kaikki tuotto lapsille ja nuorille yhteisvastuukeräyksen kautta.
URL:https://www.hirvensalmi.fi/tapahtuma/koko-perheen-talvitempaus-su-16-2-25-klo-10-13-kirkonmaella-srk-kodissa/
END:VEVENT
BEGIN:VEVENT
DTSTART;TZID=Europe/Helsinki:20250213T110000
DTEND;TZID=Europe/Helsinki:20250213T160000
DTSTAMP:20260420T194935
CREATED:20241212T061553Z
LAST-MODIFIED:20241212T061559Z
UID:31028-1739444400-1739462400@www.hirvensalmi.fi
SUMMARY:Ystävänpäivän etkot Puulan Manuellissa
DESCRIPTION:Tule yksin tai yhdessä ystävän kanssa askartelemaan pieniä sydämiä ystävänpäivään.
URL:https://www.hirvensalmi.fi/tapahtuma/ystavanpaivan-etkot-puulan-manuellissa/
LOCATION:Junnankuja 25 Hirvensalmi
ORGANIZER;CN="Hirvensalmen k%C3%A4sity%C3%B6yhdistys ry":MAILTO:posti@puulanmanuelli.fi
END:VEVENT
BEGIN:VEVENT
DTSTART;TZID=Europe/Helsinki:20250210T150000
DTEND;TZID=Europe/Helsinki:20250210T160000
DTSTAMP:20260420T194935
CREATED:20250108T082220Z
LAST-MODIFIED:20250108T082220Z
UID:31436-1739199600-1739203200@www.hirvensalmi.fi
SUMMARY:Avoin kuntosalivuoro
DESCRIPTION:Kuntalaisille avoimet aikuisten ohjatut kuntosalivuorot jatkuvat kevätkaudella 2025. Kuntosalilla luvassa on opastusta kuntosaliharjoittelun aloittamiseen\, laitteiden käyttöön ja turvalliseen harjoitteluun. Tervetuloa!
URL:https://www.hirvensalmi.fi/tapahtuma/avoin-kuntosalivuoro-26/
LOCATION:Koulukeskuksen kuntosali\, Koulutie 5\, Hirvensalmi\, 52550\, Suomi
END:VEVENT
BEGIN:VEVENT
DTSTART;TZID=Europe/Helsinki:20250203T150000
DTEND;TZID=Europe/Helsinki:20250203T160000
DTSTAMP:20260420T194935
CREATED:20250108T083326Z
LAST-MODIFIED:20250108T083326Z
UID:31442-1738594800-1738598400@www.hirvensalmi.fi
SUMMARY:Nuorten avoin kuntosalivuoro
DESCRIPTION:Nuorten avoimia kuntosalivuoroja järjestetään kevätkaudella 2025. Kuntosalilla luvassa on opastusta kuntosaliharjoittelun aloittamiseen\, laitteiden käyttöön ja turvalliseen harjoitteluun. Vuoro on tarkoitettu 14-29v. nuorille. Tervetuloa!
URL:https://www.hirvensalmi.fi/tapahtuma/nuorten-avoin-kuntosalivuoro-2/
LOCATION:Koulukeskuksen kuntosali\, Koulutie 5\, Hirvensalmi\, 52550\, Suomi
END:VEVENT
BEGIN:VEVENT
DTSTART;TZID=Europe/Helsinki:20250201T130000
DTEND;TZID=Europe/Helsinki:20250201T140000
DTSTAMP:20260420T194935
CREATED:20250102T052550Z
LAST-MODIFIED:20250102T052555Z
UID:31291-1738414800-1738418400@www.hirvensalmi.fi
SUMMARY:Koirien kynsienleikkuupäivä
DESCRIPTION:Kynsienleikkuupäivä koittaa jälleen\, jolloin pääset tuomaan lemmikkisi kynsienleikkuuseen ilman ajanvarausta! \n• Kynsienleikkuu 12€/koira\n• Tassuhuolto 25€/koira\n(Tassuhuolto sisältää kynsien leikkauksen\, tassukarvojen siistimisen päältä ja anturoiden väleistä\, sekä halutessa tassujen vahauksen) \nTervetuloa kynsienleikkuuseen lauantaina 1.2. klo 13-14! Lemmikit hoidetaan saapumisjärjestyksessä yksi kerrallaan\, joten odotathan vuoroasi trimmaamon oven ulkopuolella. \nKynsienleikkuuseen ovat koirien lisäksi tervetulleita muutkin pieneläimet\, kuten kissat ja kanit. Huomioithan kuitenkin\, että paikalla voi olla muitakin eläimiä.\nOsoite: Koulutie 8 A 6\, Hirvensalmi
URL:https://www.hirvensalmi.fi/tapahtuma/koirien-kynsienleikkuupaiva-13/
LOCATION:Trimmaamo Koiruus\, Koulutie 8 A 6\, Hirvensalmi\, 52550
ATTACH;FMTTYPE=image/png:https://www.hirvensalmi.fi/wp-content/uploads/2024/12/kynsienleikkuupäivä-2-1.png
END:VEVENT
BEGIN:VEVENT
DTSTART;TZID=Europe/Helsinki:20250130T120000
DTEND;TZID=Europe/Helsinki:20250130T140000
DTSTAMP:20260420T194935
CREATED:20241212T061639Z
LAST-MODIFIED:20241212T061646Z
UID:31026-1738238400-1738245600@www.hirvensalmi.fi
SUMMARY:Tehdään yhdessä käsitöitä Puulan Manuellissa
DESCRIPTION:Kaikki tervetulleita vuoden 2025 ensimmäiseen tehdään yhdessä käsitöitä päivien suunnittelupäivään.
URL:https://www.hirvensalmi.fi/tapahtuma/tehdaan-yhdessa-kasitoita-puulan-manuellissa-14/
LOCATION:Junnankuja 25 Hirvensalmi
ORGANIZER;CN="Hirvensalmen k%C3%A4sity%C3%B6yhdistys ry":MAILTO:posti@puulanmanuelli.fi
END:VEVENT
BEGIN:VEVENT
DTSTART;TZID=Europe/Helsinki:20250127T143000
DTEND;TZID=Europe/Helsinki:20250127T153000
DTSTAMP:20260420T194935
CREATED:20250108T082026Z
LAST-MODIFIED:20250122T125700Z
UID:31434-1737988200-1737991800@www.hirvensalmi.fi
SUMMARY:Avoin kuntosalivuoro
DESCRIPTION:Huom! 27.1. poikkeuksellisesti klo 14:30-15:30 \nKuntalaisille avoimet aikuisten ohjatut kuntosalivuorot jatkuvat kevätkaudella 2025. Kuntosalilla luvassa on opastusta kuntosaliharjoittelun aloittamiseen\, laitteiden käyttöön ja turvalliseen harjoitteluun. Tervetuloa!
URL:https://www.hirvensalmi.fi/tapahtuma/avoin-kuntosalivuoro-25/
LOCATION:Koulukeskuksen kuntosali\, Koulutie 5\, Hirvensalmi\, 52550\, Suomi
END:VEVENT
BEGIN:VEVENT
DTSTART;TZID=Europe/Helsinki:20250120T150000
DTEND;TZID=Europe/Helsinki:20250120T160000
DTSTAMP:20260420T194935
CREATED:20250108T083220Z
LAST-MODIFIED:20250108T083220Z
UID:31440-1737385200-1737388800@www.hirvensalmi.fi
SUMMARY:Nuorten avoin kuntosalivuoro
DESCRIPTION:Nuorten avoimia kuntosalivuoroja järjestetään kevätkaudella 2025. Kuntosalilla luvassa on opastusta kuntosaliharjoittelun aloittamiseen\, laitteiden käyttöön ja turvalliseen harjoitteluun. Vuoro on tarkoitettu 14-29v. nuorille. Tervetuloa!
URL:https://www.hirvensalmi.fi/tapahtuma/nuorten-avoin-kuntosalivuoro/
LOCATION:Koulukeskuksen kuntosali\, Koulutie 5\, Hirvensalmi\, 52550\, Suomi
END:VEVENT
BEGIN:VEVENT
DTSTART;TZID=Europe/Helsinki:20250114T180000
DTEND;TZID=Europe/Helsinki:20250114T203000
DTSTAMP:20260420T194935
CREATED:20250103T102336Z
LAST-MODIFIED:20250103T102336Z
UID:31385-1736877600-1736886600@www.hirvensalmi.fi
SUMMARY:Kodin tärkeät asiakirjat kuntoon
DESCRIPTION:Kuinka tärkeitä asiakirjoja laaditaan ja hallitaan? Tervetuloa kuulemaan mm. edunvalvontavaltuutuksesta\, testamentista\, lahjakirjasta ja hoitotahdosta. Illan esitelmöitsijöinä Riitta Savikurki ProAgria Etelä-Savo ja Anne Vainio\, hoitoalan ammattilainen. Kahvi/teetarjoilu. Jäsenille ilmainen\, muut 10 euroa/ henkilö. Järjestäjänä Hirvensalmen maa- ja kotitalousseura/ -naiset
URL:https://www.hirvensalmi.fi/tapahtuma/kodin-tarkeat-asiakirjat-kuntoon/
LOCATION:Hirvensalmen kunnanvirasto valtuustosali
ATTACH;FMTTYPE=image/jpeg:https://www.hirvensalmi.fi/wp-content/uploads/2025/01/stock-vector-blank-document-flat-four-color-minimal-icon-set.jpg
END:VEVENT
BEGIN:VEVENT
DTSTART;TZID=Europe/Helsinki:20250113T150000
DTEND;TZID=Europe/Helsinki:20250113T160000
DTSTAMP:20260420T194935
CREATED:20250108T081900Z
LAST-MODIFIED:20250108T081900Z
UID:31432-1736780400-1736784000@www.hirvensalmi.fi
SUMMARY:Avoin kuntosalivuoro
DESCRIPTION:Kuntalaisille avoimet aikuisten ohjatut kuntosalivuorot jatkuvat kevätkaudella 2025. Kuntosalilla luvassa on opastusta kuntosaliharjoittelun aloittamiseen\, laitteiden käyttöön ja turvalliseen harjoitteluun. Tervetuloa!
URL:https://www.hirvensalmi.fi/tapahtuma/avoin-kuntosalivuoro-24/
LOCATION:Koulukeskuksen kuntosali\, Koulutie 5\, Hirvensalmi\, 52550\, Suomi
END:VEVENT
BEGIN:VEVENT
DTSTART;TZID=Europe/Helsinki:20250104T130000
DTEND;TZID=Europe/Helsinki:20250104T140000
DTSTAMP:20260420T194935
CREATED:20250102T052613Z
LAST-MODIFIED:20250102T052618Z
UID:31288-1735995600-1735999200@www.hirvensalmi.fi
SUMMARY:Koirien kynsienleikkuupäivä
DESCRIPTION:Kynsienleikkuupäivä koittaa jälleen\, jolloin pääset tuomaan lemmikkisi kynsienleikkuuseen ilman ajanvarausta! \n• Kynsienleikkuu 12€/koira\n• Tassuhuolto 25€/koira\n(Tassuhuolto sisältää kynsien leikkauksen\, tassukarvojen siistimisen päältä ja anturoiden väleistä\, sekä halutessa tassujen vahauksen) \nTervetuloa kynsienleikkuuseen lauantaina 4.1. klo 13-14! Lemmikit hoidetaan saapumisjärjestyksessä yksi kerrallaan\, joten odotathan vuoroasi trimmaamon oven ulkopuolella. \nKynsienleikkuuseen ovat koirien lisäksi tervetulleita muutkin pieneläimet\, kuten kissat ja kanit. Huomioithan kuitenkin\, että paikalla voi olla muitakin eläimiä.\nOsoite: Koulutie 8 A 6\, Hirvensalmi
URL:https://www.hirvensalmi.fi/tapahtuma/koirien-kynsienleikkuupaiva-14/
LOCATION:Trimmaamo Koiruus\, Koulutie 8 A 6\, Hirvensalmi\, 52550
ATTACH;FMTTYPE=image/png:https://www.hirvensalmi.fi/wp-content/uploads/2024/12/kynsienleikkuupäivä-2.png
END:VEVENT
BEGIN:VEVENT
DTSTART;TZID=Europe/Helsinki:20241214T150000
DTEND;TZID=Europe/Helsinki:20241214T150000
DTSTAMP:20260420T194935
CREATED:20241125T051036Z
LAST-MODIFIED:20241125T051036Z
UID:30796-1734188400-1734188400@www.hirvensalmi.fi
SUMMARY:Joulun taikaa-konsertti:  Tiina Pitkänen & Virpi Piippo\, piano Pekka Virtanen
DESCRIPTION:Valloittavat artistit\, Tiina sekä Virpi\, tulevat Hirvensalmen kirkkoon “Joulun taikaa” konsertillaan\, mukana pianotaituri Pekka Virtanen. \nKonsertin sisäänpääsymaksu:\nAikuinen 15€ | Eläkeläiset ja alle 16v. 10€ | Alle 10v. ilmaiseksi.
URL:https://www.hirvensalmi.fi/tapahtuma/joulun-taikaa-konsertti-tiina-pitkanen-virpi-piippo-piano-pekka-virtanen/
LOCATION:Hirvensalmen kirkko\, Kirkkotie 3
ATTACH;FMTTYPE=image/jpeg:https://www.hirvensalmi.fi/wp-content/uploads/2024/11/Joulun-taikaa-Pitkanen-Piippo-24.jpg
END:VEVENT
END:VCALENDAR