BEGIN:VCALENDAR
VERSION:2.0
PRODID:-//Hirvensalmi - ECPv6.6.4.2//NONSGML v1.0//EN
CALSCALE:GREGORIAN
METHOD:PUBLISH
X-WR-CALNAME:Hirvensalmi
X-ORIGINAL-URL:https://www.hirvensalmi.fi
X-WR-CALDESC:Tapahtumat Hirvensalmi
REFRESH-INTERVAL;VALUE=DURATION:PT1H
X-Robots-Tag:noindex
X-PUBLISHED-TTL:PT1H
BEGIN:VTIMEZONE
TZID:Europe/Helsinki
BEGIN:DAYLIGHT
TZOFFSETFROM:+0200
TZOFFSETTO:+0300
TZNAME:EEST
DTSTART:20240331T010000
END:DAYLIGHT
BEGIN:STANDARD
TZOFFSETFROM:+0300
TZOFFSETTO:+0200
TZNAME:EET
DTSTART:20241027T010000
END:STANDARD
END:VTIMEZONE
BEGIN:VEVENT
DTSTART;TZID=Europe/Helsinki:20240707T140000
DTEND;TZID=Europe/Helsinki:20240707T170000
DTSTAMP:20260426T041624
CREATED:20240617T050128Z
LAST-MODIFIED:20240617T050133Z
UID:29094-1720360800-1720371600@www.hirvensalmi.fi
SUMMARY:Maalaisunelmia – näytelmä/Ensi-ilta
DESCRIPTION:Hersyvällä huumorilla maustettu maalaiskomedia ”Maalaisunelmia” on näytelmä tavallisten ihmisten arjen tapahtumista\, pienistä ja suurista unelmista maaseutukylässä. \nKeskiössä on nuori kaupunkilaispari\, joka muuttaa pois kaupungin oravanpyörästä maalle luomuyrittäjiksi.
URL:https://www.hirvensalmi.fi/tapahtuma/maalaisunelmia-naytelma-ensi-ilta/
LOCATION:Hirvensalmen Seuratalo\, Pitäjäntie 7\, Hirvensalmi\, 52550
ATTACH;FMTTYPE=image/png:https://www.hirvensalmi.fi/wp-content/uploads/2024/06/Kakkara_Nlippu_l.png
END:VEVENT
BEGIN:VEVENT
DTSTART;TZID=Europe/Helsinki:20240714T140000
DTEND;TZID=Europe/Helsinki:20240714T170000
DTSTAMP:20260426T041624
CREATED:20240708T100911Z
LAST-MODIFIED:20240708T100911Z
UID:29457-1720965600-1720976400@www.hirvensalmi.fi
SUMMARY:Maalaisunelmia - näytelmä
DESCRIPTION:Tuukkalan Tempauksen teatteriryhmä esittää maalaishupailun Maalaisunelmia.
URL:https://www.hirvensalmi.fi/tapahtuma/maalaisunelmia-naytelma/
LOCATION:Seuratalo\, Pitäjäntie 9\, Hirvensalmi\, 52550
ATTACH;FMTTYPE=image/jpeg:https://www.hirvensalmi.fi/wp-content/uploads/2024/07/Enskakuva.jpg
END:VEVENT
BEGIN:VEVENT
DTSTART;TZID=Europe/Helsinki:20240724T180000
DTEND;TZID=Europe/Helsinki:20240724T210000
DTSTAMP:20260426T041624
CREATED:20240708T101701Z
LAST-MODIFIED:20240708T101701Z
UID:29460-1721844000-1721854800@www.hirvensalmi.fi
SUMMARY:Maalaisunelmia - näytelmä
DESCRIPTION:Tuukkalan Tempauksen teatteriryhmä esittää maalaishupailun Maalaisunelmia. \nLiput ennakkoon Nettilippu.fi aikuiset 20 €\, lapset 7-15 v. 10 €\, lippujen myynti ennakkoon päättyy tuntia ennen esitystä.\nLiput ovelta 22 € ja 12 €\, lippujen myynti alkaa tuntia ennen näytöstä. \nLiput sisältävät väliaikatarjoilun.\nTervetuloa!
URL:https://www.hirvensalmi.fi/tapahtuma/maalaisunelmia-naytelma-2/
LOCATION:Seuratalo\, Pitäjäntie 9\, Hirvensalmi\, 52550
ATTACH;FMTTYPE=image/jpeg:https://www.hirvensalmi.fi/wp-content/uploads/2024/07/Irenejapentti.jpg
END:VEVENT
BEGIN:VEVENT
DTSTART;TZID=Europe/Helsinki:20240731T180000
DTEND;TZID=Europe/Helsinki:20240731T210000
DTSTAMP:20260426T041624
CREATED:20240708T101952Z
LAST-MODIFIED:20240708T101952Z
UID:29463-1722448800-1722459600@www.hirvensalmi.fi
SUMMARY:Maalaisunelmia - näytelmä
DESCRIPTION:Tuukkalan Tempauksen teatteriryhmä esittää maalaishupailun Maalaisunelmia. \nLiput ennakkoon Nettilippu.fi aikuiset 20 €\, lapset 7-15 v. 10 €\, lippujen myynti ennakkoon päättyy tuntia ennen esitystä.\nLiput ovelta 22 € ja 12 €\, lippujen myynti alkaa tuntia ennen näytöstä. \nLipun hinta sisältää väliaikatarjoilun.\nTervetuloa!
URL:https://www.hirvensalmi.fi/tapahtuma/maalaisunelmia-naytelma-3/
LOCATION:Satulinna\, Yrttitie 21\, Hirvensalmi\, 52550
ATTACH;FMTTYPE=image/png:https://www.hirvensalmi.fi/wp-content/uploads/2024/07/Promokuva_uusin.png
END:VEVENT
END:VCALENDAR